PDS_VERSION_ID = PDS3
/* FILE DATA ELEMENTS */
RECORD_TYPE = UNDEFINED
/* POINTERS TO DATA OBJECTS */
^IMAGE = ("HE877_0000_ND4.TIF")
/* IDENTIFICATION DATA ELEMENTS */
DATA_SET_ID = "MEX-M-HRSC-4-REFDR-MAPPROJECT-EXT5-V4.0"
DATA_SET_NAME = "MARS EXPRESS HRSC MAP PROJECTED REFDR EXTENSION5 V4.0"
DETECTOR_ID = MEX_HRSC_NADIR
EVENT_TYPE = "MARS-REGIONAL-MAPPING-Gl-Pf-Eo"
INSTRUMENT_HOST_ID = MEX
INSTRUMENT_HOST_NAME = "MARS EXPRESS"
INSTRUMENT_ID = HRSC
INSTRUMENT_NAME = "HIGH RESOLUTION STEREO CAMERA"
MISSION_NAME = "MARS EXPRESS"
MISSION_PHASE_NAME = ME_Phase_33
PROCESSING_LEVEL_ID = 4
PRODUCT_CREATION_TIME = 2023-01-30T12:57:43.000Z
PRODUCT_ID = "HE877_0000_ND4.TIF"
RELEASE_ID = 0002
REVISION_ID = 0000
/* QUALITY DATA ELEMENTS */
DATA_QUALITY_ID = 1
DATA_QUALITY_DESC = "Data calculated based on original SPICE kernels"
/* TIME DATA ELEMENTS */
SPACECRAFT_CLOCK_START_COUNT = "1/0391222221.07298"
SPACECRAFT_CLOCK_STOP_COUNT = "1/0391222489.20561"
START_TIME = 2015-09-25T00:51:06.427Z
STOP_TIME = 2015-09-25T00:53:51.398Z
/* ORBITAL DATA ELEMENTS */
ASCENDING_NODE_LONGITUDE = 294.33
MAXIMUM_RESOLUTION = 0.0176
FOOTPRINT_POINT_LATITUDE = (-42.7072,-42.6989,-42.6939,-42.6864, -42.6704,-42.6699,-42.6672,-42.3092, -42.0361,-41.6704,-41.3053,-40.7469, -40.3748,-40.0904,-39.9006,-39.7109, -39.5215,-39.2328,-39.0395,-38.8465, -38.6536,-38.3596,-38.1629,-37.9665, -37.6701,-37.4699,-37.27,-37.0704, -36.8686,-36.6651,-36.4619,-36.259, -35.9492,-35.7427,-35.5365,-35.2223, -35.0126,-34.8031,-34.5902,-34.377, -34.1642,-33.841,-33.6248,-33.2991, -33.0794,-32.8603,-32.7508,-32.745, -32.7492,-32.7529,-32.7551,-32.7562, -32.7568,-32.7567,-32.7556,-32.7555, -32.7558,-32.9755,-33.1956,-33.4161, -33.6326,-33.8495,-34.1739,-34.3874, -34.6011,-34.8149,-35.025,-35.2354, -35.5508,-35.7577,-36.0685,-36.2756, -36.4791,-36.6829,-36.8869,-37.0894, -37.2896,-37.4901,-37.6908,-37.8898, -38.0866,-38.2837,-38.481,-38.6772, -38.8706,-39.0642,-39.258,-39.5476, -39.7375,-39.9276,-40.118,-40.4033, -40.9631,-41.3362,-41.7023,-42.069, -42.3429,-42.612,-42.7018,-42.7072)
FOOTPRINT_POINT_LONGITUDE = (53.2435,52.5863,52.2876,51.9098, 51.2527,51.2328,51.1835,51.1935,51.2006 ,51.2097,51.2183,51.2301,51.2365, 51.2415,51.2445,51.2475,51.2502,51.2541 ,51.2566,51.2591,51.2614,51.2641, 51.2658,51.2672,51.2697,51.2711,51.2723 ,51.2733,51.2743,51.2753,51.276,51.2762 ,51.2766,51.2768,51.277,51.2809,51.2814 ,51.2809,51.2812,51.2791,51.279,51.277, 51.2758,51.2734,51.2714,51.2712,51.2704 ,51.2703,51.6118,51.9993,52.3413, 52.5929,52.9596,53.2119,53.5562,53.5793 ,53.5906,53.5856,53.5818,53.5774, 53.5723,53.5672,53.5588,53.5533,53.5483 ,53.5425,53.5372,53.5315,53.5233, 53.5174,53.5093,53.5034,53.4975,53.4917 ,53.4845,53.4799,53.4744,53.4679, 53.4616,53.4555,53.4495,53.4431,53.4371 ,53.4308,53.4245,53.418,53.4104,53.3999 ,53.394,53.3876,53.3801,53.3698,53.35, 53.3371,53.3221,53.3065,53.2964,53.2864 ,53.2828,53.2435)
ORBIT_NUMBER = 14877
ORBITAL_ECCENTRICITY = 0.578
ORBITAL_INCLINATION = 86.92
ORBITAL_SEMIMAJOR_AXIS = 8775.93
PERIAPSIS_ALTITUDE = 327.51
PERIAPSIS_ARGUMENT_ANGLE = 293.97
PERIAPSIS_TIME = 2015-09-25T00:45:07.000Z
SPACECRAFT_ORIENTATION = (0.0,1.0,0.0)
^MEX_ORIENTATION_DESC = "MEX_ORIENTATION_DESC.TXT"
SPACECRAFT_POINTING_MODE = NADIR
^MEX_POINTING_DESC = "MEX_POINTING_DESC.TXT"
RIGHT_ASCENSION = -1e+32
DECLINATION = -1e+32
OFFSET_ANGLE = -1e+32
SPACECRAFT_SOLAR_DISTANCE = 2.4686e+08
TARGET_NAME = MARS
/* CAMERA DATA ELEMENTS */
DETECTOR_TEMPERATURE = 18.1666
FOCAL_PLANE_TEMPERATURE = 6.9521
INST_CMPRS_NAME = "DISCRETE COSINE TRANSFORMATION (DCT)"
INST_CMPRS_RATIO = 6.15478
INST_CMPRS_QUALITY = 0
INST_CMPRS_QUANTZ_TBL_ID = 0
INSTRUMENT_TEMPERATURE = 11.0301
LENS_TEMPERATURE = 7.5638
MACROPIXEL_SIZE = 1
MISSING_FRAMES = 0
PIXEL_SUBSAMPLING_FLAG = N
SIGNAL_CHAIN_ID = 0
/* RADIOMETRIC DATA ELEMENTS */
BANDWIDTH = 177.0
CENTER_FILTER_WAVELENGTH = 677.5
RADIANCE_OFFSET = 2.46016
RADIANCE_SCALING_FACTOR = 0.00945853
REFLECTANCE_SCALING_FACTOR = 0.000306202
MEX:REFLECTANCE_OFFSET = 0.0796431
/* IMAGE OBJECT DEFINITIONS */
OBJECT = IMAGE
  INTERCHANGE_FORMAT = BINARY
  LINES = 47235
  LINE_SAMPLES = 9253
  SAMPLE_TYPE = UNSIGNED_INTEGER
  SAMPLE_BITS = 8
  BANDS = 1
  BAND_STORAGE_TYPE = BAND_SEQUENTIAL
  MAXIMUM = 255
  MEAN = 138.331
  MINIMUM = 1
  STANDARD_DEVIATION = 30.8093
END_OBJECT = IMAGE
/* MAP OBJECT DEFINITIONS */
OBJECT = IMAGE_MAP_PROJECTION
  ^DATA_SET_MAP_PROJECTION_CATALOG= "DSMAP.CAT"
  A_AXIS_RADIUS = 3396.0
  B_AXIS_RADIUS = 3396.0
  C_AXIS_RADIUS = 3396.0
  CENTER_LATITUDE = 0.0
  CENTER_LONGITUDE = 52.0
  COORDINATE_SYSTEM_NAME = PLANETOGRAPHIC
  COORDINATE_SYSTEM_TYPE = "BODY-FIXED ROTATING"
  EASTERNMOST_LONGITUDE = 53.5906
  FIRST_STANDARD_PARALLEL = "N/A"
  LINE_FIRST_PIXEL = 1
  LINE_LAST_PIXEL = 47235
  LINE_PROJECTION_OFFSET = -155269.0
  MAP_PROJECTION_ROTATION = 0.0
  MAP_PROJECTION_TYPE = SINUSOIDAL
  MAP_RESOLUTION = 4741.71043093333
  MAP_SCALE = 0.0125
  MAXIMUM_LATITUDE = -32.745
  MINIMUM_LATITUDE = -42.7072
  POSITIVE_LONGITUDE_DIRECTION = EAST
  REFERENCE_LATITUDE = "N/A"
  REFERENCE_LONGITUDE = "N/A"
  SAMPLE_FIRST_PIXEL = 1
  SAMPLE_LAST_PIXEL = 9253
  SAMPLE_PROJECTION_OFFSET = 2909.0
  SECOND_STANDARD_PARALLEL = "N/A"
  WESTERNMOST_LONGITUDE = 51.1835
END_OBJECT = IMAGE_MAP_PROJECTION
END
