PDS_VERSION_ID = PDS3
/* FILE DATA ELEMENTS */
RECORD_TYPE = UNDEFINED
/* POINTERS TO DATA OBJECTS */
^IMAGE = ("HE831_0000_S24.TIF")
/* IDENTIFICATION DATA ELEMENTS */
DATA_SET_ID = "MEX-M-HRSC-4-REFDR-MAPPROJECT-EXT5-V4.0"
DATA_SET_NAME = "MARS EXPRESS HRSC MAP PROJECTED REFDR EXTENSION5 V4.0"
DETECTOR_ID = MEX_HRSC_S2
EVENT_TYPE = "MARS-REGIONAL-MAPPING-Im-Gl-Pf"
INSTRUMENT_HOST_ID = MEX
INSTRUMENT_HOST_NAME = "MARS EXPRESS"
INSTRUMENT_ID = HRSC
INSTRUMENT_NAME = "HIGH RESOLUTION STEREO CAMERA"
MISSION_NAME = "MARS EXPRESS"
MISSION_PHASE_NAME = ME_Phase_33
PROCESSING_LEVEL_ID = 4
PRODUCT_CREATION_TIME = 2023-01-30T12:57:43.000Z
PRODUCT_ID = "HE831_0000_S24.TIF"
RELEASE_ID = 0002
REVISION_ID = 0000
/* QUALITY DATA ELEMENTS */
DATA_QUALITY_ID = 1
DATA_QUALITY_DESC = "Data calculated based on original SPICE kernels"
/* TIME DATA ELEMENTS */
SPACECRAFT_CLOCK_START_COUNT = "1/0390064130.09054"
SPACECRAFT_CLOCK_STOP_COUNT = "1/0390064282.63872"
START_TIME = 2015-09-11T15:08:56.415Z
STOP_TIME = 2015-09-11T15:10:17.784Z
/* ORBITAL DATA ELEMENTS */
ASCENDING_NODE_LONGITUDE = 295.18
MAXIMUM_RESOLUTION = 0.0295
FOOTPRINT_POINT_LATITUDE = (-47.3208,-47.3167,-47.3133,-47.3071, -47.3019,-47.2942,-47.2857,-47.2745, -47.2739,-47.1703,-47.006,-46.844, -46.6815,-46.4654,-46.3082,-46.1995, -46.0387,-45.9302,-45.8219,-45.7137, -45.6057,-45.4973,-45.3351,-45.1725, -45.063,-44.9505,-44.8411,-44.7331, -44.6256,-44.4642,-44.2488,-44.1403, -44.0304,-43.8678,-43.7057,-43.5435, -43.3831,-43.2226,-43.0617,-42.8457, -42.7367,-42.5734,-42.465,-42.3026, -42.0894,-41.8184,-41.764,-41.7631, -41.7727,-41.7775,-41.7818,-41.7879, -41.7921,-41.7933,-41.7938,-41.7988, -41.799,-41.7995,-42.069,-42.1773, -42.286,-42.4491,-42.5577,-42.6661, -42.7747,-42.9379,-43.0456,-43.2066, -43.3155,-43.425,-43.6398,-43.7488, -43.9121,-44.021,-44.1857,-44.3462, -44.455,-44.563,-44.6716,-44.8343, -44.9978,-45.1067,-45.2147,-45.3229, -45.4322,-45.5404,-45.7019,-45.8098, -45.9181,-46.0803,-46.243,-46.3516, -46.4598,-46.622,-46.7305,-46.893, -47.0013,-47.1638,-47.2181,-47.3208)
FOOTPRINT_POINT_LONGITUDE = (76.7919,76.5767,76.4112,76.1465, 75.9479,75.6836,75.4192,75.1047,75.0882 ,75.0463,75.0555,75.0654,75.075,75.0877 ,75.0988,75.1047,75.1143,75.1201,75.126 ,75.1318,75.1376,75.1432,75.1517, 75.1599,75.1649,75.1687,75.1736,75.179, 75.1844,75.1923,75.2027,75.2076,75.2118 ,75.2189,75.226,75.2329,75.2404,75.2477 ,75.2546,75.2633,75.2672,75.273,75.2769 ,75.2828,75.2916,75.3007,75.3025, 75.3025,75.6239,75.8438,75.9962,76.2162 ,76.3854,76.5551,76.7763,77.0301,77.047 ,77.0531,77.0447,77.041,77.0372,77.0315 ,77.0276,77.0239,77.02,77.014,77.0105, 77.0053,77.0012,76.9968,76.9897,76.9855 ,76.9791,76.9748,76.9677,76.9624,76.958 ,76.954,76.9496,76.9432,76.9362,76.9317 ,76.9275,76.9231,76.9182,76.9138, 76.9076,76.9032,76.8987,76.8919,76.8848 ,76.88,76.8753,76.8683,76.8634,76.8561, 76.8512,76.8437,76.8412,76.7919)
ORBIT_NUMBER = 14831
ORBITAL_ECCENTRICITY = 0.578
ORBITAL_INCLINATION = 86.93
ORBITAL_SEMIMAJOR_AXIS = 8787.07
PERIAPSIS_ALTITUDE = 327.49
PERIAPSIS_ARGUMENT_ANGLE = 301.75
PERIAPSIS_TIME = 2015-09-11T15:06:41.000Z
SPACECRAFT_ORIENTATION = (0.0,1.0,0.0)
^MEX_ORIENTATION_DESC = "MEX_ORIENTATION_DESC.TXT"
SPACECRAFT_POINTING_MODE = NADIR
^MEX_POINTING_DESC = "MEX_POINTING_DESC.TXT"
RIGHT_ASCENSION = -1e+32
DECLINATION = -1e+32
OFFSET_ANGLE = -1e+32
SPACECRAFT_SOLAR_DISTANCE = 2.45631e+08
TARGET_NAME = MARS
/* CAMERA DATA ELEMENTS */
DETECTOR_TEMPERATURE = 18.5744
FOCAL_PLANE_TEMPERATURE = 7.7677
INST_CMPRS_NAME = "DISCRETE COSINE TRANSFORMATION (DCT)"
INST_CMPRS_RATIO = 11.9461
INST_CMPRS_QUALITY = 0
INST_CMPRS_QUANTZ_TBL_ID = 0
INSTRUMENT_TEMPERATURE = 11.0301
LENS_TEMPERATURE = 8.7872
MACROPIXEL_SIZE = 2
MISSING_FRAMES = 0
PIXEL_SUBSAMPLING_FLAG = N
SIGNAL_CHAIN_ID = 1
/* RADIOMETRIC DATA ELEMENTS */
BANDWIDTH = 178.0
CENTER_FILTER_WAVELENGTH = 679.0
RADIANCE_OFFSET = 3.00594
RADIANCE_SCALING_FACTOR = 0.00870704
REFLECTANCE_SCALING_FACTOR = 0.000278208
MEX:REFLECTANCE_OFFSET = 0.0960458
/* IMAGE OBJECT DEFINITIONS */
OBJECT = IMAGE
  INTERCHANGE_FORMAT = BINARY
  LINES = 12928
  LINE_SAMPLES = 3471
  SAMPLE_TYPE = UNSIGNED_INTEGER
  SAMPLE_BITS = 8
  BANDS = 1
  BAND_STORAGE_TYPE = BAND_SEQUENTIAL
  MAXIMUM = 255
  MEAN = 119.973
  MINIMUM = 1
  STANDARD_DEVIATION = 32.3634
END_OBJECT = IMAGE
/* MAP OBJECT DEFINITIONS */
OBJECT = IMAGE_MAP_PROJECTION
  ^DATA_SET_MAP_PROJECTION_CATALOG= "DSMAP.CAT"
  A_AXIS_RADIUS = 3396.0
  B_AXIS_RADIUS = 3396.0
  C_AXIS_RADIUS = 3396.0
  CENTER_LATITUDE = 0.0
  CENTER_LONGITUDE = 76.0
  COORDINATE_SYSTEM_NAME = PLANETOGRAPHIC
  COORDINATE_SYSTEM_TYPE = "BODY-FIXED ROTATING"
  EASTERNMOST_LONGITUDE = 77.0531
  FIRST_STANDARD_PARALLEL = "N/A"
  LINE_FIRST_PIXEL = 1
  LINE_LAST_PIXEL = 12928
  LINE_PROJECTION_OFFSET = -99102.25
  MAP_PROJECTION_ROTATION = 0.0
  MAP_PROJECTION_TYPE = SINUSOIDAL
  MAP_RESOLUTION = 2370.85521546667
  MAP_SCALE = 0.025
  MAXIMUM_LATITUDE = -41.7631
  MINIMUM_LATITUDE = -47.3208
  POSITIVE_LONGITUDE_DIRECTION = EAST
  REFERENCE_LATITUDE = "N/A"
  REFERENCE_LONGITUDE = "N/A"
  SAMPLE_FIRST_PIXEL = 1
  SAMPLE_LAST_PIXEL = 3471
  SAMPLE_PROJECTION_OFFSET = 1570.25
  SECOND_STANDARD_PARALLEL = "N/A"
  WESTERNMOST_LONGITUDE = 75.0463
END_OBJECT = IMAGE_MAP_PROJECTION
END
