PDS_VERSION_ID = PDS3
/* FILE DATA ELEMENTS */
RECORD_TYPE = UNDEFINED
/* POINTERS TO DATA OBJECTS */
^IMAGE = ("HE831_0000_IR4.TIF")
/* IDENTIFICATION DATA ELEMENTS */
DATA_SET_ID = "MEX-M-HRSC-4-REFDR-MAPPROJECT-EXT5-V4.0"
DATA_SET_NAME = "MARS EXPRESS HRSC MAP PROJECTED REFDR EXTENSION5 V4.0"
DETECTOR_ID = MEX_HRSC_IR
EVENT_TYPE = "MARS-REGIONAL-MAPPING-Im-Gl-Pf"
INSTRUMENT_HOST_ID = MEX
INSTRUMENT_HOST_NAME = "MARS EXPRESS"
INSTRUMENT_ID = HRSC
INSTRUMENT_NAME = "HIGH RESOLUTION STEREO CAMERA"
MISSION_NAME = "MARS EXPRESS"
MISSION_PHASE_NAME = ME_Phase_33
PROCESSING_LEVEL_ID = 4
PRODUCT_CREATION_TIME = 2023-01-30T12:57:43.000Z
PRODUCT_ID = "HE831_0000_IR4.TIF"
RELEASE_ID = 0002
REVISION_ID = 0000
/* QUALITY DATA ELEMENTS */
DATA_QUALITY_ID = 1
DATA_QUALITY_DESC = "Data calculated based on original SPICE kernels"
/* TIME DATA ELEMENTS */
SPACECRAFT_CLOCK_START_COUNT = "1/0390064130.09054"
SPACECRAFT_CLOCK_STOP_COUNT = "1/0390064282.63872"
START_TIME = 2015-09-11T15:09:53.660Z
STOP_TIME = 2015-09-11T15:11:20.866Z
/* ORBITAL DATA ELEMENTS */
ASCENDING_NODE_LONGITUDE = 295.18
MAXIMUM_RESOLUTION = 0.0606
FOOTPRINT_POINT_LATITUDE = (-47.1971,-47.1926,-47.1844,-47.1764, -47.1698,-47.161,-47.1562,-47.1558, -47.2346,-46.991,-46.8437,-46.648, -46.5018,-46.4032,-46.2529,-46.1529, -45.9588,-45.7155,-45.5205,-45.3682, -45.174,-45.0295,-44.8283,-44.6543, -44.5383,-44.4219,-44.3064,-44.1334, -44.0188,-43.9039,-43.7886,-43.6163, -43.5012,-43.385,-43.2115,-43.0959, -42.9809,-42.867,-42.7526,-42.5818, -42.4679,-42.3537,-42.2393,-42.1231, -42.0085,-41.8959,-41.8392,-41.8248, -41.8273,-41.8322,-41.8362,-41.8408, -41.8433,-41.8451,-41.8484,-41.8533, -41.8558,-41.8577,-41.8578,-41.8589, -41.9735,-42.1447,-42.3155,-42.4294, -42.6011,-42.7156,-42.8295,-43.0025, -43.1177,-43.2897,-43.4046,-43.5209, -43.6363,-43.7514,-43.8661,-44.0383, -44.1536,-44.2705,-44.386,-44.5016, -44.6175,-44.7332,-44.8497,-44.959, -45.1537,-45.2999,-45.4526,-45.6485, -45.8934,-46.0892,-46.3339,-46.432, -46.5796,-46.6776,-46.8251,-46.9725, -47.0708,-47.2183,-47.2676,-47.1971)
FOOTPRINT_POINT_LONGITUDE = (76.837,76.588,76.1898,75.8414,75.5762, 75.2444,75.0785,75.0619,75.0085,75.0215 ,75.03,75.0407,75.0483,75.0541,75.0641, 75.0706,75.0799,75.0919,75.1015,75.1087 ,75.1176,75.1237,75.1307,75.1387, 75.1439,75.1494,75.1543,75.1614,75.1657 ,75.1702,75.1748,75.1814,75.1859, 75.1909,75.198,75.2027,75.207,75.2107, 75.2146,75.22,75.2236,75.2273,75.2312, 75.236,75.2399,75.2427,75.2443,75.2447, 75.4006,75.6095,75.7835,75.9923,76.2189 ,76.3757,76.5152,76.6901,76.9168, 77.0913,77.1088,77.1145,77.1106,77.1041 ,77.0973,77.0926,77.086,77.0815,77.0766 ,77.0702,77.0658,77.0587,77.054,77.0498 ,77.0452,77.0404,77.0353,77.0275, 77.0225,77.0183,77.0132,77.0082,77.0032 ,76.998,76.9932,76.9878,76.9792,76.9726 ,76.9656,76.9571,76.9461,76.937,76.9253 ,76.9207,76.9138,76.9089,76.9018, 76.8945,76.8896,76.8822,76.8797,76.837)
ORBIT_NUMBER = 14831
ORBITAL_ECCENTRICITY = 0.578
ORBITAL_INCLINATION = 86.93
ORBITAL_SEMIMAJOR_AXIS = 8787.07
PERIAPSIS_ALTITUDE = 327.49
PERIAPSIS_ARGUMENT_ANGLE = 301.75
PERIAPSIS_TIME = 2015-09-11T15:06:41.000Z
SPACECRAFT_ORIENTATION = (0.0,1.0,0.0)
^MEX_ORIENTATION_DESC = "MEX_ORIENTATION_DESC.TXT"
SPACECRAFT_POINTING_MODE = NADIR
^MEX_POINTING_DESC = "MEX_POINTING_DESC.TXT"
RIGHT_ASCENSION = -1e+32
DECLINATION = -1e+32
OFFSET_ANGLE = -1e+32
SPACECRAFT_SOLAR_DISTANCE = 2.45631e+08
TARGET_NAME = MARS
/* CAMERA DATA ELEMENTS */
DETECTOR_TEMPERATURE = 16.9432
FOCAL_PLANE_TEMPERATURE = 7.7677
INST_CMPRS_NAME = "DISCRETE COSINE TRANSFORMATION (DCT)"
INST_CMPRS_RATIO = 7.45044
INST_CMPRS_QUALITY = 0
INST_CMPRS_QUANTZ_TBL_ID = 0
INSTRUMENT_TEMPERATURE = 11.0301
LENS_TEMPERATURE = 8.7872
MACROPIXEL_SIZE = 4
MISSING_FRAMES = 1
PIXEL_SUBSAMPLING_FLAG = N
SIGNAL_CHAIN_ID = 2
/* RADIOMETRIC DATA ELEMENTS */
BANDWIDTH = 81.0
CENTER_FILTER_WAVELENGTH = 955.5
RADIANCE_OFFSET = 0.574415
RADIANCE_SCALING_FACTOR = 0.00236813
REFLECTANCE_SCALING_FACTOR = 0.000308249
MEX:REFLECTANCE_OFFSET = 0.0747691
/* IMAGE OBJECT DEFINITIONS */
OBJECT = IMAGE
  INTERCHANGE_FORMAT = BINARY
  LINES = 6464
  LINE_SAMPLES = 1736
  SAMPLE_TYPE = UNSIGNED_INTEGER
  SAMPLE_BITS = 8
  BANDS = 1
  BAND_STORAGE_TYPE = BAND_SEQUENTIAL
  MAXIMUM = 255
  MEAN = 131.414
  MINIMUM = 1
  STANDARD_DEVIATION = 34.0422
END_OBJECT = IMAGE
/* MAP OBJECT DEFINITIONS */
OBJECT = IMAGE_MAP_PROJECTION
  ^DATA_SET_MAP_PROJECTION_CATALOG= "DSMAP.CAT"
  A_AXIS_RADIUS = 3396.0
  B_AXIS_RADIUS = 3396.0
  C_AXIS_RADIUS = 3396.0
  CENTER_LATITUDE = 0.0
  CENTER_LONGITUDE = 76.0
  COORDINATE_SYSTEM_NAME = PLANETOGRAPHIC
  COORDINATE_SYSTEM_TYPE = "BODY-FIXED ROTATING"
  EASTERNMOST_LONGITUDE = 77.11450000000001
  FIRST_STANDARD_PARALLEL = "N/A"
  LINE_FIRST_PIXEL = 1
  LINE_LAST_PIXEL = 6464
  LINE_PROJECTION_OFFSET = -49551.375
  MAP_PROJECTION_ROTATION = 0.0
  MAP_PROJECTION_TYPE = SINUSOIDAL
  MAP_RESOLUTION = 1185.42760773333
  MAP_SCALE = 0.05
  MAXIMUM_LATITUDE = -41.8248
  MINIMUM_LATITUDE = -47.2676
  POSITIVE_LONGITUDE_DIRECTION = EAST
  REFERENCE_LATITUDE = "N/A"
  REFERENCE_LONGITUDE = "N/A"
  SAMPLE_FIRST_PIXEL = 1
  SAMPLE_LAST_PIXEL = 1736
  SAMPLE_PROJECTION_OFFSET = 784.875
  SECOND_STANDARD_PARALLEL = "N/A"
  WESTERNMOST_LONGITUDE = 75.0085
END_OBJECT = IMAGE_MAP_PROJECTION
END
