PDS_VERSION_ID = PDS3
/* FILE DATA ELEMENTS */
RECORD_TYPE = UNDEFINED
/* POINTERS TO DATA OBJECTS */
^IMAGE = ("HE816_0000_S14.TIF")
/* IDENTIFICATION DATA ELEMENTS */
DATA_SET_ID = "MEX-M-HRSC-4-REFDR-MAPPROJECT-EXT5-V4.0"
DATA_SET_NAME = "MARS EXPRESS HRSC MAP PROJECTED REFDR EXTENSION5 V4.0"
DETECTOR_ID = MEX_HRSC_S1
EVENT_TYPE = "MARS-REGIONAL-MAPPING-Im-Pf-Mw"
INSTRUMENT_HOST_ID = MEX
INSTRUMENT_HOST_NAME = "MARS EXPRESS"
INSTRUMENT_ID = HRSC
INSTRUMENT_NAME = "HIGH RESOLUTION STEREO CAMERA"
MISSION_NAME = "MARS EXPRESS"
MISSION_PHASE_NAME = ME_Phase_33
PROCESSING_LEVEL_ID = 4
PRODUCT_CREATION_TIME = 2023-01-30T12:57:43.000Z
PRODUCT_ID = "HE816_0000_S14.TIF"
RELEASE_ID = 0002
REVISION_ID = 0000
/* QUALITY DATA ELEMENTS */
DATA_QUALITY_ID = 1
DATA_QUALITY_DESC = "Data calculated based on original SPICE kernels"
/* TIME DATA ELEMENTS */
SPACECRAFT_CLOCK_START_COUNT = "1/0389686410.09066"
SPACECRAFT_CLOCK_STOP_COUNT = "1/0389686581.33460"
START_TIME = 2015-09-07T06:14:35.248Z
STOP_TIME = 2015-09-07T06:16:25.709Z
/* ORBITAL DATA ELEMENTS */
ASCENDING_NODE_LONGITUDE = 295.46
MAXIMUM_RESOLUTION = 0.0278
FOOTPRINT_POINT_LATITUDE = (-54.8806,-54.8679,-54.859,-54.8427, -54.8199,-54.8192,-54.8792,-54.7373, -54.5952,-54.4533,-54.3111,-54.1695, -53.9577,-53.8165,-53.6046,-53.4638, -53.3229,-53.1808,-53.0398,-52.8992, -52.7584,-52.6175,-52.4771,-52.2666, -52.0559,-51.8457,-51.7055,-51.5651, -51.3548,-51.0745,-50.7948,-50.5149, -50.3746,-50.1023,-49.8242,-49.6021, -49.4557,-49.3131,-49.1705,-49.0255, -48.81,-48.6663,-48.5226,-48.3791, -48.2367,-48.0943,-47.8813,-47.809, -47.7695,-47.782,-47.7886,-47.795, -47.8045,-47.8119,-47.8123,-47.8128, -48.0272,-48.1702,-48.313,-48.4561, -48.5994,-48.743,-48.8867,-49.0315, -49.2465,-49.3905,-49.5351,-49.68, -50.0367,-50.3172,-50.5281,-50.6689, -50.9496,-51.1606,-51.3013,-51.4419, -51.5823,-51.7935,-51.9347,-52.0755, -52.287,-52.428,-52.5692,-52.7107, -52.9227,-53.0643,-53.2056,-53.4173, -53.5586,-53.7,-53.8408,-53.9829, -54.1244,-54.2657,-54.4076,-54.549, -54.6907,-54.833,-54.9043,-54.8806)
FOOTPRINT_POINT_LONGITUDE = (170.139,169.673,169.374,168.871, 168.237,168.218,168.172,168.19,168.207, 168.224,168.242,168.258,168.283,168.299 ,168.323,168.338,168.353,168.369, 168.384,168.399,168.413,168.428,168.442 ,168.462,168.483,168.503,168.516, 168.529,168.548,168.574,168.598,168.622 ,168.634,168.653,168.674,168.695, 168.707,168.718,168.728,168.739,168.755 ,168.765,168.776,168.786,168.795, 168.804,168.818,168.823,168.825,169.259 ,169.502,169.85,170.232,170.597,170.614 ,170.621,170.61,170.602,170.594,170.587 ,170.579,170.571,170.564,170.556, 170.544,170.536,170.528,170.52,170.501, 170.484,170.472,170.464,170.447,170.435 ,170.426,170.417,170.408,170.395, 170.386,170.377,170.363,170.353,170.344 ,170.334,170.32,170.31,170.3,170.285, 170.274,170.264,170.253,170.243,170.232 ,170.221,170.21,170.199,170.188,170.177 ,170.171,170.139)
ORBIT_NUMBER = 14816
ORBITAL_ECCENTRICITY = 0.578
ORBITAL_INCLINATION = 86.92
ORBITAL_SEMIMAJOR_AXIS = 8788.94
PERIAPSIS_ALTITUDE = 329.25
PERIAPSIS_ARGUMENT_ANGLE = 304.33
PERIAPSIS_TIME = 2015-09-07T06:13:57.000Z
SPACECRAFT_ORIENTATION = (0.0,1.0,0.0)
^MEX_ORIENTATION_DESC = "MEX_ORIENTATION_DESC.TXT"
SPACECRAFT_POINTING_MODE = NADIR
^MEX_POINTING_DESC = "MEX_POINTING_DESC.TXT"
RIGHT_ASCENSION = -1e+32
DECLINATION = -1e+32
OFFSET_ANGLE = -1e+32
SPACECRAFT_SOLAR_DISTANCE = 2.45179e+08
TARGET_NAME = MARS
/* CAMERA DATA ELEMENTS */
DETECTOR_TEMPERATURE = 17.7588
FOCAL_PLANE_TEMPERATURE = 8.5833
INST_CMPRS_NAME = "DISCRETE COSINE TRANSFORMATION (DCT)"
INST_CMPRS_RATIO = 8.89053
INST_CMPRS_QUALITY = 0
INST_CMPRS_QUANTZ_TBL_ID = 0
INSTRUMENT_TEMPERATURE = 11.8457
LENS_TEMPERATURE = 8.9911
MACROPIXEL_SIZE = 2
MISSING_FRAMES = 0
PIXEL_SUBSAMPLING_FLAG = N
SIGNAL_CHAIN_ID = 1
/* RADIOMETRIC DATA ELEMENTS */
BANDWIDTH = 180.0
CENTER_FILTER_WAVELENGTH = 677.0
RADIANCE_OFFSET = 1.49184
RADIANCE_SCALING_FACTOR = 0.00949057
REFLECTANCE_SCALING_FACTOR = 0.000297645
MEX:REFLECTANCE_OFFSET = 0.0467874
/* IMAGE OBJECT DEFINITIONS */
OBJECT = IMAGE
  INTERCHANGE_FORMAT = BINARY
  LINES = 17051
  LINE_SAMPLES = 3669
  SAMPLE_TYPE = UNSIGNED_INTEGER
  SAMPLE_BITS = 8
  BANDS = 1
  BAND_STORAGE_TYPE = BAND_SEQUENTIAL
  MAXIMUM = 255
  MEAN = 80.5287
  MINIMUM = 1
  STANDARD_DEVIATION = 30.158
END_OBJECT = IMAGE
/* MAP OBJECT DEFINITIONS */
OBJECT = IMAGE_MAP_PROJECTION
  ^DATA_SET_MAP_PROJECTION_CATALOG= "DSMAP.CAT"
  A_AXIS_RADIUS = 3396.0
  B_AXIS_RADIUS = 3396.0
  C_AXIS_RADIUS = 3396.0
  CENTER_LATITUDE = 0.0
  CENTER_LONGITUDE = 169.0
  COORDINATE_SYSTEM_NAME = PLANETOGRAPHIC
  COORDINATE_SYSTEM_TYPE = "BODY-FIXED ROTATING"
  EASTERNMOST_LONGITUDE = 170.621
  FIRST_STANDARD_PARALLEL = "N/A"
  LINE_FIRST_PIXEL = 1
  LINE_LAST_PIXEL = 17051
  LINE_PROJECTION_OFFSET = -113290.75
  MAP_PROJECTION_ROTATION = 0.0
  MAP_PROJECTION_TYPE = SINUSOIDAL
  MAP_RESOLUTION = 2370.85521546667
  MAP_SCALE = 0.025
  MAXIMUM_LATITUDE = -47.7695
  MINIMUM_LATITUDE = -54.9043
  POSITIVE_LONGITUDE_DIRECTION = EAST
  REFERENCE_LATITUDE = "N/A"
  REFERENCE_LONGITUDE = "N/A"
  SAMPLE_FIRST_PIXEL = 1
  SAMPLE_LAST_PIXEL = 3669
  SAMPLE_PROJECTION_OFFSET = 1133.75
  SECOND_STANDARD_PARALLEL = "N/A"
  WESTERNMOST_LONGITUDE = 168.172
END_OBJECT = IMAGE_MAP_PROJECTION
END
