PDS_VERSION_ID = PDS3
/* FILE DATA ELEMENTS */
RECORD_TYPE = UNDEFINED
/* POINTERS TO DATA OBJECTS */
^IMAGE = ("HE782_0000_S14.TIF")
/* IDENTIFICATION DATA ELEMENTS */
DATA_SET_ID = "MEX-M-HRSC-4-REFDR-MAPPROJECT-EXT5-V4.0"
DATA_SET_NAME = "MARS EXPRESS HRSC MAP PROJECTED REFDR EXTENSION5 V4.0"
DETECTOR_ID = MEX_HRSC_S1
EVENT_TYPE = "MARS-REGIONAL-MAPPING-Te-Fl-Gl"
INSTRUMENT_HOST_ID = MEX
INSTRUMENT_HOST_NAME = "MARS EXPRESS"
INSTRUMENT_ID = HRSC
INSTRUMENT_NAME = "HIGH RESOLUTION STEREO CAMERA"
MISSION_NAME = "MARS EXPRESS"
MISSION_PHASE_NAME = ME_Phase_33
PROCESSING_LEVEL_ID = 4
PRODUCT_CREATION_TIME = 2023-01-30T12:57:43.000Z
PRODUCT_ID = "HE782_0000_S14.TIF"
RELEASE_ID = 0002
REVISION_ID = 0000
/* QUALITY DATA ELEMENTS */
DATA_QUALITY_ID = 1
DATA_QUALITY_DESC = "Data calculated based on original SPICE kernels"
/* TIME DATA ELEMENTS */
SPACECRAFT_CLOCK_START_COUNT = "1/0388830714.09052"
SPACECRAFT_CLOCK_STOP_COUNT = "1/0388830870.17947"
START_TIME = 2015-08-28T08:33:02.706Z
STOP_TIME = 2015-08-28T08:34:34.429Z
/* ORBITAL DATA ELEMENTS */
ASCENDING_NODE_LONGITUDE = 296.1
MAXIMUM_RESOLUTION = 0.0152
FOOTPRINT_POINT_LATITUDE = (-39.9695,-39.9675,-39.9656,-39.9623, -39.9579,-39.9537,-39.9502,-39.9454, -39.9451,-40.0001,-39.8435,-39.6864, -39.5345,-39.3277,-39.1155,-39.0053, -38.899,-38.7928,-38.6871,-38.5378, -38.3836,-38.1727,-37.8585,-37.7029, -37.4946,-37.2866,-37.1701,-37.0431, -36.8498,-36.7198,-36.5955,-36.4725, -36.3494,-36.2261,-36.0407,-35.8571, -35.7337,-35.616,-35.495,-35.3706, -35.2466,-35.0614,-34.9372,-34.7521, -34.6291,-34.5029,-34.3788,-34.3176, -34.3143,-34.3187,-34.3227,-34.3265, -34.3276,-34.3288,-34.3289,-34.3299, -34.3306,-34.3306,-34.3309,-34.5155, -34.6418,-34.7664,-34.9517,-35.0787, -35.2027,-35.3247,-35.4492,-35.5737, -35.6966,-35.8206,-35.9438,-36.0679, -36.195,-36.3196,-36.445,-36.5698, -36.6954,-36.8194,-36.9438,-37.0678, -37.1919,-37.3083,-37.5698,-37.7274, -37.8332,-37.9919,-38.1956,-38.4053, -38.6691,-38.8278,-38.9862,-39.0924, -39.2511,-39.3565,-39.5672,-39.7225, -39.8283,-39.989,-40.0417,-39.9695)
FOOTPRINT_POINT_LONGITUDE = (47.602,47.4296,47.2729,47.0379,46.7402 ,46.4898,46.2861,46.0353,46.0196, 45.9878,45.9918,45.9961,45.998,46.0024, 46.009,46.0141,46.0174,46.0207,46.0238, 46.0243,46.027,46.0327,46.0403,46.0434, 46.0478,46.052,46.0546,46.0583,46.0649, 46.0698,46.0722,46.0741,46.0761,46.0781 ,46.0813,46.0836,46.0856,46.0853, 46.0863,46.0886,46.0908,46.0937,46.0959 ,46.0988,46.1004,46.1034,46.1055, 46.1062,46.1063,46.3668,46.5297,46.7582 ,47.0033,47.1341,47.3464,47.4934, 47.7383,47.7546,47.7626,47.7591,47.7578 ,47.756,47.7524,47.7512,47.7489,47.7458 ,47.7435,47.7413,47.7383,47.7357, 47.7328,47.7301,47.7285,47.726,47.7236, 47.721,47.7186,47.7156,47.7127,47.7095, 47.7064,47.7034,47.6971,47.6934,47.6913 ,47.6879,47.6802,47.6747,47.6683, 47.6645,47.6604,47.6579,47.6538,47.6509 ,47.6449,47.6393,47.6363,47.6326,47.631 ,47.602)
ORBIT_NUMBER = 14782
ORBITAL_ECCENTRICITY = 0.578
ORBITAL_INCLINATION = 86.91
ORBITAL_SEMIMAJOR_AXIS = 8801.24
PERIAPSIS_ALTITUDE = 329.3
PERIAPSIS_ARGUMENT_ANGLE = 310.12
PERIAPSIS_TIME = 2015-08-28T08:30:02.000Z
SPACECRAFT_ORIENTATION = (0.0,1.0,0.0)
^MEX_ORIENTATION_DESC = "MEX_ORIENTATION_DESC.TXT"
SPACECRAFT_POINTING_MODE = NADIR
^MEX_POINTING_DESC = "MEX_POINTING_DESC.TXT"
RIGHT_ASCENSION = -1e+32
DECLINATION = -1e+32
OFFSET_ANGLE = -1e+32
SPACECRAFT_SOLAR_DISTANCE = 2.44064e+08
TARGET_NAME = MARS
/* CAMERA DATA ELEMENTS */
DETECTOR_TEMPERATURE = 17.7588
FOCAL_PLANE_TEMPERATURE = 7.7677
INST_CMPRS_NAME = "DISCRETE COSINE TRANSFORMATION (DCT)"
INST_CMPRS_RATIO = 8.93101
INST_CMPRS_QUALITY = 0
INST_CMPRS_QUANTZ_TBL_ID = 0
INSTRUMENT_TEMPERATURE = 11.234
LENS_TEMPERATURE = 8.3794
MACROPIXEL_SIZE = 1
MISSING_FRAMES = 0
PIXEL_SUBSAMPLING_FLAG = N
SIGNAL_CHAIN_ID = 2
/* RADIOMETRIC DATA ELEMENTS */
BANDWIDTH = 180.0
CENTER_FILTER_WAVELENGTH = 677.0
RADIANCE_OFFSET = 1.74744
RADIANCE_SCALING_FACTOR = 0.0113726
REFLECTANCE_SCALING_FACTOR = 0.000353435
MEX:REFLECTANCE_OFFSET = 0.0543066
/* IMAGE OBJECT DEFINITIONS */
OBJECT = IMAGE
  INTERCHANGE_FORMAT = BINARY
  LINES = 27028
  LINE_SAMPLES = 6422
  SAMPLE_TYPE = UNSIGNED_INTEGER
  SAMPLE_BITS = 8
  BANDS = 1
  BAND_STORAGE_TYPE = BAND_SEQUENTIAL
  MAXIMUM = 255
  MEAN = 132.036
  MINIMUM = 1
  STANDARD_DEVIATION = 29.6517
END_OBJECT = IMAGE
/* MAP OBJECT DEFINITIONS */
OBJECT = IMAGE_MAP_PROJECTION
  ^DATA_SET_MAP_PROJECTION_CATALOG= "DSMAP.CAT"
  A_AXIS_RADIUS = 3396.0
  B_AXIS_RADIUS = 3396.0
  C_AXIS_RADIUS = 3396.0
  CENTER_LATITUDE = 0.0
  CENTER_LONGITUDE = 47.0
  COORDINATE_SYSTEM_NAME = PLANETOGRAPHIC
  COORDINATE_SYSTEM_TYPE = "BODY-FIXED ROTATING"
  EASTERNMOST_LONGITUDE = 47.7626
  FIRST_STANDARD_PARALLEL = "N/A"
  LINE_FIRST_PIXEL = 1
  LINE_LAST_PIXEL = 27028
  LINE_PROJECTION_OFFSET = -162730.0
  MAP_PROJECTION_ROTATION = 0.0
  MAP_PROJECTION_TYPE = SINUSOIDAL
  MAP_RESOLUTION = 4741.71043093333
  MAP_SCALE = 0.0125
  MAXIMUM_LATITUDE = -34.3143
  MINIMUM_LATITUDE = -40.0417
  POSITIVE_LONGITUDE_DIRECTION = EAST
  REFERENCE_LATITUDE = "N/A"
  REFERENCE_LONGITUDE = "N/A"
  SAMPLE_FIRST_PIXEL = 1
  SAMPLE_LAST_PIXEL = 6422
  SAMPLE_PROJECTION_OFFSET = 3601.0
  SECOND_STANDARD_PARALLEL = "N/A"
  WESTERNMOST_LONGITUDE = 45.9878
END_OBJECT = IMAGE_MAP_PROJECTION
END
