PDS_VERSION_ID = PDS3
/* FILE DATA ELEMENTS */
RECORD_TYPE = UNDEFINED
/* POINTERS TO DATA OBJECTS */
^IMAGE = ("HE765_0000_S24.TIF")
/* IDENTIFICATION DATA ELEMENTS */
DATA_SET_ID = "MEX-M-HRSC-4-REFDR-MAPPROJECT-EXT5-V4.0"
DATA_SET_NAME = "MARS EXPRESS HRSC MAP PROJECTED REFDR EXTENSION5 V4.0"
DETECTOR_ID = MEX_HRSC_S2
EVENT_TYPE = "MARS-REGIONAL-MAPPING-Im-Fl"
INSTRUMENT_HOST_ID = MEX
INSTRUMENT_HOST_NAME = "MARS EXPRESS"
INSTRUMENT_ID = HRSC
INSTRUMENT_NAME = "HIGH RESOLUTION STEREO CAMERA"
MISSION_NAME = "MARS EXPRESS"
MISSION_PHASE_NAME = ME_Phase_33
PROCESSING_LEVEL_ID = 4
PRODUCT_CREATION_TIME = 2023-01-30T12:57:43.000Z
PRODUCT_ID = "HE765_0000_S24.TIF"
RELEASE_ID = 0002
REVISION_ID = 0000
/* QUALITY DATA ELEMENTS */
DATA_QUALITY_ID = 1
DATA_QUALITY_DESC = "Data calculated based on original SPICE kernels"
/* TIME DATA ELEMENTS */
SPACECRAFT_CLOCK_START_COUNT = "1/0388402761.56546"
SPACECRAFT_CLOCK_STOP_COUNT = "1/0388402898.23777"
START_TIME = 2015-08-23T09:39:28.000Z
STOP_TIME = 2015-08-23T09:40:35.022Z
/* ORBITAL DATA ELEMENTS */
ASCENDING_NODE_LONGITUDE = 296.42
MAXIMUM_RESOLUTION = 0.0287
FOOTPRINT_POINT_LATITUDE = (-37.5171,-37.5127,-37.5082,-37.5036, -37.4987,-37.4937,-37.4885,-37.4831, -37.4775,-37.4718,-37.4658,-37.4597, -37.4484,-37.4476,-37.4086,-37.2317, -37.0544,-36.9656,-36.877,-36.7001, -36.6115,-36.4787,-36.3019,-36.125, -35.9926,-35.8169,-35.6403,-35.463, -35.1974,-35.0649,-34.976,-34.8868, -34.798,-34.7093,-34.6205,-34.5318, -34.4431,-34.3543,-34.2655,-34.1326, -34.044,-33.8668,-33.778,-33.6014, -33.469,-33.3316,-33.1573,-33.0246, -32.9802,-32.9652,-32.9715,-32.9802, -32.9919,-32.9967,-33.0034,-33.0094, -33.018,-33.0241,-33.0288,-33.0293, -33.0299,-33.1626,-33.3393,-33.4281, -33.517,-33.6502,-33.7389,-33.8278, -33.9164,-34.0491,-34.226,-34.4005, -34.4913,-34.627,-34.7157,-34.8046, -34.8937,-34.9827,-35.072,-35.1612, -35.2501,-35.3389,-35.4275,-35.5162, -35.6499,-35.7388,-35.8275,-35.917, -36.0067,-36.0956,-36.2726,-36.4493, -36.5807,-36.7576,-36.9339,-37.1095, -37.287,-37.4223,-37.4664,-37.5171)
FOOTPRINT_POINT_LONGITUDE = (345.536,345.424,345.311,345.198, 345.085,344.972,344.858,344.744,344.629 ,344.514,344.399,344.284,344.08,344.066 ,344.038,344.044,344.05,344.053,344.056 ,344.061,344.064,344.069,344.074,344.08 ,344.084,344.09,344.096,344.101,344.108 ,344.112,344.114,344.116,344.118,344.12 ,344.122,344.125,344.127,344.129, 344.131,344.134,344.136,344.14,344.142, 344.146,344.149,344.149,344.155,344.157 ,344.158,344.158,344.276,344.437,344.67 ,344.843,345.016,345.16,345.361,345.518 ,345.631,345.645,345.65,345.648,345.644 ,345.642,345.64,345.637,345.635,345.633 ,345.631,345.628,345.624,345.62,345.617 ,345.614,345.612,345.61,345.608,345.605 ,345.603,345.601,345.599,345.597, 345.594,345.592,345.589,345.586,345.584 ,345.582,345.579,345.577,345.573, 345.568,345.565,345.56,345.555,345.551, 345.546,345.542,345.54,345.536)
ORBIT_NUMBER = 14765
ORBITAL_ECCENTRICITY = 0.578
ORBITAL_INCLINATION = 86.92
ORBITAL_SEMIMAJOR_AXIS = 8802.71
PERIAPSIS_ALTITUDE = 329.46
PERIAPSIS_ARGUMENT_ANGLE = 312.98
PERIAPSIS_TIME = 2015-08-23T09:37:34.000Z
SPACECRAFT_ORIENTATION = (0.0,1.0,0.0)
^MEX_ORIENTATION_DESC = "MEX_ORIENTATION_DESC.TXT"
SPACECRAFT_POINTING_MODE = ACROSSTRACK
^MEX_POINTING_DESC = "MEX_POINTING_DESC.TXT"
RIGHT_ASCENSION = -1e+32
DECLINATION = -1e+32
OFFSET_ANGLE = 0.45
SPACECRAFT_SOLAR_DISTANCE = 2.4346e+08
TARGET_NAME = MARS
/* CAMERA DATA ELEMENTS */
DETECTOR_TEMPERATURE = 0.0
FOCAL_PLANE_TEMPERATURE = 0.0
INST_CMPRS_NAME = "DISCRETE COSINE TRANSFORMATION (DCT)"
INST_CMPRS_RATIO = 8.49377
INST_CMPRS_QUALITY = 0
INST_CMPRS_QUANTZ_TBL_ID = 0
INSTRUMENT_TEMPERATURE = 0.0
LENS_TEMPERATURE = 0.0
MACROPIXEL_SIZE = 2
MISSING_FRAMES = 0
PIXEL_SUBSAMPLING_FLAG = N
SIGNAL_CHAIN_ID = 1
/* RADIOMETRIC DATA ELEMENTS */
BANDWIDTH = 178.0
CENTER_FILTER_WAVELENGTH = 679.0
RADIANCE_OFFSET = 1.40825
RADIANCE_SCALING_FACTOR = 0.0137111
REFLECTANCE_SCALING_FACTOR = 0.000430388
MEX:REFLECTANCE_OFFSET = 0.0442044
/* IMAGE OBJECT DEFINITIONS */
OBJECT = IMAGE
  INTERCHANGE_FORMAT = BINARY
  LINES = 5653
  LINE_SAMPLES = 3029
  SAMPLE_TYPE = UNSIGNED_INTEGER
  SAMPLE_BITS = 8
  BANDS = 1
  BAND_STORAGE_TYPE = BAND_SEQUENTIAL
  MAXIMUM = 255
  MEAN = 132.564
  MINIMUM = 1
  STANDARD_DEVIATION = 17.4128
END_OBJECT = IMAGE
/* MAP OBJECT DEFINITIONS */
OBJECT = IMAGE_MAP_PROJECTION
  ^DATA_SET_MAP_PROJECTION_CATALOG= "DSMAP.CAT"
  A_AXIS_RADIUS = 3396.0
  B_AXIS_RADIUS = 3396.0
  C_AXIS_RADIUS = 3396.0
  CENTER_LATITUDE = 0.0
  CENTER_LONGITUDE = 345.0
  COORDINATE_SYSTEM_NAME = PLANETOGRAPHIC
  COORDINATE_SYSTEM_TYPE = "BODY-FIXED ROTATING"
  EASTERNMOST_LONGITUDE = 345.65
  FIRST_STANDARD_PARALLEL = "N/A"
  LINE_FIRST_PIXEL = 1
  LINE_LAST_PIXEL = 5653
  LINE_PROJECTION_OFFSET = -83109.75
  MAP_PROJECTION_ROTATION = 0.0
  MAP_PROJECTION_TYPE = SINUSOIDAL
  MAP_RESOLUTION = 2370.85521546667
  MAP_SCALE = 0.025
  MAXIMUM_LATITUDE = -32.9652
  MINIMUM_LATITUDE = -37.5171
  POSITIVE_LONGITUDE_DIRECTION = EAST
  REFERENCE_LATITUDE = "N/A"
  REFERENCE_LONGITUDE = "N/A"
  SAMPLE_FIRST_PIXEL = 1
  SAMPLE_LAST_PIXEL = 3029
  SAMPLE_PROJECTION_OFFSET = 1827.75
  SECOND_STANDARD_PARALLEL = "N/A"
  WESTERNMOST_LONGITUDE = 344.038
END_OBJECT = IMAGE_MAP_PROJECTION
END
