PDS_VERSION_ID = PDS3
/* FILE DATA ELEMENTS */
RECORD_TYPE = UNDEFINED
/* POINTERS TO DATA OBJECTS */
^IMAGE = ("HE757_0000_S14.TIF")
/* IDENTIFICATION DATA ELEMENTS */
DATA_SET_ID = "MEX-M-HRSC-4-REFDR-MAPPROJECT-EXT5-V4.0"
DATA_SET_NAME = "MARS EXPRESS HRSC MAP PROJECTED REFDR EXTENSION5 V4.0"
DETECTOR_ID = MEX_HRSC_S1
EVENT_TYPE = "MARS-LOCAL-STEREO-Fl-La-Tc"
INSTRUMENT_HOST_ID = MEX
INSTRUMENT_HOST_NAME = "MARS EXPRESS"
INSTRUMENT_ID = HRSC
INSTRUMENT_NAME = "HIGH RESOLUTION STEREO CAMERA"
MISSION_NAME = "MARS EXPRESS"
MISSION_PHASE_NAME = ME_Phase_33
PROCESSING_LEVEL_ID = 4
PRODUCT_CREATION_TIME = 2023-01-30T12:57:43.000Z
PRODUCT_ID = "HE757_0000_S14.TIF"
RELEASE_ID = 0002
REVISION_ID = 0000
/* QUALITY DATA ELEMENTS */
DATA_QUALITY_ID = 1
DATA_QUALITY_DESC = "Data calculated based on original SPICE kernels"
/* TIME DATA ELEMENTS */
SPACECRAFT_CLOCK_START_COUNT = "1/0388201297.07340"
SPACECRAFT_CLOCK_STOP_COUNT = "1/0388201422.65284"
START_TIME = 2015-08-21T01:42:42.873Z
STOP_TIME = 2015-08-21T01:43:47.117Z
/* ORBITAL DATA ELEMENTS */
ASCENDING_NODE_LONGITUDE = 296.56
MAXIMUM_RESOLUTION = 0.0144
FOOTPRINT_POINT_LATITUDE = (-41.453,-41.4539,-41.4548,-41.4556, -41.4562,-41.4569,-41.4574,-41.4579, -41.4582,-41.4585,-41.4588,-41.4589, -41.4589,-41.4589,-41.5463,-41.3043, -41.1427,-40.9007,-40.7397,-40.5785, -40.4576,-40.2963,-40.1314,-40.0485, -39.9654,-39.8823,-39.7992,-39.7163, -39.6333,-39.5506,-39.4681,-39.3855, -39.3027,-39.1784,-39.014,-38.9315, -38.8479,-38.6835,-38.6011,-38.5185, -38.4343,-38.3508,-38.2674,-38.1847, -38.0225,-37.8181,-37.7356,-37.5713, -37.4877,-37.4467,-37.4404,-37.4398, -37.4387,-37.4367,-37.4351,-37.433, -37.4305,-37.4268,-37.4255,-37.4235, -37.4233,-37.4234,-37.5058,-37.67, -37.7939,-37.9585,-38.0411,-38.1239, -38.2064,-38.2889,-38.3717,-38.4548, -38.538,-38.6208,-38.7035,-38.8682, -38.9508,-39.0337,-39.1168,-39.1995, -39.2819,-39.365,-39.4909,-39.5748, -39.6578,-39.7411,-39.9059,-39.9891, -40.0721,-40.1558,-40.2398,-40.4018, -40.5635,-40.7249,-40.8457,-41.0882, -41.2498,-41.493,-41.5334,-41.453)
FOOTPRINT_POINT_LONGITUDE = (83.3978,83.2785,83.1588,83.0387, 82.9182,82.7971,82.6756,82.5537,82.4314 ,82.3086,82.1853,82.0614,81.8746,81.859 ,81.7753,81.7882,81.7971,81.8098, 81.8179,81.8261,81.8323,81.8406,81.8488 ,81.8526,81.8567,81.8606,81.8646, 81.8685,81.8723,81.8759,81.8794,81.8829 ,81.8867,81.8922,81.8986,81.902,81.9063 ,81.9126,81.9158,81.9193,81.924,81.9282 ,81.9322,81.9357,81.9402,81.947,81.9502 ,81.9563,81.9605,81.9619,81.9621, 82.1052,82.3112,82.5475,82.7506,82.8756 ,83.0771,83.2775,83.4,83.5221,83.5374, 83.5448,83.5422,83.5368,83.5327,83.5273 ,83.5245,83.5218,83.519,83.5162,83.5134 ,83.5106,83.5078,83.505,83.5021,83.4964 ,83.4935,83.4906,83.4877,83.4848, 83.4818,83.4789,83.4744,83.4715,83.4685 ,83.4654,83.4594,83.4563,83.4532, 83.4501,83.447,83.441,83.4349,83.4287, 83.4241,83.4147,83.4083,83.3987,83.3971 ,83.3978)
ORBIT_NUMBER = 14757
ORBITAL_ECCENTRICITY = 0.578
ORBITAL_INCLINATION = 86.92
ORBITAL_SEMIMAJOR_AXIS = 8808.73
PERIAPSIS_ALTITUDE = 328.66
PERIAPSIS_ARGUMENT_ANGLE = 314.34
PERIAPSIS_TIME = 2015-08-21T01:41:12.000Z
SPACECRAFT_ORIENTATION = (0.0,1.0,0.0)
^MEX_ORIENTATION_DESC = "MEX_ORIENTATION_DESC.TXT"
SPACECRAFT_POINTING_MODE = ACROSSTRACK
^MEX_POINTING_DESC = "MEX_POINTING_DESC.TXT"
RIGHT_ASCENSION = -1e+32
DECLINATION = -1e+32
OFFSET_ANGLE = 0.539
SPACECRAFT_SOLAR_DISTANCE = 2.43166e+08
TARGET_NAME = MARS
/* CAMERA DATA ELEMENTS */
DETECTOR_TEMPERATURE = 17.5549
FOCAL_PLANE_TEMPERATURE = 8.1755
INST_CMPRS_NAME = "DISCRETE COSINE TRANSFORMATION (DCT)"
INST_CMPRS_RATIO = 7.25916
INST_CMPRS_QUALITY = 0
INST_CMPRS_QUANTZ_TBL_ID = 0
INSTRUMENT_TEMPERATURE = 11.6418
LENS_TEMPERATURE = 8.5833
MACROPIXEL_SIZE = 1
MISSING_FRAMES = 0
PIXEL_SUBSAMPLING_FLAG = N
SIGNAL_CHAIN_ID = 2
/* RADIOMETRIC DATA ELEMENTS */
BANDWIDTH = 180.0
CENTER_FILTER_WAVELENGTH = 677.0
RADIANCE_OFFSET = 3.20937
RADIANCE_SCALING_FACTOR = 0.00659836
REFLECTANCE_SCALING_FACTOR = 0.000203556
MEX:REFLECTANCE_OFFSET = 0.0990074
/* IMAGE OBJECT DEFINITIONS */
OBJECT = IMAGE
  INTERCHANGE_FORMAT = BINARY
  LINES = 19678
  LINE_SAMPLES = 6262
  SAMPLE_TYPE = UNSIGNED_INTEGER
  SAMPLE_BITS = 8
  BANDS = 1
  BAND_STORAGE_TYPE = BAND_SEQUENTIAL
  MAXIMUM = 254
  MEAN = 127.685
  MINIMUM = 1
  STANDARD_DEVIATION = 28.7856
END_OBJECT = IMAGE
/* MAP OBJECT DEFINITIONS */
OBJECT = IMAGE_MAP_PROJECTION
  ^DATA_SET_MAP_PROJECTION_CATALOG= "DSMAP.CAT"
  A_AXIS_RADIUS = 3396.0
  B_AXIS_RADIUS = 3396.0
  C_AXIS_RADIUS = 3396.0
  CENTER_LATITUDE = 0.0
  CENTER_LONGITUDE = 83.0
  COORDINATE_SYSTEM_NAME = PLANETOGRAPHIC
  COORDINATE_SYSTEM_TYPE = "BODY-FIXED ROTATING"
  EASTERNMOST_LONGITUDE = 83.5448
  FIRST_STANDARD_PARALLEL = "N/A"
  LINE_FIRST_PIXEL = 1
  LINE_LAST_PIXEL = 19678
  LINE_PROJECTION_OFFSET = -177283.0
  MAP_PROJECTION_ROTATION = 0.0
  MAP_PROJECTION_TYPE = SINUSOIDAL
  MAP_RESOLUTION = 4741.71043093333
  MAP_SCALE = 0.0125
  MAXIMUM_LATITUDE = -37.4233
  MINIMUM_LATITUDE = -41.5463
  POSITIVE_LONGITUDE_DIRECTION = EAST
  REFERENCE_LATITUDE = "N/A"
  REFERENCE_LONGITUDE = "N/A"
  SAMPLE_FIRST_PIXEL = 1
  SAMPLE_LAST_PIXEL = 6262
  SAMPLE_PROJECTION_OFFSET = 4287.0
  SECOND_STANDARD_PARALLEL = "N/A"
  WESTERNMOST_LONGITUDE = 81.7753
END_OBJECT = IMAGE_MAP_PROJECTION
END
