PDS_VERSION_ID = PDS3
/* FILE DATA ELEMENTS */
RECORD_TYPE = UNDEFINED
/* POINTERS TO DATA OBJECTS */
^IMAGE = ("HE757_0000_P14.TIF")
/* IDENTIFICATION DATA ELEMENTS */
DATA_SET_ID = "MEX-M-HRSC-4-REFDR-MAPPROJECT-EXT5-V4.0"
DATA_SET_NAME = "MARS EXPRESS HRSC MAP PROJECTED REFDR EXTENSION5 V4.0"
DETECTOR_ID = MEX_HRSC_P1
EVENT_TYPE = "MARS-LOCAL-STEREO-Fl-La-Tc"
INSTRUMENT_HOST_ID = MEX
INSTRUMENT_HOST_NAME = "MARS EXPRESS"
INSTRUMENT_ID = HRSC
INSTRUMENT_NAME = "HIGH RESOLUTION STEREO CAMERA"
MISSION_NAME = "MARS EXPRESS"
MISSION_PHASE_NAME = ME_Phase_33
PROCESSING_LEVEL_ID = 4
PRODUCT_CREATION_TIME = 2023-01-30T12:57:43.000Z
PRODUCT_ID = "HE757_0000_P14.TIF"
RELEASE_ID = 0002
REVISION_ID = 0000
/* QUALITY DATA ELEMENTS */
DATA_QUALITY_ID = 1
DATA_QUALITY_DESC = "Data calculated based on original SPICE kernels"
/* TIME DATA ELEMENTS */
SPACECRAFT_CLOCK_START_COUNT = "1/0388201297.07340"
SPACECRAFT_CLOCK_STOP_COUNT = "1/0388201422.65284"
START_TIME = 2015-08-21T01:42:32.272Z
STOP_TIME = 2015-08-21T01:43:36.160Z
/* ORBITAL DATA ELEMENTS */
ASCENDING_NODE_LONGITUDE = 296.56
MAXIMUM_RESOLUTION = 0.0278
FOOTPRINT_POINT_LATITUDE = (-41.4953,-41.4951,-41.4948,-41.4945, -41.494,-41.4934,-41.4928,-41.492, -41.4912,-41.4902,-41.4892,-41.4881, -41.4858,-41.4856,-41.5412,-41.4194, -41.2975,-41.1347,-40.9319,-40.7697, -40.6073,-40.4043,-40.2823,-40.1202, -39.9584,-39.7965,-39.554,-39.4706, -39.3871,-39.3037,-39.2202,-39.1368, -39.0536,-38.9704,-38.8868,-38.8034, -38.7202,-38.637,-38.5536,-38.4693, -38.3433,-38.2598,-38.1766,-38.0124, -37.8879,-37.7217,-37.6384,-37.555, -37.4716,-37.4301,-37.4242,-37.425, -37.4257,-37.4268,-37.4271,-37.427, -37.4263,-37.4261,-37.4249,-37.4246, -37.4238,-37.4238,-37.4242,-37.5493, -37.6324,-37.7156,-37.799,-37.9653, -38.0487,-38.1322,-38.2155,-38.299, -38.3825,-38.4662,-38.55,-38.6336, -38.717,-38.8004,-38.8836,-38.967, -39.0507,-39.1344,-39.2179,-39.3013, -39.385,-39.4697,-39.5945,-39.7568, -39.9181,-40.0803,-40.2434,-40.4064, -40.5691,-40.7318,-40.8535,-41.0977, -41.2604,-41.5051,-41.5458,-41.4953)
FOOTPRINT_POINT_LONGITUDE = (83.3915,83.2753,83.1588,83.0419, 82.9246,82.8067,82.6885,82.5699,82.4508 ,82.3314,82.2115,82.091,81.8791,81.8639 ,81.7849,81.7915,81.7981,81.8072, 81.8178,81.826,81.8345,81.8452,81.8517, 81.8598,81.8673,81.875,81.8861,81.8898, 81.8935,81.8972,81.901,81.9045,81.9079, 81.9113,81.9152,81.9187,81.9221,81.9254 ,81.929,81.9338,81.9401,81.9439,81.9473 ,81.9512,81.9559,81.9622,81.9657, 81.9692,81.9728,81.9743,81.9745,82.0819 ,82.205,82.3734,82.5717,82.7993,82.9503 ,83.0705,83.2796,83.3983,83.5168, 83.5315,83.5368,83.5329,83.5302,83.5276 ,83.5249,83.5195,83.5168,83.5141, 83.5113,83.5086,83.5058,83.5031,83.5003 ,83.4975,83.4946,83.4918,83.489,83.4861 ,83.4832,83.4804,83.4775,83.4745, 83.4716,83.4687,83.4643,83.4585,83.4527 ,83.4468,83.4409,83.4349,83.4289, 83.4228,83.4182,83.4089,83.4026,83.3931 ,83.3915,83.3915)
ORBIT_NUMBER = 14757
ORBITAL_ECCENTRICITY = 0.578
ORBITAL_INCLINATION = 86.92
ORBITAL_SEMIMAJOR_AXIS = 8808.73
PERIAPSIS_ALTITUDE = 328.66
PERIAPSIS_ARGUMENT_ANGLE = 314.34
PERIAPSIS_TIME = 2015-08-21T01:41:12.000Z
SPACECRAFT_ORIENTATION = (0.0,1.0,0.0)
^MEX_ORIENTATION_DESC = "MEX_ORIENTATION_DESC.TXT"
SPACECRAFT_POINTING_MODE = ACROSSTRACK
^MEX_POINTING_DESC = "MEX_POINTING_DESC.TXT"
RIGHT_ASCENSION = -1e+32
DECLINATION = -1e+32
OFFSET_ANGLE = 0.539
SPACECRAFT_SOLAR_DISTANCE = 2.43166e+08
TARGET_NAME = MARS
/* CAMERA DATA ELEMENTS */
DETECTOR_TEMPERATURE = 17.5549
FOCAL_PLANE_TEMPERATURE = 8.1755
INST_CMPRS_NAME = "DISCRETE COSINE TRANSFORMATION (DCT)"
INST_CMPRS_RATIO = 11.9662
INST_CMPRS_QUALITY = 0
INST_CMPRS_QUANTZ_TBL_ID = 0
INSTRUMENT_TEMPERATURE = 11.6418
LENS_TEMPERATURE = 8.5833
MACROPIXEL_SIZE = 2
MISSING_FRAMES = 0
PIXEL_SUBSAMPLING_FLAG = N
SIGNAL_CHAIN_ID = 3
/* RADIOMETRIC DATA ELEMENTS */
BANDWIDTH = 174.0
CENTER_FILTER_WAVELENGTH = 675.0
RADIANCE_OFFSET = 3.18312
RADIANCE_SCALING_FACTOR = 0.00618519
REFLECTANCE_SCALING_FACTOR = 0.000196718
MEX:REFLECTANCE_OFFSET = 0.101238
/* IMAGE OBJECT DEFINITIONS */
OBJECT = IMAGE
  INTERCHANGE_FORMAT = BINARY
  LINES = 9839
  LINE_SAMPLES = 3131
  SAMPLE_TYPE = UNSIGNED_INTEGER
  SAMPLE_BITS = 8
  BANDS = 1
  BAND_STORAGE_TYPE = BAND_SEQUENTIAL
  MAXIMUM = 255
  MEAN = 122.174
  MINIMUM = 1
  STANDARD_DEVIATION = 28.8266
END_OBJECT = IMAGE
/* MAP OBJECT DEFINITIONS */
OBJECT = IMAGE_MAP_PROJECTION
  ^DATA_SET_MAP_PROJECTION_CATALOG= "DSMAP.CAT"
  A_AXIS_RADIUS = 3396.0
  B_AXIS_RADIUS = 3396.0
  C_AXIS_RADIUS = 3396.0
  CENTER_LATITUDE = 0.0
  CENTER_LONGITUDE = 83.0
  COORDINATE_SYSTEM_NAME = PLANETOGRAPHIC
  COORDINATE_SYSTEM_TYPE = "BODY-FIXED ROTATING"
  EASTERNMOST_LONGITUDE = 83.5368
  FIRST_STANDARD_PARALLEL = "N/A"
  LINE_FIRST_PIXEL = 1
  LINE_LAST_PIXEL = 9839
  LINE_PROJECTION_OFFSET = -88641.75
  MAP_PROJECTION_ROTATION = 0.0
  MAP_PROJECTION_TYPE = SINUSOIDAL
  MAP_RESOLUTION = 2370.85521546667
  MAP_SCALE = 0.025
  MAXIMUM_LATITUDE = -37.4238
  MINIMUM_LATITUDE = -41.5458
  POSITIVE_LONGITUDE_DIRECTION = EAST
  REFERENCE_LATITUDE = "N/A"
  REFERENCE_LONGITUDE = "N/A"
  SAMPLE_FIRST_PIXEL = 1
  SAMPLE_LAST_PIXEL = 3131
  SAMPLE_PROJECTION_OFFSET = 2143.25
  SECOND_STANDARD_PARALLEL = "N/A"
  WESTERNMOST_LONGITUDE = 81.78489999999999
END_OBJECT = IMAGE_MAP_PROJECTION
END
