PDS_VERSION_ID = PDS3
/* FILE DATA ELEMENTS */
RECORD_TYPE = UNDEFINED
/* POINTERS TO DATA OBJECTS */
^IMAGE = ("HE753_0000_GR4.TIF")
/* IDENTIFICATION DATA ELEMENTS */
DATA_SET_ID = "MEX-M-HRSC-4-REFDR-MAPPROJECT-EXT5-V4.0"
DATA_SET_NAME = "MARS EXPRESS HRSC MAP PROJECTED REFDR EXTENSION5 V4.0"
DETECTOR_ID = MEX_HRSC_GREEN
EVENT_TYPE = "MARS-REGIONAL-MAPPING-Im-Fl-Pf"
INSTRUMENT_HOST_ID = MEX
INSTRUMENT_HOST_NAME = "MARS EXPRESS"
INSTRUMENT_ID = HRSC
INSTRUMENT_NAME = "HIGH RESOLUTION STEREO CAMERA"
MISSION_NAME = "MARS EXPRESS"
MISSION_PHASE_NAME = ME_Phase_33
PROCESSING_LEVEL_ID = 4
PRODUCT_CREATION_TIME = 2023-01-30T12:57:43.000Z
PRODUCT_ID = "HE753_0000_GR4.TIF"
RELEASE_ID = 0002
REVISION_ID = 0000
/* QUALITY DATA ELEMENTS */
DATA_QUALITY_ID = 1
DATA_QUALITY_DESC = "Data calculated based on original SPICE kernels"
/* TIME DATA ELEMENTS */
SPACECRAFT_CLOCK_START_COUNT = "1/0388100762.09059"
SPACECRAFT_CLOCK_STOP_COUNT = "1/0388100927.50663"
START_TIME = 2015-08-19T21:46:46.302Z
STOP_TIME = 2015-08-19T21:48:18.179Z
/* ORBITAL DATA ELEMENTS */
ASCENDING_NODE_LONGITUDE = 296.64
MAXIMUM_RESOLUTION = 0.0588
FOOTPRINT_POINT_LATITUDE = (-30.5939,-30.5934,-30.5925,-30.5908, -30.5891,-30.5866,-30.5848,-30.5826, -30.5825,-30.5839,-30.4087,-30.293, -30.1771,-30.0595,-29.8847,-29.7683, -29.652,-29.4775,-29.3614,-29.2454, -29.0714,-28.9553,-28.8395,-28.7236, -28.5498,-28.4341,-28.3185,-28.1452, -27.972,-27.8565,-27.7411,-27.6259, -27.4529,-27.3377,-27.2225,-27.1073, -26.9346,-26.8196,-26.59,-26.3606, -26.1887,-25.9598,-25.7317,-25.5605, -25.3317,-24.9893,-24.8728,-24.8143, -24.8002,-24.8015,-24.8027,-24.8033, -24.8046,-24.8047,-24.8044,-24.8036, -24.8033,-24.8043,-24.9791,-25.264, -25.4364,-25.7226,-25.9508,-26.18, -26.3521,-26.4671,-26.5818,-26.6966, -26.8697,-26.9853,-27.101,-27.2163, -27.3886,-27.5035,-27.6767,-27.7924, -27.908,-28.0237,-28.1394,-28.2549, -28.4286,-28.5446,-28.6606,-28.7766, -28.8928,-29.009,-29.1252,-29.2415, -29.3578,-29.474,-29.6486,-29.7651, -29.94,-30.0566,-30.1733,-30.2903, -30.4068,-30.5235,-30.5819,-30.5939)
FOOTPRINT_POINT_LONGITUDE = (133.358,133.194,132.988,132.713, 132.507,132.246,132.082,131.903,131.889 ,131.88,131.881,131.88,131.879,131.882, 131.883,131.884,131.884,131.885,131.885 ,131.885,131.886,131.886,131.886, 131.886,131.886,131.886,131.886,131.886 ,131.885,131.885,131.885,131.885, 131.884,131.884,131.884,131.884,131.884 ,131.884,131.882,131.881,131.88,131.879 ,131.876,131.874,131.874,131.872, 131.871,131.87,131.87,132.118,132.439, 132.585,132.79,133.039,133.215,133.42, 133.434,133.439,133.436,133.431,133.431 ,133.428,133.424,133.42,133.418,133.417 ,133.415,133.413,133.412,133.412, 133.412,133.41,133.407,133.404,133.402, 133.401,133.399,133.398,133.396,133.394 ,133.392,133.391,133.389,133.388, 133.386,133.385,133.384,133.382,133.38, 133.379,133.376,133.375,133.372,133.371 ,133.369,133.368,133.366,133.364, 133.363,133.358)
ORBIT_NUMBER = 14753
ORBITAL_ECCENTRICITY = 0.578
ORBITAL_INCLINATION = 86.9
ORBITAL_SEMIMAJOR_AXIS = 8810.17
PERIAPSIS_ALTITUDE = 329.84
PERIAPSIS_ARGUMENT_ANGLE = 315.04
PERIAPSIS_TIME = 2015-08-19T21:43:02.000Z
SPACECRAFT_ORIENTATION = (0.0,1.0,0.0)
^MEX_ORIENTATION_DESC = "MEX_ORIENTATION_DESC.TXT"
SPACECRAFT_POINTING_MODE = NADIR
^MEX_POINTING_DESC = "MEX_POINTING_DESC.TXT"
RIGHT_ASCENSION = -1e+32
DECLINATION = -1e+32
OFFSET_ANGLE = -1e+32
SPACECRAFT_SOLAR_DISTANCE = 2.43017e+08
TARGET_NAME = MARS
/* CAMERA DATA ELEMENTS */
DETECTOR_TEMPERATURE = 18.3705
FOCAL_PLANE_TEMPERATURE = 7.9716
INST_CMPRS_NAME = "DISCRETE COSINE TRANSFORMATION (DCT)"
INST_CMPRS_RATIO = 6.48104
INST_CMPRS_QUALITY = 0
INST_CMPRS_QUANTZ_TBL_ID = 0
INSTRUMENT_TEMPERATURE = 11.4379
LENS_TEMPERATURE = 8.3794
MACROPIXEL_SIZE = 4
MISSING_FRAMES = 0
PIXEL_SUBSAMPLING_FLAG = N
SIGNAL_CHAIN_ID = 2
/* RADIOMETRIC DATA ELEMENTS */
BANDWIDTH = 88.0
CENTER_FILTER_WAVELENGTH = 538.0
RADIANCE_OFFSET = 0.62375
RADIANCE_SCALING_FACTOR = 0.00474827
REFLECTANCE_SCALING_FACTOR = 0.000241434
MEX:REFLECTANCE_OFFSET = 0.0317156
/* IMAGE OBJECT DEFINITIONS */
OBJECT = IMAGE
  INTERCHANGE_FORMAT = BINARY
  LINES = 6863
  LINE_SAMPLES = 1683
  SAMPLE_TYPE = UNSIGNED_INTEGER
  SAMPLE_BITS = 8
  BANDS = 1
  BAND_STORAGE_TYPE = BAND_SEQUENTIAL
  MAXIMUM = 254
  MEAN = 146.092
  MINIMUM = 1
  STANDARD_DEVIATION = 20.1911
END_OBJECT = IMAGE
/* MAP OBJECT DEFINITIONS */
OBJECT = IMAGE_MAP_PROJECTION
  ^DATA_SET_MAP_PROJECTION_CATALOG= "DSMAP.CAT"
  A_AXIS_RADIUS = 3396.0
  B_AXIS_RADIUS = 3396.0
  C_AXIS_RADIUS = 3396.0
  CENTER_LATITUDE = 0.0
  CENTER_LONGITUDE = 133.0
  COORDINATE_SYSTEM_NAME = PLANETOGRAPHIC
  COORDINATE_SYSTEM_TYPE = "BODY-FIXED ROTATING"
  EASTERNMOST_LONGITUDE = 133.439
  FIRST_STANDARD_PARALLEL = "N/A"
  LINE_FIRST_PIXEL = 1
  LINE_LAST_PIXEL = 6863
  LINE_PROJECTION_OFFSET = -29407.375
  MAP_PROJECTION_ROTATION = 0.0
  MAP_PROJECTION_TYPE = SINUSOIDAL
  MAP_RESOLUTION = 1185.42760773333
  MAP_SCALE = 0.05
  MAXIMUM_LATITUDE = -24.8002
  MINIMUM_LATITUDE = -30.5939
  POSITIVE_LONGITUDE_DIRECTION = EAST
  REFERENCE_LATITUDE = "N/A"
  REFERENCE_LONGITUDE = "N/A"
  SAMPLE_FIRST_PIXEL = 1
  SAMPLE_LAST_PIXEL = 1683
  SAMPLE_PROJECTION_OFFSET = 1217.375
  SECOND_STANDARD_PARALLEL = "N/A"
  WESTERNMOST_LONGITUDE = 131.87
END_OBJECT = IMAGE_MAP_PROJECTION
END
