PDS_VERSION_ID = PDS3
/* FILE DATA ELEMENTS */
RECORD_TYPE = UNDEFINED
/* POINTERS TO DATA OBJECTS */
^IMAGE = ("HE751_0000_P24.TIF")
/* IDENTIFICATION DATA ELEMENTS */
DATA_SET_ID = "MEX-M-HRSC-4-REFDR-MAPPROJECT-EXT5-V4.0"
DATA_SET_NAME = "MARS EXPRESS HRSC MAP PROJECTED REFDR EXTENSION5 V4.0"
DETECTOR_ID = MEX_HRSC_P2
EVENT_TYPE = "MARS-REGIONAL-MAPPING-Im-Fl"
INSTRUMENT_HOST_ID = MEX
INSTRUMENT_HOST_NAME = "MARS EXPRESS"
INSTRUMENT_ID = HRSC
INSTRUMENT_NAME = "HIGH RESOLUTION STEREO CAMERA"
MISSION_NAME = "MARS EXPRESS"
MISSION_PHASE_NAME = ME_Phase_33
PROCESSING_LEVEL_ID = 4
PRODUCT_CREATION_TIME = 2023-01-30T12:57:43.000Z
PRODUCT_ID = "HE751_0000_P24.TIF"
RELEASE_ID = 0002
REVISION_ID = 0000
/* QUALITY DATA ELEMENTS */
DATA_QUALITY_ID = 1
DATA_QUALITY_DESC = "Data calculated based on original SPICE kernels"
/* TIME DATA ELEMENTS */
SPACECRAFT_CLOCK_START_COUNT = "1/0388050289.57759"
SPACECRAFT_CLOCK_STOP_COUNT = "1/0388050479.51204"
START_TIME = 2015-08-19T07:45:06.141Z
STOP_TIME = 2015-08-19T07:45:30.498Z
/* ORBITAL DATA ELEMENTS */
ASCENDING_NODE_LONGITUDE = 296.68
MAXIMUM_RESOLUTION = 0.0546
FOOTPRINT_POINT_LATITUDE = (-38.6236,-38.6195,-38.6152,-38.613, -38.6108,-38.6086,-38.6063,-38.604, -38.6016,-38.5992,-38.5968,-38.5943, -38.5918,-38.5892,-38.5866,-38.5839, -38.5813,-38.5785,-38.5758,-38.573, -38.5701,-38.5672,-38.5643,-38.5614, -38.5568,-38.5561,-38.5255,-38.4775, -38.3974,-38.3334,-38.2694,-38.1734, -38.1255,-38.0615,-37.9816,-37.9177, -37.8697,-37.8056,-37.7255,-37.6615, -37.6135,-37.5655,-37.5015,-37.4535, -37.3894,-37.3094,-37.2453,-37.1973, -37.1333,-37.0853,-37.0053,-36.9413, -36.9253,-36.9236,-36.9268,-36.9299, -36.9345,-36.937,-36.9409,-36.9442, -36.9468,-36.9502,-36.9528,-36.9573, -36.9597,-36.9622,-36.9652,-36.9676, -36.9699,-36.9722,-36.9745,-36.9767, -36.9789,-36.9817,-36.984,-36.986, -36.9892,-36.9885,-36.9895,-37.0872, -37.1677,-37.2477,-37.3439,-37.424, -37.504,-37.5841,-37.6802,-37.7604, -37.8406,-37.9207,-38.0168,-38.0968, -38.1769,-38.2731,-38.3533,-38.4334, -38.5136,-38.5777,-38.5937,-38.6236)
FOOTPRINT_POINT_LONGITUDE = (336.978,336.87,336.763,336.709,336.655 ,336.601,336.547,336.493,336.438, 336.384,336.329,336.275,336.22,336.165, 336.11,336.055,336.0,335.944,335.889, 335.833,335.778,335.722,335.666,335.61, 335.526,335.512,335.477,335.479,335.482 ,335.485,335.487,335.492,335.494, 335.496,335.5,335.503,335.505,335.507, 335.51,335.513,335.515,335.517,335.519, 335.521,335.524,335.527,335.529,335.531 ,335.533,335.535,335.538,335.541, 335.541,335.541,335.597,335.654,335.739 ,335.795,335.879,335.949,336.005, 336.075,336.13,336.228,336.283,336.338, 336.407,336.462,336.517,336.572,336.627 ,336.682,336.736,336.804,336.859, 336.913,337.008,337.021,337.026,337.023 ,337.021,337.018,337.015,337.013, 337.011,337.008,337.005,337.003,337.001 ,336.998,336.995,336.993,336.99,336.987 ,336.985,336.983,336.98,336.978,336.978 ,336.978)
ORBIT_NUMBER = 14751
ORBITAL_ECCENTRICITY = 0.578
ORBITAL_INCLINATION = 86.92
ORBITAL_SEMIMAJOR_AXIS = 8805.76
PERIAPSIS_ALTITUDE = 329.67
PERIAPSIS_ARGUMENT_ANGLE = 315.37
PERIAPSIS_TIME = 2015-08-19T07:43:55.000Z
SPACECRAFT_ORIENTATION = (0.0,1.0,0.0)
^MEX_ORIENTATION_DESC = "MEX_ORIENTATION_DESC.TXT"
SPACECRAFT_POINTING_MODE = ACROSSTRACK
^MEX_POINTING_DESC = "MEX_POINTING_DESC.TXT"
RIGHT_ASCENSION = -1e+32
DECLINATION = -1e+32
OFFSET_ANGLE = 0.6
SPACECRAFT_SOLAR_DISTANCE = 2.42941e+08
TARGET_NAME = MARS
/* CAMERA DATA ELEMENTS */
DETECTOR_TEMPERATURE = 0.0
FOCAL_PLANE_TEMPERATURE = 0.0
INST_CMPRS_NAME = "DISCRETE COSINE TRANSFORMATION (DCT)"
INST_CMPRS_RATIO = 7.5362
INST_CMPRS_QUALITY = 0
INST_CMPRS_QUANTZ_TBL_ID = 0
INSTRUMENT_TEMPERATURE = 0.0
LENS_TEMPERATURE = 0.0
MACROPIXEL_SIZE = 4
MISSING_FRAMES = 0
PIXEL_SUBSAMPLING_FLAG = N
SIGNAL_CHAIN_ID = 3
/* RADIOMETRIC DATA ELEMENTS */
BANDWIDTH = 177.0
CENTER_FILTER_WAVELENGTH = 676.5
RADIANCE_OFFSET = 1.9204
RADIANCE_SCALING_FACTOR = 0.0106416
REFLECTANCE_SCALING_FACTOR = 0.000333017
MEX:REFLECTANCE_OFFSET = 0.0600967
/* IMAGE OBJECT DEFINITIONS */
OBJECT = IMAGE
  INTERCHANGE_FORMAT = BINARY
  LINES = 434
  LINE_SAMPLES = 1418
  SAMPLE_TYPE = UNSIGNED_INTEGER
  SAMPLE_BITS = 8
  BANDS = 1
  BAND_STORAGE_TYPE = BAND_SEQUENTIAL
  MAXIMUM = 255
  MEAN = 132.118
  MINIMUM = 1
  STANDARD_DEVIATION = 17.9335
END_OBJECT = IMAGE
/* MAP OBJECT DEFINITIONS */
OBJECT = IMAGE_MAP_PROJECTION
  ^DATA_SET_MAP_PROJECTION_CATALOG= "DSMAP.CAT"
  A_AXIS_RADIUS = 3396.0
  B_AXIS_RADIUS = 3396.0
  C_AXIS_RADIUS = 3396.0
  CENTER_LATITUDE = 0.0
  CENTER_LONGITUDE = 336.0
  COORDINATE_SYSTEM_NAME = PLANETOGRAPHIC
  COORDINATE_SYSTEM_TYPE = "BODY-FIXED ROTATING"
  EASTERNMOST_LONGITUDE = 337.026
  FIRST_STANDARD_PARALLEL = "N/A"
  LINE_FIRST_PIXEL = 1
  LINE_LAST_PIXEL = 434
  LINE_PROJECTION_OFFSET = -45288.125
  MAP_PROJECTION_ROTATION = 0.0
  MAP_PROJECTION_TYPE = SINUSOIDAL
  MAP_RESOLUTION = 1185.42760773333
  MAP_SCALE = 0.05
  MAXIMUM_LATITUDE = -36.9236
  MINIMUM_LATITUDE = -38.6236
  POSITIVE_LONGITUDE_DIRECTION = EAST
  REFERENCE_LATITUDE = "N/A"
  REFERENCE_LONGITUDE = "N/A"
  SAMPLE_FIRST_PIXEL = 1
  SAMPLE_LAST_PIXEL = 1418
  SAMPLE_PROJECTION_OFFSET = 490.875
  SECOND_STANDARD_PARALLEL = "N/A"
  WESTERNMOST_LONGITUDE = 335.477
END_OBJECT = IMAGE_MAP_PROJECTION
END
