PDS_VERSION_ID = PDS3
/* FILE DATA ELEMENTS */
RECORD_TYPE = UNDEFINED
/* POINTERS TO DATA OBJECTS */
^IMAGE = ("HE751_0000_ND4.TIF")
/* IDENTIFICATION DATA ELEMENTS */
DATA_SET_ID = "MEX-M-HRSC-4-REFDR-MAPPROJECT-EXT5-V4.0"
DATA_SET_NAME = "MARS EXPRESS HRSC MAP PROJECTED REFDR EXTENSION5 V4.0"
DETECTOR_ID = MEX_HRSC_NADIR
EVENT_TYPE = "MARS-REGIONAL-MAPPING-Im-Fl"
INSTRUMENT_HOST_ID = MEX
INSTRUMENT_HOST_NAME = "MARS EXPRESS"
INSTRUMENT_ID = HRSC
INSTRUMENT_NAME = "HIGH RESOLUTION STEREO CAMERA"
MISSION_NAME = "MARS EXPRESS"
MISSION_PHASE_NAME = ME_Phase_33
PROCESSING_LEVEL_ID = 4
PRODUCT_CREATION_TIME = 2023-01-30T12:57:43.000Z
PRODUCT_ID = "HE751_0000_ND4.TIF"
RELEASE_ID = 0002
REVISION_ID = 0000
/* QUALITY DATA ELEMENTS */
DATA_QUALITY_ID = 1
DATA_QUALITY_DESC = "Data calculated based on original SPICE kernels"
/* TIME DATA ELEMENTS */
SPACECRAFT_CLOCK_START_COUNT = "1/0388050289.57759"
SPACECRAFT_CLOCK_STOP_COUNT = "1/0388050479.51204"
START_TIME = 2015-08-19T07:45:25.875Z
STOP_TIME = 2015-08-19T07:45:30.940Z
/* ORBITAL DATA ELEMENTS */
ASCENDING_NODE_LONGITUDE = 296.68
MAXIMUM_RESOLUTION = 0.0134
FOOTPRINT_POINT_LATITUDE = (-38.5697,-38.5687,-38.5677,-38.5667, -38.5656,-38.5646,-38.5634,-38.5623, -38.5611,-38.5598,-38.5586,-38.5573, -38.556,-38.5546,-38.5533,-38.5519, -38.5504,-38.549,-38.5474,-38.5459, -38.5443,-38.5435,-38.5427,-38.5419, -38.5411,-38.5402,-38.5394,-38.5385, -38.5377,-38.5368,-38.5359,-38.5355, -38.5334,-38.499,-38.452,-38.427, -38.402,-38.3613,-38.3362,-38.3112, -38.2768,-38.2517,-38.2079,-38.2048, -38.2034,-38.2042,-38.2051,-38.206, -38.2069,-38.2077,-38.2086,-38.2094, -38.2107,-38.2115,-38.2123,-38.2131, -38.2139,-38.2147,-38.2155,-38.2162, -38.217,-38.2177,-38.2185,-38.2192, -38.2199,-38.2207,-38.2214,-38.2221, -38.2228,-38.2234,-38.2245,-38.2251, -38.2258,-38.2264,-38.2271,-38.2277, -38.2283,-38.2295,-38.2313,-38.2327, -38.2338,-38.2346,-38.2357,-38.2367, -38.2377,-38.2379,-38.2383,-38.2633, -38.3072,-38.3323,-38.3574,-38.3919, -38.417,-38.4421,-38.4766,-38.5017, -38.5268,-38.5644,-38.5676,-38.5697)
FOOTPRINT_POINT_LONGITUDE = (336.985,336.928,336.87,336.813,336.756 ,336.698,336.641,336.583,336.525, 336.467,336.409,336.351,336.293,336.234 ,336.176,336.117,336.059,336.0,335.941, 335.882,335.823,335.793,335.763,335.733 ,335.704,335.674,335.644,335.614, 335.584,335.554,335.524,335.509,335.469 ,335.471,335.473,335.474,335.475, 335.476,335.477,335.478,335.48,335.481, 335.483,335.483,335.483,335.513,335.544 ,335.574,335.605,335.636,335.666, 335.696,335.742,335.772,335.803,335.833 ,335.863,335.893,335.923,335.953, 335.983,336.013,336.043,336.073,336.103 ,336.133,336.163,336.193,336.222, 336.252,336.297,336.327,336.356,336.386 ,336.416,336.445,336.475,336.534, 336.622,336.695,336.754,336.798,336.856 ,336.915,336.973,336.987,336.994, 336.994,336.992,336.991,336.991,336.99, 336.989,336.988,336.987,336.986,336.985 ,336.984,336.984,336.985)
ORBIT_NUMBER = 14751
ORBITAL_ECCENTRICITY = 0.578
ORBITAL_INCLINATION = 86.92
ORBITAL_SEMIMAJOR_AXIS = 8805.76
PERIAPSIS_ALTITUDE = 329.67
PERIAPSIS_ARGUMENT_ANGLE = 315.37
PERIAPSIS_TIME = 2015-08-19T07:43:55.000Z
SPACECRAFT_ORIENTATION = (0.0,1.0,0.0)
^MEX_ORIENTATION_DESC = "MEX_ORIENTATION_DESC.TXT"
SPACECRAFT_POINTING_MODE = ACROSSTRACK
^MEX_POINTING_DESC = "MEX_POINTING_DESC.TXT"
RIGHT_ASCENSION = -1e+32
DECLINATION = -1e+32
OFFSET_ANGLE = 0.6
SPACECRAFT_SOLAR_DISTANCE = 2.42941e+08
TARGET_NAME = MARS
/* CAMERA DATA ELEMENTS */
DETECTOR_TEMPERATURE = 0.0
FOCAL_PLANE_TEMPERATURE = 0.0
INST_CMPRS_NAME = "DISCRETE COSINE TRANSFORMATION (DCT)"
INST_CMPRS_RATIO = 5.76371
INST_CMPRS_QUALITY = 0
INST_CMPRS_QUANTZ_TBL_ID = 0
INSTRUMENT_TEMPERATURE = 0.0
LENS_TEMPERATURE = 0.0
MACROPIXEL_SIZE = 1
MISSING_FRAMES = 0
PIXEL_SUBSAMPLING_FLAG = N
SIGNAL_CHAIN_ID = 0
/* RADIOMETRIC DATA ELEMENTS */
BANDWIDTH = 177.0
CENTER_FILTER_WAVELENGTH = 677.5
RADIANCE_OFFSET = 1.49907
RADIANCE_SCALING_FACTOR = 0.0111696
REFLECTANCE_SCALING_FACTOR = 0.000350206
MEX:REFLECTANCE_OFFSET = 0.0470013
/* IMAGE OBJECT DEFINITIONS */
OBJECT = IMAGE
  INTERCHANGE_FORMAT = BINARY
  LINES = 1734
  LINE_SAMPLES = 5670
  SAMPLE_TYPE = UNSIGNED_INTEGER
  SAMPLE_BITS = 8
  BANDS = 1
  BAND_STORAGE_TYPE = BAND_SEQUENTIAL
  MAXIMUM = 254
  MEAN = 133.104
  MINIMUM = 1
  STANDARD_DEVIATION = 17.3829
END_OBJECT = IMAGE
/* MAP OBJECT DEFINITIONS */
OBJECT = IMAGE_MAP_PROJECTION
  ^DATA_SET_MAP_PROJECTION_CATALOG= "DSMAP.CAT"
  A_AXIS_RADIUS = 3396.0
  B_AXIS_RADIUS = 3396.0
  C_AXIS_RADIUS = 3396.0
  CENTER_LATITUDE = 0.0
  CENTER_LONGITUDE = 336.0
  COORDINATE_SYSTEM_NAME = PLANETOGRAPHIC
  COORDINATE_SYSTEM_TYPE = "BODY-FIXED ROTATING"
  EASTERNMOST_LONGITUDE = 336.994
  FIRST_STANDARD_PARALLEL = "N/A"
  LINE_FIRST_PIXEL = 1
  LINE_LAST_PIXEL = 1734
  LINE_PROJECTION_OFFSET = -181151.0
  MAP_PROJECTION_ROTATION = 0.0
  MAP_PROJECTION_TYPE = SINUSOIDAL
  MAP_RESOLUTION = 4741.71043093333
  MAP_SCALE = 0.0125
  MAXIMUM_LATITUDE = -38.2034
  MINIMUM_LATITUDE = -38.5697
  POSITIVE_LONGITUDE_DIRECTION = EAST
  REFERENCE_LATITUDE = "N/A"
  REFERENCE_LONGITUDE = "N/A"
  SAMPLE_FIRST_PIXEL = 1
  SAMPLE_LAST_PIXEL = 5670
  SAMPLE_PROJECTION_OFFSET = 1965.0
  SECOND_STANDARD_PARALLEL = "N/A"
  WESTERNMOST_LONGITUDE = 335.469
END_OBJECT = IMAGE_MAP_PROJECTION
END
