PDS_VERSION_ID = PDS3
/* FILE DATA ELEMENTS */
RECORD_TYPE = UNDEFINED
/* POINTERS TO DATA OBJECTS */
^IMAGE = ("HE729_0000_S14.TIF")
/* IDENTIFICATION DATA ELEMENTS */
DATA_SET_ID = "MEX-M-HRSC-4-REFDR-MAPPROJECT-EXT5-V4.0"
DATA_SET_NAME = "MARS EXPRESS HRSC MAP PROJECTED REFDR EXTENSION5 V4.0"
DETECTOR_ID = MEX_HRSC_S1
EVENT_TYPE = "MARS-REGIONAL-MAPPING-Fl-Gl-Pf"
INSTRUMENT_HOST_ID = MEX
INSTRUMENT_HOST_NAME = "MARS EXPRESS"
INSTRUMENT_ID = HRSC
INSTRUMENT_NAME = "HIGH RESOLUTION STEREO CAMERA"
MISSION_NAME = "MARS EXPRESS"
MISSION_PHASE_NAME = ME_Phase_33
PROCESSING_LEVEL_ID = 4
PRODUCT_CREATION_TIME = 2023-01-30T12:57:43.000Z
PRODUCT_ID = "HE729_0000_S14.TIF"
RELEASE_ID = 0002
REVISION_ID = 0000
/* QUALITY DATA ELEMENTS */
DATA_QUALITY_ID = 1
DATA_QUALITY_DESC = "Data calculated based on original SPICE kernels"
/* TIME DATA ELEMENTS */
SPACECRAFT_CLOCK_START_COUNT = "1/0387496400.08273"
SPACECRAFT_CLOCK_STOP_COUNT = "1/0387496604.58220"
START_TIME = 2015-08-12T21:54:25.890Z
STOP_TIME = 2015-08-12T21:56:48.967Z
/* ORBITAL DATA ELEMENTS */
ASCENDING_NODE_LONGITUDE = 297.09
MAXIMUM_RESOLUTION = 0.0285
FOOTPRINT_POINT_LATITUDE = (-43.4213,-43.412,-43.4003,-43.3914, -43.3911,-43.484,-43.298,-43.1102, -42.9234,-42.6448,-42.459,-42.1797, -41.9936,-41.8078,-41.6212,-41.4349, -41.2503,-41.065,-40.8785,-40.6937, -40.5083,-40.2301,-40.0446,-39.8587, -39.5799,-39.3026,-39.1174,-38.9331, -38.7489,-38.5639,-38.3798,-38.1047, -37.9212,-37.7381,-37.4628,-37.1874, -37.0038,-36.8196,-36.6362,-36.3626, -36.1802,-35.9962,-35.813,-35.4489, -35.1773,-34.9937,-34.8056,-34.5245, -34.3361,-34.2421,-34.208,-34.2099, -34.2177,-34.2193,-34.2191,-34.2192, -34.2197,-34.4064,-34.5951,-34.8779, -35.1625,-35.5284,-35.8882,-36.2531, -36.4392,-36.6239,-36.8079,-36.9909, -37.174,-37.4504,-37.727,-37.9114, -38.0954,-38.279,-38.464,-38.7409, -39.0183,-39.2032,-39.3886,-39.6665, -39.8517,-40.0372,-40.2228,-40.4082, -40.6863,-40.8727,-41.0593,-41.2452, -41.4304,-41.7083,-41.9888,-42.1761, -42.3623,-42.5476,-42.7356,-43.0164, -43.2038,-43.391,-43.4844,-43.4213)
FOOTPRINT_POINT_LONGITUDE = (67.2344,66.6793,66.0946,65.7044, 65.6894,65.64,65.65,65.6606,65.6707, 65.6847,65.6939,65.7078,65.7168,65.7256 ,65.7346,65.7433,65.7512,65.7593, 65.7677,65.7753,65.7831,65.7945,65.8021 ,65.8097,65.8209,65.8312,65.838,65.8445 ,65.8508,65.8573,65.8633,65.8718, 65.8774,65.8827,65.8909,65.8988,65.9041 ,65.9095,65.9145,65.9213,65.9257, 65.9307,65.9353,65.9434,65.9488,65.9512 ,65.9551,65.9605,65.9645,65.9663, 65.9674,66.4136,66.7293,67.1321,67.4334 ,67.4478,67.4529,67.4498,67.4472, 67.4432,67.4396,67.434,67.4261,67.4197, 67.4177,67.4152,67.4123,67.4089,67.4055 ,67.4009,67.3962,67.393,67.3895,67.3858 ,67.3826,67.3774,67.3721,67.3685,67.365 ,67.3595,67.3557,67.352,67.3482,67.3442 ,67.3381,67.3344,67.3306,67.3264, 67.3219,67.3151,67.309,67.305,67.3005, 67.2955,67.2915,67.2849,67.2804,67.2758 ,67.2734,67.2344)
ORBIT_NUMBER = 14729
ORBITAL_ECCENTRICITY = 0.578
ORBITAL_INCLINATION = 86.93
ORBITAL_SEMIMAJOR_AXIS = 8816.26
PERIAPSIS_ALTITUDE = 329.72
PERIAPSIS_ARGUMENT_ANGLE = 319.15
PERIAPSIS_TIME = 2015-08-12T21:54:38.000Z
SPACECRAFT_ORIENTATION = (0.0,1.0,0.0)
^MEX_ORIENTATION_DESC = "MEX_ORIENTATION_DESC.TXT"
SPACECRAFT_POINTING_MODE = NADIR
^MEX_POINTING_DESC = "MEX_POINTING_DESC.TXT"
RIGHT_ASCENSION = -1e+32
DECLINATION = -1e+32
OFFSET_ANGLE = -1e+32
SPACECRAFT_SOLAR_DISTANCE = 2.42086e+08
TARGET_NAME = MARS
/* CAMERA DATA ELEMENTS */
DETECTOR_TEMPERATURE = 17.5549
FOCAL_PLANE_TEMPERATURE = 7.9716
INST_CMPRS_NAME = "DISCRETE COSINE TRANSFORMATION (DCT)"
INST_CMPRS_RATIO = 10.804
INST_CMPRS_QUALITY = 0
INST_CMPRS_QUANTZ_TBL_ID = 0
INSTRUMENT_TEMPERATURE = 11.4379
LENS_TEMPERATURE = 8.3794
MACROPIXEL_SIZE = 2
MISSING_FRAMES = 0
PIXEL_SUBSAMPLING_FLAG = N
SIGNAL_CHAIN_ID = 1
/* RADIOMETRIC DATA ELEMENTS */
BANDWIDTH = 180.0
CENTER_FILTER_WAVELENGTH = 677.0
RADIANCE_OFFSET = 3.5814
RADIANCE_SCALING_FACTOR = 0.00794635
REFLECTANCE_SCALING_FACTOR = 0.000242969
MEX:REFLECTANCE_OFFSET = 0.109505
/* IMAGE OBJECT DEFINITIONS */
OBJECT = IMAGE
  INTERCHANGE_FORMAT = BINARY
  LINES = 22106
  LINE_SAMPLES = 3198
  SAMPLE_TYPE = UNSIGNED_INTEGER
  SAMPLE_BITS = 8
  BANDS = 1
  BAND_STORAGE_TYPE = BAND_SEQUENTIAL
  MAXIMUM = 255
  MEAN = 134.025
  MINIMUM = 1
  STANDARD_DEVIATION = 49.4981
END_OBJECT = IMAGE
/* MAP OBJECT DEFINITIONS */
OBJECT = IMAGE_MAP_PROJECTION
  ^DATA_SET_MAP_PROJECTION_CATALOG= "DSMAP.CAT"
  A_AXIS_RADIUS = 3396.0
  B_AXIS_RADIUS = 3396.0
  C_AXIS_RADIUS = 3396.0
  CENTER_LATITUDE = 0.0
  CENTER_LONGITUDE = 67.0
  COORDINATE_SYSTEM_NAME = PLANETOGRAPHIC
  COORDINATE_SYSTEM_TYPE = "BODY-FIXED ROTATING"
  EASTERNMOST_LONGITUDE = 67.4529
  FIRST_STANDARD_PARALLEL = "N/A"
  LINE_FIRST_PIXEL = 1
  LINE_LAST_PIXEL = 22106
  LINE_PROJECTION_OFFSET = -81016.25
  MAP_PROJECTION_ROTATION = 0.0
  MAP_PROJECTION_TYPE = SINUSOIDAL
  MAP_RESOLUTION = 2370.85521546667
  MAP_SCALE = 0.025
  MAXIMUM_LATITUDE = -34.208
  MINIMUM_LATITUDE = -43.4844
  POSITIVE_LONGITUDE_DIRECTION = EAST
  REFERENCE_LATITUDE = "N/A"
  REFERENCE_LONGITUDE = "N/A"
  SAMPLE_FIRST_PIXEL = 1
  SAMPLE_LAST_PIXEL = 3198
  SAMPLE_PROJECTION_OFFSET = 2347.25
  SECOND_STANDARD_PARALLEL = "N/A"
  WESTERNMOST_LONGITUDE = 65.64
END_OBJECT = IMAGE_MAP_PROJECTION
END
