PDS_VERSION_ID = PDS3
/* FILE DATA ELEMENTS */
RECORD_TYPE = UNDEFINED
/* POINTERS TO DATA OBJECTS */
^IMAGE = ("HE729_0000_BL4.TIF")
/* IDENTIFICATION DATA ELEMENTS */
DATA_SET_ID = "MEX-M-HRSC-4-REFDR-MAPPROJECT-EXT5-V4.0"
DATA_SET_NAME = "MARS EXPRESS HRSC MAP PROJECTED REFDR EXTENSION5 V4.0"
DETECTOR_ID = MEX_HRSC_BLUE
EVENT_TYPE = "MARS-REGIONAL-MAPPING-Fl-Gl-Pf"
INSTRUMENT_HOST_ID = MEX
INSTRUMENT_HOST_NAME = "MARS EXPRESS"
INSTRUMENT_ID = HRSC
INSTRUMENT_NAME = "HIGH RESOLUTION STEREO CAMERA"
MISSION_NAME = "MARS EXPRESS"
MISSION_PHASE_NAME = ME_Phase_33
PROCESSING_LEVEL_ID = 4
PRODUCT_CREATION_TIME = 2023-01-30T12:57:43.000Z
PRODUCT_ID = "HE729_0000_BL4.TIF"
RELEASE_ID = 0002
REVISION_ID = 0000
/* QUALITY DATA ELEMENTS */
DATA_QUALITY_ID = 1
DATA_QUALITY_DESC = "Data calculated based on original SPICE kernels"
/* TIME DATA ELEMENTS */
SPACECRAFT_CLOCK_START_COUNT = "1/0387496400.08273"
SPACECRAFT_CLOCK_STOP_COUNT = "1/0387496604.58220"
START_TIME = 2015-08-12T21:53:51.369Z
STOP_TIME = 2015-08-12T21:56:13.279Z
/* ORBITAL DATA ELEMENTS */
ASCENDING_NODE_LONGITUDE = 297.09
MAXIMUM_RESOLUTION = 0.1074
FOOTPRINT_POINT_LATITUDE = (-43.4977,-43.4888,-43.4757,-43.4649, -43.4645,-43.4435,-43.076,-42.7079, -42.5238,-42.2477,-42.0636,-41.8795, -41.6953,-41.4191,-41.2347,-41.0503, -40.774,-40.5896,-40.4053,-40.2209, -40.0366,-39.7602,-39.4836,-39.2993, -39.1149,-38.9304,-38.6536,-38.4692, -38.2846,-38.1,-37.9154,-37.6384, -37.3617,-37.1771,-36.9927,-36.8084, -36.624,-36.4393,-36.2548,-36.0704, -35.7019,-35.5172,-35.3329,-35.1479, -34.9631,-34.7787,-34.5944,-34.3182, -34.2263,-34.1559,-34.1618,-34.1662, -34.1689,-34.1733,-34.1734,-34.1751, -34.4521,-34.7287,-34.9133,-35.0977, -35.2819,-35.4667,-35.6521,-35.8372, -36.0223,-36.2071,-36.3916,-36.5758, -36.7605,-37.0379,-37.3153,-37.5923, -37.7771,-38.0544,-38.2394,-38.5166, -38.7939,-39.0711,-39.256,-39.5331, -39.718,-39.9028,-40.0875,-40.2723, -40.5494,-40.7343,-40.9188,-41.1035, -41.3806,-41.5654,-41.8423,-42.0267, -42.2112,-42.3958,-42.5805,-42.949, -43.1333,-43.3175,-43.4097,-43.4977)
FOOTPRINT_POINT_LONGITUDE = (67.2303,66.7109,66.1198,65.7159, 65.7015,65.6566,65.6777,65.6974,65.707, 65.7213,65.7306,65.7398,65.7489,65.7625 ,65.7707,65.7791,65.7918,65.7998, 65.8079,65.8157,65.8236,65.8353,65.8465 ,65.8539,65.8611,65.8679,65.8779, 65.8846,65.8907,65.8969,65.9029,65.9114 ,65.9202,65.9259,65.9315,65.9372, 65.9427,65.9476,65.9524,65.9574,65.9678 ,65.9718,65.9764,65.9797,65.9831, 65.9872,65.9911,65.9974,65.9996,66.0011 ,66.3222,66.6441,66.994,67.4092,67.4225 ,67.4314,67.4275,67.4245,67.4222, 67.4202,67.4186,67.4158,67.412,67.4087, 67.4053,67.4027,67.4004,67.3989,67.3964 ,67.3919,67.3874,67.3835,67.3807, 67.3762,67.3729,67.3685,67.3637,67.3591 ,67.3559,67.3511,67.3477,67.3444,67.341 ,67.3376,67.3324,67.3285,67.3253, 67.3218,67.3158,67.3118,67.306,67.3026, 67.2987,67.2945,67.2901,67.2827,67.2787 ,67.2747,67.2726,67.2303)
ORBIT_NUMBER = 14729
ORBITAL_ECCENTRICITY = 0.578
ORBITAL_INCLINATION = 86.93
ORBITAL_SEMIMAJOR_AXIS = 8816.26
PERIAPSIS_ALTITUDE = 329.72
PERIAPSIS_ARGUMENT_ANGLE = 319.15
PERIAPSIS_TIME = 2015-08-12T21:54:38.000Z
SPACECRAFT_ORIENTATION = (0.0,1.0,0.0)
^MEX_ORIENTATION_DESC = "MEX_ORIENTATION_DESC.TXT"
SPACECRAFT_POINTING_MODE = NADIR
^MEX_POINTING_DESC = "MEX_POINTING_DESC.TXT"
RIGHT_ASCENSION = -1e+32
DECLINATION = -1e+32
OFFSET_ANGLE = -1e+32
SPACECRAFT_SOLAR_DISTANCE = 2.42086e+08
TARGET_NAME = MARS
/* CAMERA DATA ELEMENTS */
DETECTOR_TEMPERATURE = 18.5744
FOCAL_PLANE_TEMPERATURE = 7.9716
INST_CMPRS_NAME = "DISCRETE COSINE TRANSFORMATION (DCT)"
INST_CMPRS_RATIO = 25.0397
INST_CMPRS_QUALITY = 0
INST_CMPRS_QUANTZ_TBL_ID = 0
INSTRUMENT_TEMPERATURE = 11.4379
LENS_TEMPERATURE = 8.3794
MACROPIXEL_SIZE = 8
MISSING_FRAMES = 0
PIXEL_SUBSAMPLING_FLAG = N
SIGNAL_CHAIN_ID = 2
/* RADIOMETRIC DATA ELEMENTS */
BANDWIDTH = 76.0
CENTER_FILTER_WAVELENGTH = 444.0
RADIANCE_OFFSET = 0.581175
RADIANCE_SCALING_FACTOR = 0.000596912
REFLECTANCE_SCALING_FACTOR = 3.59423e-05
MEX:REFLECTANCE_OFFSET = 0.0349947
/* IMAGE OBJECT DEFINITIONS */
OBJECT = IMAGE
  INTERCHANGE_FORMAT = BINARY
  LINES = 5527
  LINE_SAMPLES = 800
  SAMPLE_TYPE = UNSIGNED_INTEGER
  SAMPLE_BITS = 8
  BANDS = 1
  BAND_STORAGE_TYPE = BAND_SEQUENTIAL
  MAXIMUM = 255
  MEAN = 133.094
  MINIMUM = 12
  STANDARD_DEVIATION = 38.5458
END_OBJECT = IMAGE
/* MAP OBJECT DEFINITIONS */
OBJECT = IMAGE_MAP_PROJECTION
  ^DATA_SET_MAP_PROJECTION_CATALOG= "DSMAP.CAT"
  A_AXIS_RADIUS = 3396.0
  B_AXIS_RADIUS = 3396.0
  C_AXIS_RADIUS = 3396.0
  CENTER_LATITUDE = 0.0
  CENTER_LONGITUDE = 67.0
  COORDINATE_SYSTEM_NAME = PLANETOGRAPHIC
  COORDINATE_SYSTEM_TYPE = "BODY-FIXED ROTATING"
  EASTERNMOST_LONGITUDE = 67.4314
  FIRST_STANDARD_PARALLEL = "N/A"
  LINE_FIRST_PIXEL = 1
  LINE_LAST_PIXEL = 5527
  LINE_PROJECTION_OFFSET = -20254.4375
  MAP_PROJECTION_ROTATION = 0.0
  MAP_PROJECTION_TYPE = SINUSOIDAL
  MAP_RESOLUTION = 592.713803866667
  MAP_SCALE = 0.1
  MAXIMUM_LATITUDE = -34.1559
  MINIMUM_LATITUDE = -43.4977
  POSITIVE_LONGITUDE_DIRECTION = EAST
  REFERENCE_LATITUDE = "N/A"
  REFERENCE_LONGITUDE = "N/A"
  SAMPLE_FIRST_PIXEL = 1
  SAMPLE_LAST_PIXEL = 800
  SAMPLE_PROJECTION_OFFSET = 586.4375
  SECOND_STANDARD_PARALLEL = "N/A"
  WESTERNMOST_LONGITUDE = 65.6566
END_OBJECT = IMAGE_MAP_PROJECTION
END
