PDS_VERSION_ID = PDS3
/* FILE DATA ELEMENTS */
RECORD_TYPE = UNDEFINED
/* POINTERS TO DATA OBJECTS */
^IMAGE = ("HE716_0000_GR4.TIF")
/* IDENTIFICATION DATA ELEMENTS */
DATA_SET_ID = "MEX-M-HRSC-4-REFDR-MAPPROJECT-EXT5-V4.0"
DATA_SET_NAME = "MARS EXPRESS HRSC MAP PROJECTED REFDR EXTENSION5 V4.0"
DETECTOR_ID = MEX_HRSC_GREEN
EVENT_TYPE = "MARS-REGIONAL-MAPPING-Im-Fl"
INSTRUMENT_HOST_ID = MEX
INSTRUMENT_HOST_NAME = "MARS EXPRESS"
INSTRUMENT_ID = HRSC
INSTRUMENT_NAME = "HIGH RESOLUTION STEREO CAMERA"
MISSION_NAME = "MARS EXPRESS"
MISSION_PHASE_NAME = ME_Phase_33
PROCESSING_LEVEL_ID = 4
PRODUCT_CREATION_TIME = 2023-01-30T12:57:43.000Z
PRODUCT_ID = "HE716_0000_GR4.TIF"
RELEASE_ID = 0002
REVISION_ID = 0000
/* QUALITY DATA ELEMENTS */
DATA_QUALITY_ID = 1
DATA_QUALITY_DESC = "Data calculated based on original SPICE kernels"
/* TIME DATA ELEMENTS */
SPACECRAFT_CLOCK_START_COUNT = "1/0387169264.08264"
SPACECRAFT_CLOCK_STOP_COUNT = "1/0387169505.25592"
START_TIME = 2015-08-09T03:01:44.977Z
STOP_TIME = 2015-08-09T03:04:40.515Z
/* ORBITAL DATA ELEMENTS */
ASCENDING_NODE_LONGITUDE = 297.34
MAXIMUM_RESOLUTION = 0.1055
FOOTPRINT_POINT_LATITUDE = (-36.087,-36.0805,-36.0742,-36.0679, -36.0676,-36.0717,-35.7351,-35.2863, -35.0619,-34.8381,-34.6142,-34.2785, -34.0549,-33.8312,-33.3841,-32.8257, -32.268,-31.822,-31.4792,-31.249, -31.0189,-30.7889,-30.5597,-30.3293, -30.0997,-29.8702,-29.5262,-29.1824, -28.9535,-28.725,-28.496,-28.2676, -28.0393,-27.811,-27.5829,-27.3549, -27.1272,-26.9001,-26.6724,-26.4443, -26.2171,-25.99,-25.6495,-25.3094, -25.0829,-24.8566,-24.7436,-24.7131, -24.7157,-24.7167,-24.7166,-24.7166, -24.7182,-24.9446,-25.1712,-25.398, -25.6249,-25.8524,-26.1933,-26.4208, -26.6485,-26.8764,-27.2185,-27.4467, -27.6751,-27.9036,-28.1323,-28.3611, -28.59,-28.8191,-29.0483,-29.2776, -29.5071,-29.7367,-29.9664,-30.1962, -30.4262,-30.6563,-30.8865,-31.1168, -31.3472,-31.5776,-31.8067,-32.2533, -32.5885,-33.0355,-33.3712,-33.5949, -33.8191,-34.0428,-34.2668,-34.491, -34.7151,-34.9394,-35.1638,-35.5005, -35.7248,-35.9491,-36.0614,-36.087)
FOOTPRINT_POINT_LONGITUDE = (316.531,315.933,315.517,315.164, 315.151,315.126,315.137,315.151,315.158 ,315.164,315.169,315.177,315.182, 315.187,315.196,315.207,315.216,315.224 ,315.229,315.232,315.236,315.239,315.24 ,315.245,315.248,315.25,315.254,315.257 ,315.259,315.26,315.262,315.263,315.264 ,315.266,315.267,315.268,315.268, 315.268,315.269,315.271,315.271,315.272 ,315.273,315.273,315.273,315.273, 315.273,315.273,315.81,316.307,316.648, 316.661,316.67,316.668,316.666,316.664, 316.662,316.661,316.658,316.656,316.653 ,316.652,316.649,316.646,316.644, 316.642,316.64,316.637,316.635,316.633, 316.631,316.628,316.626,316.623,316.621 ,316.618,316.616,316.613,316.611, 316.608,316.605,316.602,316.6,316.594, 316.59,316.584,316.58,316.577,316.574, 316.57,316.567,316.564,316.561,316.558, 316.555,316.55,316.546,316.542,316.541, 316.531)
ORBIT_NUMBER = 14716
ORBITAL_ECCENTRICITY = 0.578
ORBITAL_INCLINATION = 86.92
ORBITAL_SEMIMAJOR_AXIS = 8815.69
PERIAPSIS_ALTITUDE = 330.88
PERIAPSIS_ARGUMENT_ANGLE = 321.39
PERIAPSIS_TIME = 2015-08-09T03:01:03.000Z
SPACECRAFT_ORIENTATION = (0.0,1.0,0.0)
^MEX_ORIENTATION_DESC = "MEX_ORIENTATION_DESC.TXT"
SPACECRAFT_POINTING_MODE = ACROSSTRACK
^MEX_POINTING_DESC = "MEX_POINTING_DESC.TXT"
RIGHT_ASCENSION = -1e+32
DECLINATION = -1e+32
OFFSET_ANGLE = 0.1
SPACECRAFT_SOLAR_DISTANCE = 2.41559e+08
TARGET_NAME = MARS
/* CAMERA DATA ELEMENTS */
DETECTOR_TEMPERATURE = 18.5744
FOCAL_PLANE_TEMPERATURE = 7.9716
INST_CMPRS_NAME = "DISCRETE COSINE TRANSFORMATION (DCT)"
INST_CMPRS_RATIO = 17.0621
INST_CMPRS_QUALITY = 0
INST_CMPRS_QUANTZ_TBL_ID = 0
INSTRUMENT_TEMPERATURE = 11.4379
LENS_TEMPERATURE = 8.3794
MACROPIXEL_SIZE = 8
MISSING_FRAMES = 0
PIXEL_SUBSAMPLING_FLAG = N
SIGNAL_CHAIN_ID = 2
/* RADIOMETRIC DATA ELEMENTS */
BANDWIDTH = 88.0
CENTER_FILTER_WAVELENGTH = 538.0
RADIANCE_OFFSET = 0.59182
RADIANCE_SCALING_FACTOR = 0.00359734
REFLECTANCE_SCALING_FACTOR = 0.000180725
MEX:REFLECTANCE_OFFSET = 0.0297321
/* IMAGE OBJECT DEFINITIONS */
OBJECT = IMAGE
  INTERCHANGE_FORMAT = BINARY
  LINES = 6750
  LINE_SAMPLES = 786
  SAMPLE_TYPE = UNSIGNED_INTEGER
  SAMPLE_BITS = 8
  BANDS = 1
  BAND_STORAGE_TYPE = BAND_SEQUENTIAL
  MAXIMUM = 255
  MEAN = 139.59
  MINIMUM = 1
  STANDARD_DEVIATION = 16.7858
END_OBJECT = IMAGE
/* MAP OBJECT DEFINITIONS */
OBJECT = IMAGE_MAP_PROJECTION
  ^DATA_SET_MAP_PROJECTION_CATALOG= "DSMAP.CAT"
  A_AXIS_RADIUS = 3396.0
  B_AXIS_RADIUS = 3396.0
  C_AXIS_RADIUS = 3396.0
  CENTER_LATITUDE = 0.0
  CENTER_LONGITUDE = 316.0
  COORDINATE_SYSTEM_NAME = PLANETOGRAPHIC
  COORDINATE_SYSTEM_TYPE = "BODY-FIXED ROTATING"
  EASTERNMOST_LONGITUDE = 316.67
  FIRST_STANDARD_PARALLEL = "N/A"
  LINE_FIRST_PIXEL = 1
  LINE_LAST_PIXEL = 6750
  LINE_PROJECTION_OFFSET = -14649.5625
  MAP_PROJECTION_ROTATION = 0.0
  MAP_PROJECTION_TYPE = SINUSOIDAL
  MAP_RESOLUTION = 592.713803866667
  MAP_SCALE = 0.1
  MAXIMUM_LATITUDE = -24.7131
  MINIMUM_LATITUDE = -36.087
  POSITIVE_LONGITUDE_DIRECTION = EAST
  REFERENCE_LATITUDE = "N/A"
  REFERENCE_LONGITUDE = "N/A"
  SAMPLE_FIRST_PIXEL = 1
  SAMPLE_LAST_PIXEL = 786
  SAMPLE_PROJECTION_OFFSET = 426.1875
  SECOND_STANDARD_PARALLEL = "N/A"
  WESTERNMOST_LONGITUDE = 315.126
END_OBJECT = IMAGE_MAP_PROJECTION
END
