PDS_VERSION_ID = PDS3
/* FILE DATA ELEMENTS */
RECORD_TYPE = UNDEFINED
/* POINTERS TO DATA OBJECTS */
^IMAGE = ("HE695_0000_IR4.TIF")
/* IDENTIFICATION DATA ELEMENTS */
DATA_SET_ID = "MEX-M-HRSC-4-REFDR-MAPPROJECT-EXT5-V4.0"
DATA_SET_NAME = "MARS EXPRESS HRSC MAP PROJECTED REFDR EXTENSION5 V4.0"
DETECTOR_ID = MEX_HRSC_IR
EVENT_TYPE = "MARS-REGIONAL-MAPPING-Vo-Lc-La"
INSTRUMENT_HOST_ID = MEX
INSTRUMENT_HOST_NAME = "MARS EXPRESS"
INSTRUMENT_ID = HRSC
INSTRUMENT_NAME = "HIGH RESOLUTION STEREO CAMERA"
MISSION_NAME = "MARS EXPRESS"
MISSION_PHASE_NAME = ME_Phase_33
PROCESSING_LEVEL_ID = 4
PRODUCT_CREATION_TIME = 2023-01-30T12:57:43.000Z
PRODUCT_ID = "HE695_0000_IR4.TIF"
RELEASE_ID = 0002
REVISION_ID = 0000
/* QUALITY DATA ELEMENTS */
DATA_QUALITY_ID = 1
DATA_QUALITY_DESC = "Data calculated based on original SPICE kernels"
/* TIME DATA ELEMENTS */
SPACECRAFT_CLOCK_START_COUNT = "1/0386640885.07331"
SPACECRAFT_CLOCK_STOP_COUNT = "1/0386641122.62951"
START_TIME = 2015-08-03T00:15:57.419Z
STOP_TIME = 2015-08-03T00:18:38.008Z
/* ORBITAL DATA ELEMENTS */
ASCENDING_NODE_LONGITUDE = 297.73
MAXIMUM_RESOLUTION = 0.1357
FOOTPRINT_POINT_LATITUDE = (-17.3282,-17.3233,-17.3201,-17.317, -17.3138,-17.3107,-17.3075,-17.3073, -17.3051,-17.0484,-16.5229,-16.1718, -15.8251,-15.5673,-15.3828,-15.0581, -14.6991,-14.3388,-14.1513,-13.9584, -13.7732,-13.5781,-13.3882,-13.2023, -13.0176,-12.8328,-12.6444,-12.4563, -12.2686,-11.9875,-11.7011,-11.5102, -11.3194,-11.1291,-10.8387,-10.6451, -10.4517,-10.2587,-10.0661,-9.874, -9.58599,-9.3945,-9.20243,-9.01124, -8.82419,-8.63501,-8.44469,-8.25479, -8.06528,-7.97069,-7.95862,-7.96702, -7.96684,-7.96275,-7.9639,-7.96628, -7.96802,-7.96976,-7.96977,-7.97195, -8.25516,-8.44427,-8.64075,-8.83526, -9.02359,-9.20822,-9.39877,-9.59023, -9.78217,-9.98129,-10.167,-10.3588, -10.552,-10.8477,-11.1344,-11.3249, -11.6116,-11.8026,-11.9936,-12.181, -12.4636,-12.6519,-12.933,-13.3023, -13.4869,-13.6719,-13.8564,-14.0572, -14.2574,-14.5874,-14.7749,-15.1565, -15.4245,-15.8415,-16.1872,-16.5377, -16.8027,-17.234,-17.32,-17.3282)
FOOTPRINT_POINT_LONGITUDE = (304.779,304.425,304.201,303.977, 303.755,303.535,303.315,303.301,303.294 ,303.289,303.279,303.272,303.264, 303.257,303.254,303.242,303.234,303.225 ,303.221,303.218,303.214,303.211, 303.207,303.202,303.197,303.192,303.187 ,303.182,303.177,303.169,303.161, 303.156,303.151,303.145,303.136,303.131 ,303.125,303.119,303.113,303.107, 303.098,303.091,303.085,303.079,303.072 ,303.066,303.059,303.053,303.047, 303.043,303.043,303.339,303.573,303.823 ,304.075,304.328,304.566,304.804, 304.821,304.833,304.83,304.828,304.83, 304.831,304.828,304.822,304.82,304.819, 304.817,304.82,304.814,304.812,304.81, 304.811,304.807,304.805,304.804,304.803 ,304.801,304.8,304.799,304.798,304.797, 304.795,304.794,304.793,304.793,304.805 ,304.816,304.792,304.795,304.81,304.81, 304.788,304.784,304.782,304.782,304.78, 304.78,304.779)
ORBIT_NUMBER = 14695
ORBITAL_ECCENTRICITY = 0.578
ORBITAL_INCLINATION = 86.91
ORBITAL_SEMIMAJOR_AXIS = 8823.91
PERIAPSIS_ALTITUDE = 331.54
PERIAPSIS_ARGUMENT_ANGLE = 325.0
PERIAPSIS_TIME = 2015-08-03T00:10:55.000Z
SPACECRAFT_ORIENTATION = (0.0,1.0,0.0)
^MEX_ORIENTATION_DESC = "MEX_ORIENTATION_DESC.TXT"
SPACECRAFT_POINTING_MODE = ACROSSTRACK
^MEX_POINTING_DESC = "MEX_POINTING_DESC.TXT"
RIGHT_ASCENSION = -1e+32
DECLINATION = -1e+32
OFFSET_ANGLE = -0.5
SPACECRAFT_SOLAR_DISTANCE = 2.40675e+08
TARGET_NAME = MARS
/* CAMERA DATA ELEMENTS */
DETECTOR_TEMPERATURE = 17.7588
FOCAL_PLANE_TEMPERATURE = 8.1755
INST_CMPRS_NAME = "DISCRETE COSINE TRANSFORMATION (DCT)"
INST_CMPRS_RATIO = 16.1942
INST_CMPRS_QUALITY = 0
INST_CMPRS_QUANTZ_TBL_ID = 0
INSTRUMENT_TEMPERATURE = 11.6418
LENS_TEMPERATURE = 8.5833
MACROPIXEL_SIZE = 8
MISSING_FRAMES = 0
PIXEL_SUBSAMPLING_FLAG = N
SIGNAL_CHAIN_ID = 2
/* RADIOMETRIC DATA ELEMENTS */
BANDWIDTH = 81.0
CENTER_FILTER_WAVELENGTH = 955.5
RADIANCE_OFFSET = 0.354718
RADIANCE_SCALING_FACTOR = 0.00387507
REFLECTANCE_SCALING_FACTOR = 0.000484248
MEX:REFLECTANCE_OFFSET = 0.0443274
/* IMAGE OBJECT DEFINITIONS */
OBJECT = IMAGE
  INTERCHANGE_FORMAT = BINARY
  LINES = 5562
  LINE_SAMPLES = 995
  SAMPLE_TYPE = UNSIGNED_INTEGER
  SAMPLE_BITS = 8
  BANDS = 1
  BAND_STORAGE_TYPE = BAND_SEQUENTIAL
  MAXIMUM = 254
  MEAN = 107.214
  MINIMUM = 1
  STANDARD_DEVIATION = 20.6426
END_OBJECT = IMAGE
/* MAP OBJECT DEFINITIONS */
OBJECT = IMAGE_MAP_PROJECTION
  ^DATA_SET_MAP_PROJECTION_CATALOG= "DSMAP.CAT"
  A_AXIS_RADIUS = 3396.0
  B_AXIS_RADIUS = 3396.0
  C_AXIS_RADIUS = 3396.0
  CENTER_LATITUDE = 0.0
  CENTER_LONGITUDE = 304.0
  COORDINATE_SYSTEM_NAME = PLANETOGRAPHIC
  COORDINATE_SYSTEM_TYPE = "BODY-FIXED ROTATING"
  EASTERNMOST_LONGITUDE = 304.833
  FIRST_STANDARD_PARALLEL = "N/A"
  LINE_FIRST_PIXEL = 1
  LINE_LAST_PIXEL = 5562
  LINE_PROJECTION_OFFSET = -4720.1875
  MAP_PROJECTION_ROTATION = 0.0
  MAP_PROJECTION_TYPE = SINUSOIDAL
  MAP_RESOLUTION = 592.713803866667
  MAP_SCALE = 0.1
  MAXIMUM_LATITUDE = -7.95862
  MINIMUM_LATITUDE = -17.3282
  POSITIVE_LONGITUDE_DIRECTION = EAST
  REFERENCE_LATITUDE = "N/A"
  REFERENCE_LONGITUDE = "N/A"
  SAMPLE_FIRST_PIXEL = 1
  SAMPLE_LAST_PIXEL = 995
  SAMPLE_PROJECTION_OFFSET = 540.9375
  SECOND_STANDARD_PARALLEL = "N/A"
  WESTERNMOST_LONGITUDE = 303.043
END_OBJECT = IMAGE_MAP_PROJECTION
END
