PDS_VERSION_ID = PDS3
/* FILE DATA ELEMENTS */
RECORD_TYPE = UNDEFINED
/* POINTERS TO DATA OBJECTS */
^IMAGE = ("HE674_0000_S24.TIF")
/* IDENTIFICATION DATA ELEMENTS */
DATA_SET_ID = "MEX-M-HRSC-4-REFDR-MAPPROJECT-EXT5-V4.0"
DATA_SET_NAME = "MARS EXPRESS HRSC MAP PROJECTED REFDR EXTENSION5 V4.0"
DETECTOR_ID = MEX_HRSC_S2
EVENT_TYPE = "MARS-REGIONAL-MAPPING-Vo"
INSTRUMENT_HOST_ID = MEX
INSTRUMENT_HOST_NAME = "MARS EXPRESS"
INSTRUMENT_ID = HRSC
INSTRUMENT_NAME = "HIGH RESOLUTION STEREO CAMERA"
MISSION_NAME = "MARS EXPRESS"
MISSION_PHASE_NAME = ME_Phase_33
PROCESSING_LEVEL_ID = 4
PRODUCT_CREATION_TIME = 2023-01-30T12:57:43.000Z
PRODUCT_ID = "HE674_0000_S24.TIF"
RELEASE_ID = 0002
REVISION_ID = 0000
/* QUALITY DATA ELEMENTS */
DATA_QUALITY_ID = 1
DATA_QUALITY_DESC = "Data calculated based on original SPICE kernels"
/* TIME DATA ELEMENTS */
SPACECRAFT_CLOCK_START_COUNT = "1/0386111998.09052"
SPACECRAFT_CLOCK_STOP_COUNT = "1/0386112185.57358"
START_TIME = 2015-07-27T21:20:04.158Z
STOP_TIME = 2015-07-27T21:22:07.177Z
/* ORBITAL DATA ELEMENTS */
ASCENDING_NODE_LONGITUDE = 298.13
MAXIMUM_RESOLUTION = 0.0278
FOOTPRINT_POINT_LATITUDE = (-29.9022,-29.9012,-29.9,-29.8964, -29.8935,-29.8895,-29.8893,-29.8932, -29.5715,-29.4093,-29.1686,-29.0081, -28.6875,-28.527,-28.3661,-28.0451, -27.877,-27.7129,-27.3927,-27.1615, -26.8404,-26.6797,-26.4391,-26.2785, -26.1178,-25.9571,-25.7961,-25.5557, -25.3945,-25.1531,-24.9918,-24.6702, -24.5086,-24.2662,-24.1054,-23.8629, -23.701,-23.5396,-23.3787,-23.2172, -22.9748,-22.8131,-22.6459,-22.3954, -22.2283,-22.0614,-21.8955,-21.8105, -21.7869,-21.7868,-21.7913,-21.797, -21.7958,-21.7942,-21.794,-21.7945, -22.0454,-22.2126,-22.3799,-22.6304, -22.7976,-22.9598,-23.1214,-23.2831, -23.5255,-23.687,-23.8486,-24.0101, -24.1715,-24.4137,-24.5751,-24.7363, -24.8976,-25.059,-25.2203,-25.3816, -25.5426,-25.7844,-25.9459,-26.1066, -26.2674,-26.509,-26.6702,-26.9912, -27.152,-27.3128,-27.4737,-27.7147, -28.0355,-28.1968,-28.3584,-28.5198, -28.681,-28.9246,-29.0899,-29.4051, -29.6446,-29.8052,-29.8863,-29.9022)
FOOTPRINT_POINT_LONGITUDE = (291.698,291.403,291.197,290.838, 290.633,290.388,290.376,290.373,290.378 ,290.379,290.383,290.385,290.39,290.392 ,290.394,290.398,290.398,290.398, 290.402,290.408,290.411,290.413,290.415 ,290.417,290.418,290.42,290.421,290.423 ,290.424,290.426,290.427,290.429,290.43 ,290.431,290.431,290.432,290.433, 290.433,290.434,290.434,290.434,290.435 ,290.435,290.435,290.435,290.435, 290.435,290.435,290.433,290.743,291.029 ,291.277,291.451,291.699,291.711, 291.716,291.715,291.715,291.715,291.715 ,291.714,291.714,291.714,291.714, 291.713,291.713,291.713,291.713,291.712 ,291.712,291.712,291.712,291.711, 291.711,291.711,291.711,291.71,291.71, 291.71,291.709,291.709,291.709,291.708, 291.708,291.707,291.707,291.707,291.706 ,291.705,291.705,291.704,291.703, 291.703,291.701,291.699,291.699,291.699 ,291.698,291.698,291.698)
ORBIT_NUMBER = 14674
ORBITAL_ECCENTRICITY = 0.579
ORBITAL_INCLINATION = 86.9
ORBITAL_SEMIMAJOR_AXIS = 8832.43
PERIAPSIS_ALTITUDE = 332.1
PERIAPSIS_ARGUMENT_ANGLE = 328.57
PERIAPSIS_TIME = 2015-07-27T21:20:11.000Z
SPACECRAFT_ORIENTATION = (0.0,1.0,0.0)
^MEX_ORIENTATION_DESC = "MEX_ORIENTATION_DESC.TXT"
SPACECRAFT_POINTING_MODE = NADIR
^MEX_POINTING_DESC = "MEX_POINTING_DESC.TXT"
RIGHT_ASCENSION = -1e+32
DECLINATION = -1e+32
OFFSET_ANGLE = -1e+32
SPACECRAFT_SOLAR_DISTANCE = 2.39751e+08
TARGET_NAME = MARS
/* CAMERA DATA ELEMENTS */
DETECTOR_TEMPERATURE = 18.3705
FOCAL_PLANE_TEMPERATURE = 7.5638
INST_CMPRS_NAME = "DISCRETE COSINE TRANSFORMATION (DCT)"
INST_CMPRS_RATIO = 12.8486
INST_CMPRS_QUALITY = 0
INST_CMPRS_QUANTZ_TBL_ID = 0
INSTRUMENT_TEMPERATURE = 11.234
LENS_TEMPERATURE = 7.9716
MACROPIXEL_SIZE = 2
MISSING_FRAMES = 0
PIXEL_SUBSAMPLING_FLAG = N
SIGNAL_CHAIN_ID = 1
/* RADIOMETRIC DATA ELEMENTS */
BANDWIDTH = 178.0
CENTER_FILTER_WAVELENGTH = 679.0
RADIANCE_OFFSET = 0.971088
RADIANCE_SCALING_FACTOR = 0.0154232
REFLECTANCE_SCALING_FACTOR = 0.000469486
MEX:REFLECTANCE_OFFSET = 0.0295602
/* IMAGE OBJECT DEFINITIONS */
OBJECT = IMAGE
  INTERCHANGE_FORMAT = BINARY
  LINES = 19189
  LINE_SAMPLES = 2877
  SAMPLE_TYPE = UNSIGNED_INTEGER
  SAMPLE_BITS = 8
  BANDS = 1
  BAND_STORAGE_TYPE = BAND_SEQUENTIAL
  MAXIMUM = 255
  MEAN = 111.273
  MINIMUM = 1
  STANDARD_DEVIATION = 17.7586
END_OBJECT = IMAGE
/* MAP OBJECT DEFINITIONS */
OBJECT = IMAGE_MAP_PROJECTION
  ^DATA_SET_MAP_PROJECTION_CATALOG= "DSMAP.CAT"
  A_AXIS_RADIUS = 3396.0
  B_AXIS_RADIUS = 3396.0
  C_AXIS_RADIUS = 3396.0
  CENTER_LATITUDE = 0.0
  CENTER_LONGITUDE = 291.0
  COORDINATE_SYSTEM_NAME = PLANETOGRAPHIC
  COORDINATE_SYSTEM_TYPE = "BODY-FIXED ROTATING"
  EASTERNMOST_LONGITUDE = 291.716
  FIRST_STANDARD_PARALLEL = "N/A"
  LINE_FIRST_PIXEL = 1
  LINE_LAST_PIXEL = 19189
  LINE_PROJECTION_OFFSET = -51611.75
  MAP_PROJECTION_ROTATION = 0.0
  MAP_PROJECTION_TYPE = SINUSOIDAL
  MAP_RESOLUTION = 2370.85521546667
  MAP_SCALE = 0.025
  MAXIMUM_LATITUDE = -21.7868
  MINIMUM_LATITUDE = -29.9022
  POSITIVE_LONGITUDE_DIRECTION = EAST
  REFERENCE_LATITUDE = "N/A"
  REFERENCE_LONGITUDE = "N/A"
  SAMPLE_FIRST_PIXEL = 1
  SAMPLE_LAST_PIXEL = 2877
  SAMPLE_PROJECTION_OFFSET = 1282.75
  SECOND_STANDARD_PARALLEL = "N/A"
  WESTERNMOST_LONGITUDE = 290.373
END_OBJECT = IMAGE_MAP_PROJECTION
END
