PDS_VERSION_ID = PDS3
/* FILE DATA ELEMENTS */
RECORD_TYPE = UNDEFINED
/* POINTERS TO DATA OBJECTS */
^IMAGE = ("HE674_0000_IR4.TIF")
/* IDENTIFICATION DATA ELEMENTS */
DATA_SET_ID = "MEX-M-HRSC-4-REFDR-MAPPROJECT-EXT5-V4.0"
DATA_SET_NAME = "MARS EXPRESS HRSC MAP PROJECTED REFDR EXTENSION5 V4.0"
DETECTOR_ID = MEX_HRSC_IR
EVENT_TYPE = "MARS-REGIONAL-MAPPING-Vo"
INSTRUMENT_HOST_ID = MEX
INSTRUMENT_HOST_NAME = "MARS EXPRESS"
INSTRUMENT_ID = HRSC
INSTRUMENT_NAME = "HIGH RESOLUTION STEREO CAMERA"
MISSION_NAME = "MARS EXPRESS"
MISSION_PHASE_NAME = ME_Phase_33
PROCESSING_LEVEL_ID = 4
PRODUCT_CREATION_TIME = 2023-01-30T12:57:43.000Z
PRODUCT_ID = "HE674_0000_IR4.TIF"
RELEASE_ID = 0002
REVISION_ID = 0000
/* QUALITY DATA ELEMENTS */
DATA_QUALITY_ID = 1
DATA_QUALITY_DESC = "Data calculated based on original SPICE kernels"
/* TIME DATA ELEMENTS */
SPACECRAFT_CLOCK_START_COUNT = "1/0386111998.09052"
SPACECRAFT_CLOCK_STOP_COUNT = "1/0386112185.57358"
START_TIME = 2015-07-27T21:20:58.731Z
STOP_TIME = 2015-07-27T21:23:04.554Z
/* ORBITAL DATA ELEMENTS */
ASCENDING_NODE_LONGITUDE = 298.13
MAXIMUM_RESOLUTION = 0.1098
FOOTPRINT_POINT_LATITUDE = (-29.8243,-29.8229,-29.8209,-29.8193, -29.8178,-29.8159,-29.8158,-29.8108, -29.6523,-29.4153,-29.2559,-28.9382, -28.7791,-28.6202,-28.3031,-28.1442, -27.756,-27.5179,-27.2748,-27.1129, -26.8755,-26.5588,-26.2372,-26.0738, -25.9105,-25.7475,-25.5837,-25.3394, -25.1765,-25.0142,-24.8512,-24.6073, -24.4456,-24.2835,-24.121,-23.9591, -23.7978,-23.5552,-23.3932,-23.1509, -22.9092,-22.7481,-22.5872,-22.3458, -22.1852,-22.0238,-21.8635,-21.7865, -21.7497,-21.7533,-21.7506,-21.7463, -21.747,-21.7469,-21.7469,-21.7485, -21.9092,-22.07,-22.2307,-22.3916, -22.5531,-22.7142,-22.8756,-23.1178, -23.2794,-23.4412,-23.6032,-23.7651, -23.9272,-24.0894,-24.2517,-24.4141, -24.658,-24.8207,-24.9834,-25.1462, -25.3905,-25.5538,-25.7985,-25.9617, -26.1253,-26.289,-26.4507,-26.7675, -27.0056,-27.1642,-27.323,-27.4816, -27.6404,-27.7997,-28.0385,-28.4344, -28.5932,-28.8312,-29.1442,-29.3048, -29.4674,-29.7077,-29.7872,-29.8243)
FOOTPRINT_POINT_LONGITUDE = (291.699,291.391,291.058,290.823, 290.626,290.404,290.392,290.387,290.389 ,290.391,290.393,290.396,290.398,290.4, 290.403,290.404,290.404,290.407,290.411 ,290.413,290.415,290.417,290.419,290.42 ,290.421,290.422,290.423,290.424, 290.425,290.425,290.426,290.427,290.427 ,290.427,290.427,290.428,290.427, 290.427,290.428,290.428,290.427,290.427 ,290.427,290.426,290.426,290.425, 290.425,290.423,290.423,290.767,291.027 ,291.2,291.435,291.72,291.732,291.74, 291.74,291.739,291.738,291.737,291.737, 291.736,291.735,291.734,291.734,291.733 ,291.732,291.732,291.731,291.73,291.73, 291.729,291.728,291.727,291.726,291.726 ,291.724,291.724,291.723,291.722, 291.721,291.72,291.72,291.718,291.717, 291.716,291.715,291.714,291.714,291.713 ,291.712,291.709,291.707,291.706, 291.701,291.701,291.701,291.7,291.699, 291.699)
ORBIT_NUMBER = 14674
ORBITAL_ECCENTRICITY = 0.579
ORBITAL_INCLINATION = 86.9
ORBITAL_SEMIMAJOR_AXIS = 8832.43
PERIAPSIS_ALTITUDE = 332.1
PERIAPSIS_ARGUMENT_ANGLE = 328.57
PERIAPSIS_TIME = 2015-07-27T21:20:11.000Z
SPACECRAFT_ORIENTATION = (0.0,1.0,0.0)
^MEX_ORIENTATION_DESC = "MEX_ORIENTATION_DESC.TXT"
SPACECRAFT_POINTING_MODE = NADIR
^MEX_POINTING_DESC = "MEX_POINTING_DESC.TXT"
RIGHT_ASCENSION = -1e+32
DECLINATION = -1e+32
OFFSET_ANGLE = -1e+32
SPACECRAFT_SOLAR_DISTANCE = 2.39751e+08
TARGET_NAME = MARS
/* CAMERA DATA ELEMENTS */
DETECTOR_TEMPERATURE = 17.351
FOCAL_PLANE_TEMPERATURE = 7.5638
INST_CMPRS_NAME = "DISCRETE COSINE TRANSFORMATION (DCT)"
INST_CMPRS_RATIO = 17.9464
INST_CMPRS_QUALITY = 0
INST_CMPRS_QUANTZ_TBL_ID = 0
INSTRUMENT_TEMPERATURE = 11.234
LENS_TEMPERATURE = 7.9716
MACROPIXEL_SIZE = 8
MISSING_FRAMES = 0
PIXEL_SUBSAMPLING_FLAG = N
SIGNAL_CHAIN_ID = 2
/* RADIOMETRIC DATA ELEMENTS */
BANDWIDTH = 81.0
CENTER_FILTER_WAVELENGTH = 955.5
RADIANCE_OFFSET = 0.176756
RADIANCE_SCALING_FACTOR = 0.00371335
REFLECTANCE_SCALING_FACTOR = 0.000460485
MEX:REFLECTANCE_OFFSET = 0.0219191
/* IMAGE OBJECT DEFINITIONS */
OBJECT = IMAGE
  INTERCHANGE_FORMAT = BINARY
  LINES = 4798
  LINE_SAMPLES = 720
  SAMPLE_TYPE = UNSIGNED_INTEGER
  SAMPLE_BITS = 8
  BANDS = 1
  BAND_STORAGE_TYPE = BAND_SEQUENTIAL
  MAXIMUM = 255
  MEAN = 109.489
  MINIMUM = 1
  STANDARD_DEVIATION = 20.04
END_OBJECT = IMAGE
/* MAP OBJECT DEFINITIONS */
OBJECT = IMAGE_MAP_PROJECTION
  ^DATA_SET_MAP_PROJECTION_CATALOG= "DSMAP.CAT"
  A_AXIS_RADIUS = 3396.0
  B_AXIS_RADIUS = 3396.0
  C_AXIS_RADIUS = 3396.0
  CENTER_LATITUDE = 0.0
  CENTER_LONGITUDE = 291.0
  COORDINATE_SYSTEM_NAME = PLANETOGRAPHIC
  COORDINATE_SYSTEM_TYPE = "BODY-FIXED ROTATING"
  EASTERNMOST_LONGITUDE = 291.74
  FIRST_STANDARD_PARALLEL = "N/A"
  LINE_FIRST_PIXEL = 1
  LINE_LAST_PIXEL = 4798
  LINE_PROJECTION_OFFSET = -12903.3125
  MAP_PROJECTION_ROTATION = 0.0
  MAP_PROJECTION_TYPE = SINUSOIDAL
  MAP_RESOLUTION = 592.713803866667
  MAP_SCALE = 0.1
  MAXIMUM_LATITUDE = -21.7463
  MINIMUM_LATITUDE = -29.8243
  POSITIVE_LONGITUDE_DIRECTION = EAST
  REFERENCE_LATITUDE = "N/A"
  REFERENCE_LONGITUDE = "N/A"
  SAMPLE_FIRST_PIXEL = 1
  SAMPLE_LAST_PIXEL = 720
  SAMPLE_PROJECTION_OFFSET = 320.3125
  SECOND_STANDARD_PARALLEL = "N/A"
  WESTERNMOST_LONGITUDE = 290.387
END_OBJECT = IMAGE_MAP_PROJECTION
END
