PDS_VERSION_ID = PDS3
/* FILE DATA ELEMENTS */
RECORD_TYPE = UNDEFINED
/* POINTERS TO DATA OBJECTS */
^IMAGE = ("HE668_0000_S14.TIF")
/* IDENTIFICATION DATA ELEMENTS */
DATA_SET_ID = "MEX-M-HRSC-4-REFDR-MAPPROJECT-EXT5-V4.0"
DATA_SET_NAME = "MARS EXPRESS HRSC MAP PROJECTED REFDR EXTENSION5 V4.0"
DETECTOR_ID = MEX_HRSC_S1
EVENT_TYPE = "MARS-REGIONAL-MAPPING-Im-Fl"
INSTRUMENT_HOST_ID = MEX
INSTRUMENT_HOST_NAME = "MARS EXPRESS"
INSTRUMENT_ID = HRSC
INSTRUMENT_NAME = "HIGH RESOLUTION STEREO CAMERA"
MISSION_NAME = "MARS EXPRESS"
MISSION_PHASE_NAME = ME_Phase_33
PROCESSING_LEVEL_ID = 4
PRODUCT_CREATION_TIME = 2023-01-30T12:57:43.000Z
PRODUCT_ID = "HE668_0000_S14.TIF"
RELEASE_ID = 0002
REVISION_ID = 0000
/* QUALITY DATA ELEMENTS */
DATA_QUALITY_ID = 1
DATA_QUALITY_DESC = "Data calculated based on original SPICE kernels"
/* TIME DATA ELEMENTS */
SPACECRAFT_CLOCK_START_COUNT = "1/0385961088.08270"
SPACECRAFT_CLOCK_STOP_COUNT = "1/0385961298.21743"
START_TIME = 2015-07-26T03:25:57.556Z
STOP_TIME = 2015-07-26T03:28:22.385Z
/* ORBITAL DATA ELEMENTS */
ASCENDING_NODE_LONGITUDE = 298.24
MAXIMUM_RESOLUTION = 0.0306
FOOTPRINT_POINT_LATITUDE = (-20.2758,-20.2783,-20.2807,-20.2833, -20.2857,-20.288,-20.2909,-20.2911, -20.298,-19.9842,-19.6698,-19.4361, -19.2009,-18.8878,-18.5764,-18.3277, -18.1425,-17.8649,-17.6796,-17.4979, -17.221,-17.0361,-16.8473,-16.665, -16.4844,-16.2104,-16.0274,-15.8451, -15.5715,-15.3885,-15.2084,-14.9331, -14.7492,-14.5693,-14.2994,-14.1228, -13.9426,-13.7606,-13.4904,-13.3164, -13.1373,-12.8717,-12.7001,-12.5213, -12.3354,-12.1582,-11.8996,-11.6349, -11.5457,-11.5057,-11.5021,-11.4972, -11.4895,-11.4896,-11.4855,-11.4832, -11.4829,-11.4833,-11.8318,-12.0062, -12.1838,-12.4503,-12.629,-12.8952, -13.1624,-13.3414,-13.5188,-13.6938, -13.8742,-14.0565,-14.2405,-14.424, -14.6057,-14.7871,-14.9683,-15.1474, -15.3306,-15.5127,-15.6939,-15.9665, -16.1493,-16.3321,-16.6054,-16.7876, -17.0643,-17.2493,-17.4362,-17.6195, -17.8042,-17.9899,-18.1753,-18.4459, -18.8368,-19.1483,-19.4616,-19.6187, -19.9323,-20.1682,-20.2474,-20.2758)
FOOTPRINT_POINT_LONGITUDE = (185.152,184.946,184.739,184.506, 184.298,184.09,183.829,183.816,183.809, 183.807,183.805,183.803,183.802,183.8, 183.797,183.795,183.794,183.791,183.789 ,183.786,183.783,183.781,183.781, 183.778,183.775,183.771,183.769,183.766 ,183.762,183.76,183.756,183.753,183.751 ,183.748,183.743,183.739,183.735, 183.733,183.728,183.723,183.719,183.713 ,183.707,183.704,183.703,183.699, 183.691,183.684,183.683,183.682,183.919 ,184.127,184.305,184.689,184.925,185.19 ,185.205,185.21,185.206,185.204,185.203 ,185.201,185.2,185.198,185.195,185.194, 185.192,185.19,185.189,185.188,185.188, 185.188,185.187,185.186,185.184,185.183 ,185.182,185.181,185.179,185.177, 185.176,185.175,185.173,185.172,185.17, 185.169,185.169,185.168,185.166,185.166 ,185.165,185.163,185.161,185.16,185.158 ,185.157,185.156,185.154,185.154, 185.152)
ORBIT_NUMBER = 14668
ORBITAL_ECCENTRICITY = 0.578
ORBITAL_INCLINATION = 86.92
ORBITAL_SEMIMAJOR_AXIS = 8828.15
PERIAPSIS_ALTITUDE = 332.57
PERIAPSIS_ARGUMENT_ANGLE = 329.59
PERIAPSIS_TIME = 2015-07-26T03:22:51.000Z
SPACECRAFT_ORIENTATION = (0.0,1.0,0.0)
^MEX_ORIENTATION_DESC = "MEX_ORIENTATION_DESC.TXT"
SPACECRAFT_POINTING_MODE = ACROSSTRACK
^MEX_POINTING_DESC = "MEX_POINTING_DESC.TXT"
RIGHT_ASCENSION = -1e+32
DECLINATION = -1e+32
OFFSET_ANGLE = 0.17
SPACECRAFT_SOLAR_DISTANCE = 2.3948e+08
TARGET_NAME = MARS
/* CAMERA DATA ELEMENTS */
DETECTOR_TEMPERATURE = 17.5549
FOCAL_PLANE_TEMPERATURE = 7.9716
INST_CMPRS_NAME = "DISCRETE COSINE TRANSFORMATION (DCT)"
INST_CMPRS_RATIO = 8.42962
INST_CMPRS_QUALITY = 0
INST_CMPRS_QUANTZ_TBL_ID = 0
INSTRUMENT_TEMPERATURE = 11.4379
LENS_TEMPERATURE = 8.5833
MACROPIXEL_SIZE = 2
MISSING_FRAMES = 0
PIXEL_SUBSAMPLING_FLAG = N
SIGNAL_CHAIN_ID = 1
/* RADIOMETRIC DATA ELEMENTS */
BANDWIDTH = 180.0
CENTER_FILTER_WAVELENGTH = 677.0
RADIANCE_OFFSET = 2.2358
RADIANCE_SCALING_FACTOR = 0.0230156
REFLECTANCE_SCALING_FACTOR = 0.000688656
MEX:REFLECTANCE_OFFSET = 0.066898
/* IMAGE OBJECT DEFINITIONS */
OBJECT = IMAGE
  INTERCHANGE_FORMAT = BINARY
  LINES = 20937
  LINE_SAMPLES = 3362
  SAMPLE_TYPE = UNSIGNED_INTEGER
  SAMPLE_BITS = 8
  BANDS = 1
  BAND_STORAGE_TYPE = BAND_SEQUENTIAL
  MAXIMUM = 255
  MEAN = 124.844
  MINIMUM = 1
  STANDARD_DEVIATION = 20.5412
END_OBJECT = IMAGE
/* MAP OBJECT DEFINITIONS */
OBJECT = IMAGE_MAP_PROJECTION
  ^DATA_SET_MAP_PROJECTION_CATALOG= "DSMAP.CAT"
  A_AXIS_RADIUS = 3396.0
  B_AXIS_RADIUS = 3396.0
  C_AXIS_RADIUS = 3396.0
  CENTER_LATITUDE = 0.0
  CENTER_LONGITUDE = 184.0
  COORDINATE_SYSTEM_NAME = PLANETOGRAPHIC
  COORDINATE_SYSTEM_TYPE = "BODY-FIXED ROTATING"
  EASTERNMOST_LONGITUDE = 185.21
  FIRST_STANDARD_PARALLEL = "N/A"
  LINE_FIRST_PIXEL = 1
  LINE_LAST_PIXEL = 20937
  LINE_PROJECTION_OFFSET = -27194.75
  MAP_PROJECTION_ROTATION = 0.0
  MAP_PROJECTION_TYPE = SINUSOIDAL
  MAP_RESOLUTION = 2370.85521546667
  MAP_SCALE = 0.025
  MAXIMUM_LATITUDE = -11.4829
  MINIMUM_LATITUDE = -20.298
  POSITIVE_LONGITUDE_DIRECTION = EAST
  REFERENCE_LATITUDE = "N/A"
  REFERENCE_LONGITUDE = "N/A"
  SAMPLE_FIRST_PIXEL = 1
  SAMPLE_LAST_PIXEL = 3362
  SAMPLE_PROJECTION_OFFSET = 648.75
  SECOND_STANDARD_PARALLEL = "N/A"
  WESTERNMOST_LONGITUDE = 183.682
END_OBJECT = IMAGE_MAP_PROJECTION
END
