PDS_VERSION_ID = PDS3
/* FILE DATA ELEMENTS */
RECORD_TYPE = UNDEFINED
/* POINTERS TO DATA OBJECTS */
^IMAGE = ("HE662_0001_ND4.TIF")
/* IDENTIFICATION DATA ELEMENTS */
DATA_SET_ID = "MEX-M-HRSC-4-REFDR-MAPPROJECT-EXT5-V4.0"
DATA_SET_NAME = "MARS EXPRESS HRSC MAP PROJECTED REFDR EXTENSION5 V4.0"
DETECTOR_ID = MEX_HRSC_NADIR
EVENT_TYPE = "MARS-REGIONAL-COLOR-Fl-Ts"
INSTRUMENT_HOST_ID = MEX
INSTRUMENT_HOST_NAME = "MARS EXPRESS"
INSTRUMENT_ID = HRSC
INSTRUMENT_NAME = "HIGH RESOLUTION STEREO CAMERA"
MISSION_NAME = "MARS EXPRESS"
MISSION_PHASE_NAME = ME_Phase_33
PROCESSING_LEVEL_ID = 4
PRODUCT_CREATION_TIME = 2023-01-30T12:57:43.000Z
PRODUCT_ID = "HE662_0001_ND4.TIF"
RELEASE_ID = 0002
REVISION_ID = 0000
/* QUALITY DATA ELEMENTS */
DATA_QUALITY_ID = 1
DATA_QUALITY_DESC = "Data calculated based on original SPICE kernels"
/* TIME DATA ELEMENTS */
SPACECRAFT_CLOCK_START_COUNT = "1/0385809921.07289"
SPACECRAFT_CLOCK_STOP_COUNT = "1/0385810086.13341"
START_TIME = 2015-07-24T09:25:56.884Z
STOP_TIME = 2015-07-24T09:27:38.871Z
/* ORBITAL DATA ELEMENTS */
ASCENDING_NODE_LONGITUDE = 298.35
MAXIMUM_RESOLUTION = 0.0133
FOOTPRINT_POINT_LATITUDE = (-28.0849,-28.085,-28.0849,-28.0842, -28.0834,-28.082,-28.0807,-28.0806, -28.0795,-27.881,-27.7487,-27.6164, -27.4841,-27.2856,-27.0872,-26.9549, -26.8226,-26.6243,-26.4921,-26.3599, -26.2277,-26.0955,-25.9633,-25.8311, -25.6989,-25.5006,-25.3685,-25.2363, -25.1042,-24.9721,-24.7079,-24.5099, -24.1798,-23.9158,-23.6519,-23.3881, -23.1243,-22.8607,-22.6583,-22.5222, -22.386,-22.25,-22.1139,-21.9779, -21.8418,-21.7058,-21.502,-21.434, -21.4224,-21.4226,-21.4224,-21.4221, -21.4214,-21.4198,-21.4198,-21.4199, -21.6241,-21.7602,-21.8963,-22.0325, -22.1686,-22.3049,-22.4411,-22.6455, -22.8484,-23.1123,-23.3764,-23.5743, -23.8385,-24.1027,-24.2348,-24.367, -24.4992,-24.6314,-24.8298,-24.962, -25.0943,-25.2266,-25.425,-25.5573, -25.6896,-25.8219,-25.9543,-26.1528, -26.2851,-26.4175,-26.5499,-26.6822, -26.8146,-26.9472,-27.0795,-27.2119, -27.3443,-27.4767,-27.6092,-27.7417, -27.8741,-28.0066,-28.0729,-28.0849)
FOOTPRINT_POINT_LONGITUDE = (79.1452,78.977,78.7708,78.4882,78.2838 ,78.0544,77.8637,77.851,77.8377,77.8399 ,77.8411,77.8422,77.8432,77.8445, 77.8462,77.8472,77.8483,77.8501,77.8516 ,77.8528,77.8543,77.8551,77.8556, 77.8564,77.8571,77.8581,77.8587,77.8593 ,77.8599,77.8605,77.8617,77.8624, 77.8631,77.8637,77.8639,77.864,77.8641, 77.8638,77.8635,77.8632,77.8629,77.8629 ,77.8629,77.8625,77.8613,77.861,77.8612 ,77.8609,77.8608,78.2891,78.4787, 78.6308,78.8467,79.1303,79.1431,79.1494 ,79.1477,79.1479,79.1485,79.1488, 79.1489,79.1489,79.1491,79.1504,79.15, 79.1499,79.1502,79.1521,79.1531,79.1536 ,79.1537,79.1537,79.1536,79.1529, 79.1532,79.1536,79.1536,79.1534,79.1541 ,79.1544,79.1548,79.1552,79.1549, 79.1557,79.1567,79.1574,79.1577,79.1594 ,79.1594,79.1561,79.1589,79.1616, 79.1619,79.1619,79.1621,79.1622,79.1634 ,79.1627,79.1619,79.1452)
ORBIT_NUMBER = 14662
ORBITAL_ECCENTRICITY = 0.579
ORBITAL_INCLINATION = 86.92
ORBITAL_SEMIMAJOR_AXIS = 8836.21
PERIAPSIS_ALTITUDE = 331.84
PERIAPSIS_ARGUMENT_ANGLE = 330.6
PERIAPSIS_TIME = 2015-07-24T09:25:38.000Z
SPACECRAFT_ORIENTATION = (0.0,1.0,0.0)
^MEX_ORIENTATION_DESC = "MEX_ORIENTATION_DESC.TXT"
SPACECRAFT_POINTING_MODE = ACROSSTRACK
^MEX_POINTING_DESC = "MEX_POINTING_DESC.TXT"
RIGHT_ASCENSION = -1e+32
DECLINATION = -1e+32
OFFSET_ANGLE = -0.25
SPACECRAFT_SOLAR_DISTANCE = 2.39206e+08
TARGET_NAME = MARS
/* CAMERA DATA ELEMENTS */
DETECTOR_TEMPERATURE = 18.7783
FOCAL_PLANE_TEMPERATURE = 7.5638
INST_CMPRS_NAME = "DISCRETE COSINE TRANSFORMATION (DCT)"
INST_CMPRS_RATIO = 6.66329
INST_CMPRS_QUALITY = 0
INST_CMPRS_QUANTZ_TBL_ID = 0
INSTRUMENT_TEMPERATURE = 12.0496
LENS_TEMPERATURE = 8.1755
MACROPIXEL_SIZE = 1
MISSING_FRAMES = 0
PIXEL_SUBSAMPLING_FLAG = N
SIGNAL_CHAIN_ID = 0
/* RADIOMETRIC DATA ELEMENTS */
BANDWIDTH = 177.0
CENTER_FILTER_WAVELENGTH = 677.5
RADIANCE_OFFSET = 1.45054
RADIANCE_SCALING_FACTOR = 0.0119456
REFLECTANCE_SCALING_FACTOR = 0.00036311
MEX:REFLECTANCE_OFFSET = 0.0440919
/* IMAGE OBJECT DEFINITIONS */
OBJECT = IMAGE
  INTERCHANGE_FORMAT = BINARY
  LINES = 31601
  LINE_SAMPLES = 5714
  SAMPLE_TYPE = UNSIGNED_INTEGER
  SAMPLE_BITS = 8
  BANDS = 1
  BAND_STORAGE_TYPE = BAND_SEQUENTIAL
  MAXIMUM = 255
  MEAN = 106.203
  MINIMUM = 1
  STANDARD_DEVIATION = 17.5217
END_OBJECT = IMAGE
/* MAP OBJECT DEFINITIONS */
OBJECT = IMAGE_MAP_PROJECTION
  ^DATA_SET_MAP_PROJECTION_CATALOG= "DSMAP.CAT"
  A_AXIS_RADIUS = 3396.0
  B_AXIS_RADIUS = 3396.0
  C_AXIS_RADIUS = 3396.0
  CENTER_LATITUDE = 0.0
  CENTER_LONGITUDE = 79.0
  COORDINATE_SYSTEM_NAME = PLANETOGRAPHIC
  COORDINATE_SYSTEM_TYPE = "BODY-FIXED ROTATING"
  EASTERNMOST_LONGITUDE = 79.1634
  FIRST_STANDARD_PARALLEL = "N/A"
  LINE_FIRST_PIXEL = 1
  LINE_LAST_PIXEL = 31601
  LINE_PROJECTION_OFFSET = -101568.0
  MAP_PROJECTION_ROTATION = 0.0
  MAP_PROJECTION_TYPE = SINUSOIDAL
  MAP_RESOLUTION = 4741.71043093333
  MAP_SCALE = 0.0125
  MAXIMUM_LATITUDE = -21.4198
  MINIMUM_LATITUDE = -28.085
  POSITIVE_LONGITUDE_DIRECTION = EAST
  REFERENCE_LATITUDE = "N/A"
  REFERENCE_LONGITUDE = "N/A"
  SAMPLE_FIRST_PIXEL = 1
  SAMPLE_LAST_PIXEL = 5714
  SAMPLE_PROJECTION_OFFSET = 5028.0
  SECOND_STANDARD_PARALLEL = "N/A"
  WESTERNMOST_LONGITUDE = 77.8377
END_OBJECT = IMAGE_MAP_PROJECTION
END
