PDS_VERSION_ID = PDS3
/* FILE DATA ELEMENTS */
RECORD_TYPE = UNDEFINED
/* POINTERS TO DATA OBJECTS */
^IMAGE = ("HE659_0000_S24.TIF")
/* IDENTIFICATION DATA ELEMENTS */
DATA_SET_ID = "MEX-M-HRSC-4-REFDR-MAPPROJECT-EXT5-V4.0"
DATA_SET_NAME = "MARS EXPRESS HRSC MAP PROJECTED REFDR EXTENSION5 V4.0"
DETECTOR_ID = MEX_HRSC_S2
EVENT_TYPE = "MARS-REGIONAL-MAPPING-Im-Fl"
INSTRUMENT_HOST_ID = MEX
INSTRUMENT_HOST_NAME = "MARS EXPRESS"
INSTRUMENT_ID = HRSC
INSTRUMENT_NAME = "HIGH RESOLUTION STEREO CAMERA"
MISSION_NAME = "MARS EXPRESS"
MISSION_PHASE_NAME = ME_Phase_33
PROCESSING_LEVEL_ID = 4
PRODUCT_CREATION_TIME = 2023-01-30T12:57:43.000Z
PRODUCT_ID = "HE659_0000_S24.TIF"
RELEASE_ID = 0002
REVISION_ID = 0000
/* QUALITY DATA ELEMENTS */
DATA_QUALITY_ID = 1
DATA_QUALITY_DESC = "Data calculated based on original SPICE kernels"
/* TIME DATA ELEMENTS */
SPACECRAFT_CLOCK_START_COUNT = "1/0385734564.08287"
SPACECRAFT_CLOCK_STOP_COUNT = "1/0385734760.55004"
START_TIME = 2015-07-23T12:29:30.130Z
STOP_TIME = 2015-07-23T12:31:28.632Z
/* ORBITAL DATA ELEMENTS */
ASCENDING_NODE_LONGITUDE = 298.41
MAXIMUM_RESOLUTION = 0.0296 <m/pixel>
FOOTPRINT_POINT_LATITUDE = (-17.1847,-17.1985,-17.2079,-17.2167, -17.225,-17.2328,-17.2401,-17.2405, -17.2447,-17.0279,-16.7339,-16.587, -16.2254,-15.944,-15.727,-15.5819, -15.4369,-15.2914,-15.0738,-14.786, -14.641,-14.4235,-14.2066,-14.062, -13.9165,-13.7004,-13.4832,-13.3361, -13.1224,-12.8053,-12.6334,-12.4586, -12.2852,-12.0284,-11.8562,-11.6844, -11.509,-11.3349,-11.1651,-10.9929, -10.8204,-10.6482,-10.4754,-10.3034, -10.1319,-9.87452,-9.70288,-9.5295, -9.44303,-9.39615,-9.38771,-9.38066, -9.37145,-9.36481,-9.35299,-9.33392, -9.3332,-9.33347,-9.59187,-9.7639, -9.93661,-10.1094,-10.2816,-10.4545, -10.7145,-10.8879,-11.0614,-11.2343, -11.4935,-11.7524,-11.9176,-12.0896, -12.2621,-12.525,-12.7003,-12.8726, -13.0244,-13.1693,-13.3139,-13.4585, -13.603,-13.748,-13.9656,-14.1819, -14.4714,-14.6181,-14.7631,-14.908, -15.1248,-15.342,-15.6301,-15.7753, -15.9211,-16.138,-16.499,-16.6437, -16.7883,-17.077,-17.1501,-17.1847)
FOOTPRINT_POINT_LONGITUDE = (26.2823,26.0008,25.798,25.5967,25.3972 ,25.199,25.002,24.9897,24.9858,24.9835, 24.9803,24.9786,24.9744,24.9709,24.9682 ,24.9664,24.9645,24.9626,24.9597, 24.9557,24.9537,24.9505,24.9474,24.9452 ,24.943,24.9397,24.9364,24.934,24.9306, 24.9254,24.9225,24.9196,24.9166,24.9121 ,24.9091,24.906,24.9027,24.8995,24.8964 ,24.8932,24.8899,24.8865,24.8832, 24.8798,24.8764,24.8712,24.8677,24.8641 ,24.8623,24.8613,25.0873,25.2347, 25.4501,25.6125,25.8716,26.2439,26.2578 ,26.2628,26.2629,26.2632,26.2631,26.263 ,26.2633,26.2632,26.2627,26.2624,26.262 ,26.2621,26.2622,26.2626,26.2671, 26.2678,26.2682,26.2665,26.2654,26.2659 ,26.2665,26.2667,26.2672,26.2676, 26.2681,26.2683,26.2686,26.2697,26.2705 ,26.2698,26.2701,26.2705,26.2713,26.272 ,26.2738,26.274,26.2739,26.2748,26.2766 ,26.2772,26.2778,26.2794,26.2792, 26.2823)
ORBIT_NUMBER = 14659
ORBITAL_ECCENTRICITY = 0.578
ORBITAL_INCLINATION = 86.9
ORBITAL_SEMIMAJOR_AXIS = 8836.2
PERIAPSIS_ALTITUDE = 332.95
PERIAPSIS_ARGUMENT_ANGLE = 331.13
PERIAPSIS_TIME = 2015-07-23T12:27:04.000Z
SPACECRAFT_ORIENTATION = (0.0,1.0,0.0)
^MEX_ORIENTATION_DESC = "MEX_ORIENTATION_DESC.TXT"
SPACECRAFT_POINTING_MODE = ACROSSTRACK
^MEX_POINTING_DESC = "MEX_POINTING_DESC.TXT"
RIGHT_ASCENSION = -1e+32
DECLINATION = -1e+32
OFFSET_ANGLE = -0.6
SPACECRAFT_SOLAR_DISTANCE = 2.39068e+08
TARGET_NAME = MARS
/* CAMERA DATA ELEMENTS */
DETECTOR_TEMPERATURE = 18.5744 <degC>
FOCAL_PLANE_TEMPERATURE = 7.7677 <degC>
INST_CMPRS_NAME = "DISCRETE COSINE TRANSFORMATION (DCT)"
INST_CMPRS_RATIO = 12.608
INST_CMPRS_QUALITY = 0
INST_CMPRS_QUANTZ_TBL_ID = 0
INSTRUMENT_TEMPERATURE = 11.234 <degC>
LENS_TEMPERATURE = 8.1755 <degC>
MACROPIXEL_SIZE = 2
MISSING_FRAMES = 0
PIXEL_SUBSAMPLING_FLAG = N
SIGNAL_CHAIN_ID = 1
/* RADIOMETRIC DATA ELEMENTS */
BANDWIDTH = 178.0 <nm>
CENTER_FILTER_WAVELENGTH = 679.0 <nm>
RADIANCE_OFFSET = 2.11544 <W*m**-2*sr**-1>
RADIANCE_SCALING_FACTOR = 0.0151558 <W*m**-2*sr**-1>
REFLECTANCE_SCALING_FACTOR = 0.000458727
MEX:REFLECTANCE_OFFSET = 0.0640286
/* IMAGE OBJECT DEFINITIONS */
OBJECT = IMAGE
  INTERCHANGE_FORMAT = BINARY
  LINES = 18622
  LINE_SAMPLES = 3397
  SAMPLE_TYPE = UNSIGNED_INTEGER
  SAMPLE_BITS = 8
  BANDS = 1
  BAND_STORAGE_TYPE = BAND_SEQUENTIAL
  MAXIMUM = 255
  MEAN = 103.661
  MINIMUM = 1
  STANDARD_DEVIATION = 25.0351
END_OBJECT = IMAGE
/* MAP OBJECT DEFINITIONS */
OBJECT = IMAGE_MAP_PROJECTION
  ^DATA_SET_MAP_PROJECTION_CATALOG= "DSMAP.CAT"
  A_AXIS_RADIUS = 3396.0 <km>
  B_AXIS_RADIUS = 3396.0 <km>
  C_AXIS_RADIUS = 3396.0 <km>
  CENTER_LATITUDE = 0.0
  CENTER_LONGITUDE = 26.0
  COORDINATE_SYSTEM_NAME = PLANETOGRAPHIC
  COORDINATE_SYSTEM_TYPE = "BODY-FIXED ROTATING"
  EASTERNMOST_LONGITUDE = 26.2823
  FIRST_STANDARD_PARALLEL = "N/A"
  LINE_FIRST_PIXEL = 1
  LINE_LAST_PIXEL = 18622
  LINE_PROJECTION_OFFSET = -22171.75
  MAP_PROJECTION_ROTATION = 0.0
  MAP_PROJECTION_TYPE = SINUSOIDAL
  MAP_RESOLUTION = 2370.85521546667 <pixel/degree>
  MAP_SCALE = 0.025 <km/pixel>
  MAXIMUM_LATITUDE = -9.3332
  MINIMUM_LATITUDE = -17.2447
  POSITIVE_LONGITUDE_DIRECTION = EAST
  REFERENCE_LATITUDE = "N/A"
  REFERENCE_LONGITUDE = "N/A"
  SAMPLE_FIRST_PIXEL = 1
  SAMPLE_LAST_PIXEL = 3397
  SAMPLE_PROJECTION_OFFSET = 2735.25
  SECOND_STANDARD_PARALLEL = "N/A"
  WESTERNMOST_LONGITUDE = 24.8613
END_OBJECT = IMAGE_MAP_PROJECTION
END
