PDS_VERSION_ID = PDS3
/* FILE DATA ELEMENTS */
RECORD_TYPE = UNDEFINED
/* POINTERS TO DATA OBJECTS */
^IMAGE = ("HE652_0000_S24.TIF")
/* IDENTIFICATION DATA ELEMENTS */
DATA_SET_ID = "MEX-M-HRSC-4-REFDR-MAPPROJECT-EXT5-V4.0"
DATA_SET_NAME = "MARS EXPRESS HRSC MAP PROJECTED REFDR EXTENSION5 V4.0"
DETECTOR_ID = MEX_HRSC_S2
EVENT_TYPE = "MARS-REGIONAL-MAPPING-Im-Fl"
INSTRUMENT_HOST_ID = MEX
INSTRUMENT_HOST_NAME = "MARS EXPRESS"
INSTRUMENT_ID = HRSC
INSTRUMENT_NAME = "HIGH RESOLUTION STEREO CAMERA"
MISSION_NAME = "MARS EXPRESS"
MISSION_PHASE_NAME = ME_Phase_33
PROCESSING_LEVEL_ID = 4
PRODUCT_CREATION_TIME = 2023-01-30T12:57:43.000Z
PRODUCT_ID = "HE652_0000_S24.TIF"
RELEASE_ID = 0002
REVISION_ID = 0000
/* QUALITY DATA ELEMENTS */
DATA_QUALITY_ID = 1
DATA_QUALITY_DESC = "Data calculated based on original SPICE kernels"
/* TIME DATA ELEMENTS */
SPACECRAFT_CLOCK_START_COUNT = "1/0385558388.08251"
SPACECRAFT_CLOCK_STOP_COUNT = "1/0385558631.48030"
START_TIME = 2015-07-21T11:33:14.150Z
STOP_TIME = 2015-07-21T11:35:50.772Z
/* ORBITAL DATA ELEMENTS */
ASCENDING_NODE_LONGITUDE = 298.54
MAXIMUM_RESOLUTION = 0.0301
FOOTPRINT_POINT_LATITUDE = (-14.6529,-14.6701,-14.6819,-14.6932, -14.7038,-14.714,-14.7237,-14.7243, -14.7294,-14.3662,-14.1831,-14.0006, -13.819,-13.5471,-13.1837,-12.821, -12.5485,-12.186,-11.9876,-11.7711, -11.5545,-11.3382,-11.1217,-10.7972, -10.5808,-10.2561,-10.04,-9.82362, -9.60758,-9.39133,-9.17515,-8.85172, -8.63579,-8.4196,-8.20367,-7.88068, -7.66543,-7.45131,-7.23671,-6.91438, -6.69951,-6.37481,-6.0511,-5.8347, -5.6136,-5.39284,-5.17347,-4.83777, -4.50795,-4.39443,-4.37586,-4.36299, -4.34304,-4.32068,-4.3017,-4.3011, -4.30132,-4.63684,-4.96855,-5.19023, -5.41293,-5.63317,-5.96028,-6.28311, -6.61136,-6.93439,-7.14913,-7.3594, -7.57542,-7.79347,-8.00805,-8.2211, -8.43589,-8.65062,-8.86723,-9.19199, -9.40736,-9.62371,-9.83968,-10.1644, -10.3812,-10.7053,-10.9217,-11.1373, -11.356,-11.6807,-11.8984,-12.0998, -12.4627,-12.7284,-13.0899,-13.2717, -13.4537,-13.6395,-13.8253,-14.0069, -14.1887,-14.5522,-14.6438,-14.6529)
FOOTPRINT_POINT_LONGITUDE = (22.2115,21.9256,21.7201,21.5165,21.315 ,21.1152,20.9169,20.9046,20.9003, 20.8953,20.8928,20.8902,20.8875,20.8834 ,20.8778,20.872,20.8675,20.8615,20.8581 ,20.8543,20.8505,20.8467,20.8428, 20.8368,20.8327,20.8265,20.8223,20.8181 ,20.8138,20.8094,20.805,20.7983,20.7937 ,20.7891,20.7845,20.7774,20.7726, 20.7677,20.7628,20.7554,20.7504,20.7428 ,20.7351,20.7299,20.7244,20.719,20.7135 ,20.7051,20.6966,20.6936,20.6931, 20.9774,21.3657,21.8031,22.1718,22.1865 ,22.1919,22.1913,22.1905,22.1898, 22.1886,22.1888,22.1881,22.1882,22.1851 ,22.1853,22.1859,22.1893,22.1893, 22.1881,22.1891,22.191,22.192,22.1931, 22.1931,22.1933,22.1941,22.1945,22.1951 ,22.1957,22.1959,22.197,22.1976,22.1988 ,22.198,22.199,22.199,22.1993,22.2006, 22.2058,22.2081,22.2087,22.2091,22.207, 22.2051,22.2058,22.2064,22.2077,22.2076 ,22.2115)
ORBIT_NUMBER = 14652
ORBITAL_ECCENTRICITY = 0.578
ORBITAL_INCLINATION = 86.91
ORBITAL_SEMIMAJOR_AXIS = 8837.49
PERIAPSIS_ALTITUDE = 333.22
PERIAPSIS_ARGUMENT_ANGLE = 332.33
PERIAPSIS_TIME = 2015-07-21T11:30:28.000Z
SPACECRAFT_ORIENTATION = (0.0,1.0,0.0)
^MEX_ORIENTATION_DESC = "MEX_ORIENTATION_DESC.TXT"
SPACECRAFT_POINTING_MODE = ACROSSTRACK
^MEX_POINTING_DESC = "MEX_POINTING_DESC.TXT"
RIGHT_ASCENSION = -1e+32
DECLINATION = -1e+32
OFFSET_ANGLE = -0.75
SPACECRAFT_SOLAR_DISTANCE = 2.38743e+08
TARGET_NAME = MARS
/* CAMERA DATA ELEMENTS */
DETECTOR_TEMPERATURE = 18.3705
FOCAL_PLANE_TEMPERATURE = 7.5638
INST_CMPRS_NAME = "DISCRETE COSINE TRANSFORMATION (DCT)"
INST_CMPRS_RATIO = 12.6154
INST_CMPRS_QUALITY = 0
INST_CMPRS_QUANTZ_TBL_ID = 0
INSTRUMENT_TEMPERATURE = 11.234
LENS_TEMPERATURE = 7.9716
MACROPIXEL_SIZE = 2
MISSING_FRAMES = 0
PIXEL_SUBSAMPLING_FLAG = N
SIGNAL_CHAIN_ID = 1
/* RADIOMETRIC DATA ELEMENTS */
BANDWIDTH = 178.0
CENTER_FILTER_WAVELENGTH = 679.0
RADIANCE_OFFSET = 2.07476
RADIANCE_SCALING_FACTOR = 0.0185061
REFLECTANCE_SCALING_FACTOR = 0.00055861
MEX:REFLECTANCE_OFFSET = 0.062627
/* IMAGE OBJECT DEFINITIONS */
OBJECT = IMAGE
  INTERCHANGE_FORMAT = BINARY
  LINES = 24575
  LINE_SAMPLES = 3704
  SAMPLE_TYPE = UNSIGNED_INTEGER
  SAMPLE_BITS = 8
  BANDS = 1
  BAND_STORAGE_TYPE = BAND_SEQUENTIAL
  MAXIMUM = 255
  MEAN = 81.3662
  MINIMUM = 1
  STANDARD_DEVIATION = 26.1462
END_OBJECT = IMAGE
/* MAP OBJECT DEFINITIONS */
OBJECT = IMAGE_MAP_PROJECTION
  ^DATA_SET_MAP_PROJECTION_CATALOG= "DSMAP.CAT"
  A_AXIS_RADIUS = 3396.0
  B_AXIS_RADIUS = 3396.0
  C_AXIS_RADIUS = 3396.0
  CENTER_LATITUDE = 0.0
  CENTER_LONGITUDE = 21.0
  COORDINATE_SYSTEM_NAME = PLANETOGRAPHIC
  COORDINATE_SYSTEM_TYPE = "BODY-FIXED ROTATING"
  EASTERNMOST_LONGITUDE = 22.2115
  FIRST_STANDARD_PARALLEL = "N/A"
  LINE_FIRST_PIXEL = 1
  LINE_LAST_PIXEL = 24575
  LINE_PROJECTION_OFFSET = -10241.25
  MAP_PROJECTION_ROTATION = 0.0
  MAP_PROJECTION_TYPE = SINUSOIDAL
  MAP_RESOLUTION = 2370.85521546667
  MAP_SCALE = 0.025
  MAXIMUM_LATITUDE = -4.3011
  MINIMUM_LATITUDE = -14.7294
  POSITIVE_LONGITUDE_DIRECTION = EAST
  REFERENCE_LATITUDE = "N/A"
  REFERENCE_LONGITUDE = "N/A"
  SAMPLE_FIRST_PIXEL = 1
  SAMPLE_LAST_PIXEL = 3704
  SAMPLE_PROJECTION_OFFSET = 821.25
  SECOND_STANDARD_PARALLEL = "N/A"
  WESTERNMOST_LONGITUDE = 20.6931
END_OBJECT = IMAGE_MAP_PROJECTION
END
