PDS_VERSION_ID = PDS3
/* FILE DATA ELEMENTS */
RECORD_TYPE = UNDEFINED
/* POINTERS TO DATA OBJECTS */
^IMAGE = ("HE652_0000_GR4.TIF")
/* IDENTIFICATION DATA ELEMENTS */
DATA_SET_ID = "MEX-M-HRSC-4-REFDR-MAPPROJECT-EXT5-V4.0"
DATA_SET_NAME = "MARS EXPRESS HRSC MAP PROJECTED REFDR EXTENSION5 V4.0"
DETECTOR_ID = MEX_HRSC_GREEN
EVENT_TYPE = "MARS-REGIONAL-MAPPING-Im-Fl"
INSTRUMENT_HOST_ID = MEX
INSTRUMENT_HOST_NAME = "MARS EXPRESS"
INSTRUMENT_ID = HRSC
INSTRUMENT_NAME = "HIGH RESOLUTION STEREO CAMERA"
MISSION_NAME = "MARS EXPRESS"
MISSION_PHASE_NAME = ME_Phase_33
PROCESSING_LEVEL_ID = 4
PRODUCT_CREATION_TIME = 2023-01-30T12:57:43.000Z
PRODUCT_ID = "HE652_0000_GR4.TIF"
RELEASE_ID = 0002
REVISION_ID = 0000
/* QUALITY DATA ELEMENTS */
DATA_QUALITY_ID = 1
DATA_QUALITY_DESC = "Data calculated based on original SPICE kernels"
/* TIME DATA ELEMENTS */
SPACECRAFT_CLOCK_START_COUNT = "1/0385558388.08251"
SPACECRAFT_CLOCK_STOP_COUNT = "1/0385558631.48030"
START_TIME = 2015-07-21T11:33:52.235Z
STOP_TIME = 2015-07-21T11:36:37.947Z
/* ORBITAL DATA ELEMENTS */
ASCENDING_NODE_LONGITUDE = 298.54
MAXIMUM_RESOLUTION = 0.1169 <m/pixel>
FOOTPRINT_POINT_LATITUDE = (-14.6819,-14.6831,-14.6833,-14.6829, -14.6829,-14.6804,-14.2902,-13.9825, -13.7774,-13.5724,-13.3678,-13.1631, -12.9586,-12.7542,-12.5501,-12.3461, -12.0403,-11.8367,-11.6333,-11.43, -11.227,-11.024,-10.8212,-10.6187, -10.4163,-10.214,-10.012,-9.81013, -9.40697,-9.00447,-8.60276,-8.39701, -8.08845,-7.8829,-7.67762,-7.47251, -7.15919,-6.94934,-6.73941,-6.53011, -6.32117,-6.0008,-5.78701,-5.57333, -5.35989,-5.03532,-4.81782,-4.49095, -4.38231,-4.32694,-4.32431,-4.32147, -4.31946,-4.31747,-4.31737,-4.31945, -4.5372,-4.7548,-4.9732,-5.29896, -5.51243,-5.72618,-5.94016,-6.15438, -6.36675,-6.57558,-6.78523,-6.99501, -7.20549,-7.51799,-7.72296,-7.92834, -8.13439,-8.34043,-8.64834,-9.05035, -9.45331,-9.857,-10.0591,-10.2613, -10.4638,-10.7678,-10.9706,-11.1738, -11.3766,-11.6819,-11.8854,-12.1911, -12.395,-12.6001,-12.9071,-13.1117, -13.3165,-13.6229,-13.8279,-14.0331, -14.2385,-14.5469,-14.6372,-14.6819)
FOOTPRINT_POINT_LONGITUDE = (22.2219,21.7011,21.303,20.9114,20.8992 ,20.8928,20.8867,20.8818,20.8784, 20.8749,20.8714,20.8678,20.8642,20.8605 ,20.8568,20.853,20.8473,20.8434,20.8394 ,20.8354,20.8314,20.8273,20.8231, 20.8189,20.8147,20.8104,20.8061,20.8017 ,20.7928,20.7837,20.7744,20.7695, 20.7622,20.7572,20.7522,20.7472,20.7393 ,20.734,20.7286,20.7232,20.7178,20.7093 ,20.7036,20.6979,20.692,20.6831,20.677, 20.6677,20.6646,20.6631,21.1234,21.5767 ,21.9177,22.201,22.2161,22.2261,22.2255 ,22.2231,22.2229,22.2212,22.2201, 22.2192,22.2182,22.2172,22.2171,22.214, 22.2135,22.2126,22.2137,22.2154,22.2139 ,22.2132,22.2144,22.2149,22.2157, 22.2149,22.2151,22.2154,22.2155,22.2152 ,22.2153,22.2158,22.2156,22.2162, 22.2147,22.2153,22.2149,22.2148,22.2143 ,22.2188,22.2212,22.2215,22.2217, 22.2174,22.2171,22.2173,22.2177,22.2182 ,22.2182,22.2219)
ORBIT_NUMBER = 14652
ORBITAL_ECCENTRICITY = 0.578
ORBITAL_INCLINATION = 86.91
ORBITAL_SEMIMAJOR_AXIS = 8837.49
PERIAPSIS_ALTITUDE = 333.22
PERIAPSIS_ARGUMENT_ANGLE = 332.33
PERIAPSIS_TIME = 2015-07-21T11:30:28.000Z
SPACECRAFT_ORIENTATION = (0.0,1.0,0.0)
^MEX_ORIENTATION_DESC = "MEX_ORIENTATION_DESC.TXT"
SPACECRAFT_POINTING_MODE = ACROSSTRACK
^MEX_POINTING_DESC = "MEX_POINTING_DESC.TXT"
RIGHT_ASCENSION = -1e+32
DECLINATION = -1e+32
OFFSET_ANGLE = -0.75
SPACECRAFT_SOLAR_DISTANCE = 2.38743e+08
TARGET_NAME = MARS
/* CAMERA DATA ELEMENTS */
DETECTOR_TEMPERATURE = 18.3705 <degC>
FOCAL_PLANE_TEMPERATURE = 7.5638 <degC>
INST_CMPRS_NAME = "DISCRETE COSINE TRANSFORMATION (DCT)"
INST_CMPRS_RATIO = 14.449
INST_CMPRS_QUALITY = 0
INST_CMPRS_QUANTZ_TBL_ID = 0
INSTRUMENT_TEMPERATURE = 11.234 <degC>
LENS_TEMPERATURE = 7.9716 <degC>
MACROPIXEL_SIZE = 8
MISSING_FRAMES = 0
PIXEL_SUBSAMPLING_FLAG = N
SIGNAL_CHAIN_ID = 2
/* RADIOMETRIC DATA ELEMENTS */
BANDWIDTH = 88.0 <nm>
CENTER_FILTER_WAVELENGTH = 538.0 <nm>
RADIANCE_OFFSET = 0.805773 <W*m**-2*sr**-1>
RADIANCE_SCALING_FACTOR = 0.00476414 <W*m**-2*sr**-1>
REFLECTANCE_SCALING_FACTOR = 0.000233796
MEX:REFLECTANCE_OFFSET = 0.0395425
/* IMAGE OBJECT DEFINITIONS */
OBJECT = IMAGE
  INTERCHANGE_FORMAT = BINARY
  LINES = 6144
  LINE_SAMPLES = 926
  SAMPLE_TYPE = UNSIGNED_INTEGER
  SAMPLE_BITS = 8
  BANDS = 1
  BAND_STORAGE_TYPE = BAND_SEQUENTIAL
  MAXIMUM = 255
  MEAN = 97.985
  MINIMUM = 1
  STANDARD_DEVIATION = 21.2581
END_OBJECT = IMAGE
/* MAP OBJECT DEFINITIONS */
OBJECT = IMAGE_MAP_PROJECTION
  ^DATA_SET_MAP_PROJECTION_CATALOG= "DSMAP.CAT"
  A_AXIS_RADIUS = 3396.0 <km>
  B_AXIS_RADIUS = 3396.0 <km>
  C_AXIS_RADIUS = 3396.0 <km>
  CENTER_LATITUDE = 0.0
  CENTER_LONGITUDE = 21.0
  COORDINATE_SYSTEM_NAME = PLANETOGRAPHIC
  COORDINATE_SYSTEM_TYPE = "BODY-FIXED ROTATING"
  EASTERNMOST_LONGITUDE = 22.2261
  FIRST_STANDARD_PARALLEL = "N/A"
  LINE_FIRST_PIXEL = 1
  LINE_LAST_PIXEL = 6144
  LINE_PROJECTION_OFFSET = -2560.6875
  MAP_PROJECTION_ROTATION = 0.0
  MAP_PROJECTION_TYPE = SINUSOIDAL
  MAP_RESOLUTION = 592.713803866667 <pixel/degree>
  MAP_SCALE = 0.1 <km/pixel>
  MAXIMUM_LATITUDE = -4.31737
  MINIMUM_LATITUDE = -14.6833
  POSITIVE_LONGITUDE_DIRECTION = EAST
  REFERENCE_LATITUDE = "N/A"
  REFERENCE_LONGITUDE = "N/A"
  SAMPLE_FIRST_PIXEL = 1
  SAMPLE_LAST_PIXEL = 926
  SAMPLE_PROJECTION_OFFSET = 204.9375
  SECOND_STANDARD_PARALLEL = "N/A"
  WESTERNMOST_LONGITUDE = 20.6631
END_OBJECT = IMAGE_MAP_PROJECTION
END
