PDS_VERSION_ID = PDS3
/* FILE DATA ELEMENTS */
RECORD_TYPE = UNDEFINED
/* POINTERS TO DATA OBJECTS */
^IMAGE = ("HE629_0000_P24.TIF")
/* IDENTIFICATION DATA ELEMENTS */
DATA_SET_ID = "MEX-M-HRSC-4-REFDR-MAPPROJECT-EXT5-V4.0"
DATA_SET_NAME = "MARS EXPRESS HRSC MAP PROJECTED REFDR EXTENSION5 V4.0"
DETECTOR_ID = MEX_HRSC_P2
EVENT_TYPE = "MARS-REGIONAL-MAPPING-Te-Fl"
INSTRUMENT_HOST_ID = MEX
INSTRUMENT_HOST_NAME = "MARS EXPRESS"
INSTRUMENT_ID = HRSC
INSTRUMENT_NAME = "HIGH RESOLUTION STEREO CAMERA"
MISSION_NAME = "MARS EXPRESS"
MISSION_PHASE_NAME = ME_Phase_33
PROCESSING_LEVEL_ID = 4
PRODUCT_CREATION_TIME = 2023-01-30T12:57:43.000Z
PRODUCT_ID = "HE629_0000_P24.TIF"
RELEASE_ID = 0002
REVISION_ID = 0000
/* QUALITY DATA ELEMENTS */
DATA_QUALITY_ID = 1
DATA_QUALITY_DESC = "Data calculated based on original SPICE kernels"
/* TIME DATA ELEMENTS */
SPACECRAFT_CLOCK_START_COUNT = "1/0384979448.08292"
SPACECRAFT_CLOCK_STOP_COUNT = "1/0384979631.54622"
START_TIME = 2015-07-14T18:44:24.817Z
STOP_TIME = 2015-07-14T18:46:13.033Z
/* ORBITAL DATA ELEMENTS */
ASCENDING_NODE_LONGITUDE = 298.98
MAXIMUM_RESOLUTION = 0.0581
FOOTPRINT_POINT_LATITUDE = (-12.3332,-12.3359,-12.3371,-12.3383, -12.3395,-12.34,-12.3402,-12.3402, -12.3355,-12.2051,-12.01,-11.8796, -11.7493,-11.6191,-11.4889,-11.2936, -11.0333,-10.773,-10.5778,-10.4476, -10.1875,-9.92714,-9.79682,-9.66479, -9.40617,-9.21092,-9.07987,-8.82083, -8.55982,-8.40464,-8.24939,-8.09439, -7.93917,-7.78386,-7.6288,-7.47385, -7.3188,-7.16391,-7.00911,-6.85451, -6.69958,-6.54437,-6.388,-6.23316, -6.07882,-5.84708,-5.69302,-5.53841, -5.38413,-5.30663,-5.24668,-5.24468, -5.24216,-5.24221,-5.23986,-5.23506, -5.23554,-5.23652,-5.46907,-5.62365, -5.77848,-5.93322,-6.08779,-6.24242, -6.39704,-6.5519,-6.78404,-7.01638, -7.1716,-7.40445,-7.55984,-7.71283, -7.86733,-8.02396,-8.18139,-8.33693, -8.49192,-8.63277,-8.89284,-9.08582, -9.34576,-9.47829,-9.60952,-9.80461, -10.0649,-10.1956,-10.3264,-10.5178, -10.7767,-10.9092,-11.0415,-11.2372, -11.3679,-11.4982,-11.6286,-11.8244, -12.0209,-12.2163,-12.2815,-12.3332)
FOOTPRINT_POINT_LONGITUDE = (213.187,212.906,212.742,212.566, 212.296,212.097,211.944,211.932,211.928 ,211.926,211.924,211.922,211.921, 211.919,211.918,211.915,211.912,211.909 ,211.906,211.904,211.9,211.897,211.895, 211.892,211.888,211.885,211.883,211.879 ,211.875,211.872,211.869,211.866, 211.864,211.861,211.858,211.855,211.852 ,211.849,211.846,211.843,211.84,211.837 ,211.833,211.83,211.827,211.822,211.819 ,211.816,211.812,211.81,211.809,212.117 ,212.4,212.619,212.825,213.173,213.185, 213.189,213.189,213.189,213.188,213.188 ,213.188,213.188,213.188,213.187, 213.187,213.187,213.187,213.186,213.186 ,213.187,213.187,213.187,213.186, 213.185,213.185,213.185,213.185,213.186 ,213.187,213.186,213.185,213.186, 213.186,213.186,213.185,213.187,213.188 ,213.188,213.187,213.187,213.187, 213.187,213.187,213.188,213.187,213.188 ,213.188,213.187)
ORBIT_NUMBER = 14629
ORBITAL_ECCENTRICITY = 0.578
ORBITAL_INCLINATION = 86.92
ORBITAL_SEMIMAJOR_AXIS = 8839.84
PERIAPSIS_ALTITUDE = 334.01
PERIAPSIS_ARGUMENT_ANGLE = 336.29
PERIAPSIS_TIME = 2015-07-14T18:41:52.000Z
SPACECRAFT_ORIENTATION = (0.0,1.0,0.0)
^MEX_ORIENTATION_DESC = "MEX_ORIENTATION_DESC.TXT"
SPACECRAFT_POINTING_MODE = NADIR
^MEX_POINTING_DESC = "MEX_POINTING_DESC.TXT"
RIGHT_ASCENSION = -1e+32
DECLINATION = -1e+32
OFFSET_ANGLE = -1e+32
SPACECRAFT_SOLAR_DISTANCE = 2.37649e+08
TARGET_NAME = MARS
/* CAMERA DATA ELEMENTS */
DETECTOR_TEMPERATURE = 18.7783
FOCAL_PLANE_TEMPERATURE = 7.7677
INST_CMPRS_NAME = "DISCRETE COSINE TRANSFORMATION (DCT)"
INST_CMPRS_RATIO = 6.57402
INST_CMPRS_QUALITY = 0
INST_CMPRS_QUANTZ_TBL_ID = 0
INSTRUMENT_TEMPERATURE = 11.6418
LENS_TEMPERATURE = 8.3794
MACROPIXEL_SIZE = 4
MISSING_FRAMES = 0
PIXEL_SUBSAMPLING_FLAG = N
SIGNAL_CHAIN_ID = 3
/* RADIOMETRIC DATA ELEMENTS */
BANDWIDTH = 177.0
CENTER_FILTER_WAVELENGTH = 676.5
RADIANCE_OFFSET = 3.0123
RADIANCE_SCALING_FACTOR = 0.0199095
REFLECTANCE_SCALING_FACTOR = 0.0005962
MEX:REFLECTANCE_OFFSET = 0.0902051
/* IMAGE OBJECT DEFINITIONS */
OBJECT = IMAGE
  INTERCHANGE_FORMAT = BINARY
  LINES = 8409
  LINE_SAMPLES = 1675
  SAMPLE_TYPE = UNSIGNED_INTEGER
  SAMPLE_BITS = 8
  BANDS = 1
  BAND_STORAGE_TYPE = BAND_SEQUENTIAL
  MAXIMUM = 255
  MEAN = 119.794
  MINIMUM = 1
  STANDARD_DEVIATION = 20.1784
END_OBJECT = IMAGE
/* MAP OBJECT DEFINITIONS */
OBJECT = IMAGE_MAP_PROJECTION
  ^DATA_SET_MAP_PROJECTION_CATALOG= "DSMAP.CAT"
  A_AXIS_RADIUS = 3396.0
  B_AXIS_RADIUS = 3396.0
  C_AXIS_RADIUS = 3396.0
  CENTER_LATITUDE = 0.0
  CENTER_LONGITUDE = 213.0
  COORDINATE_SYSTEM_NAME = PLANETOGRAPHIC
  COORDINATE_SYSTEM_TYPE = "BODY-FIXED ROTATING"
  EASTERNMOST_LONGITUDE = 213.189
  FIRST_STANDARD_PARALLEL = "N/A"
  LINE_FIRST_PIXEL = 1
  LINE_LAST_PIXEL = 8409
  LINE_PROJECTION_OFFSET = -6227.375
  MAP_PROJECTION_ROTATION = 0.0
  MAP_PROJECTION_TYPE = SINUSOIDAL
  MAP_RESOLUTION = 1185.42760773333
  MAP_SCALE = 0.05
  MAXIMUM_LATITUDE = -5.23506
  MINIMUM_LATITUDE = -12.3402
  POSITIVE_LONGITUDE_DIRECTION = EAST
  REFERENCE_LATITUDE = "N/A"
  REFERENCE_LONGITUDE = "N/A"
  SAMPLE_FIRST_PIXEL = 1
  SAMPLE_LAST_PIXEL = 1675
  SAMPLE_PROJECTION_OFFSET = 1429.375
  SECOND_STANDARD_PARALLEL = "N/A"
  WESTERNMOST_LONGITUDE = 211.809
END_OBJECT = IMAGE_MAP_PROJECTION
END
