PDS_VERSION_ID = PDS3
/* FILE DATA ELEMENTS */
RECORD_TYPE = UNDEFINED
/* POINTERS TO DATA OBJECTS */
^IMAGE = ("HE626_0000_P24.TIF")
/* IDENTIFICATION DATA ELEMENTS */
DATA_SET_ID = "MEX-M-HRSC-4-REFDR-MAPPROJECT-EXT5-V4.0"
DATA_SET_NAME = "MARS EXPRESS HRSC MAP PROJECTED REFDR EXTENSION5 V4.0"
DETECTOR_ID = MEX_HRSC_P2
EVENT_TYPE = "MARS-REGIONAL-MAPPING-Vo"
INSTRUMENT_HOST_ID = MEX
INSTRUMENT_HOST_NAME = "MARS EXPRESS"
INSTRUMENT_ID = HRSC
INSTRUMENT_NAME = "HIGH RESOLUTION STEREO CAMERA"
MISSION_NAME = "MARS EXPRESS"
MISSION_PHASE_NAME = ME_Phase_33
PROCESSING_LEVEL_ID = 4
PRODUCT_CREATION_TIME = 2023-01-30T12:57:43.000Z
PRODUCT_ID = "HE626_0000_P24.TIF"
RELEASE_ID = 0002
REVISION_ID = 0000
/* QUALITY DATA ELEMENTS */
DATA_QUALITY_ID = 1
DATA_QUALITY_DESC = "Data calculated based on original SPICE kernels"
/* TIME DATA ELEMENTS */
SPACECRAFT_CLOCK_START_COUNT = "1/0384904050.09084"
SPACECRAFT_CLOCK_STOP_COUNT = "1/0384904271.25966"
START_TIME = 2015-07-13T21:47:46.386Z
STOP_TIME = 2015-07-13T21:50:07.233Z
/* ORBITAL DATA ELEMENTS */
ASCENDING_NODE_LONGITUDE = 299.03
MAXIMUM_RESOLUTION = 0.0635 <m/pixel>
FOOTPRINT_POINT_LATITUDE = (-5.65112,-5.6548,-5.6579,-5.66187, -5.66669,-5.66963,-5.66977,-5.66163, -5.37658,-4.99553,-4.6156,-4.32961, -3.94822,-3.47086,-3.08939,-2.70705, -2.51153,-2.31491,-2.0201,-1.82371, -1.62712,-1.33218,-1.13145,-0.929529, -0.727539,-0.525447,-0.323263,-0.120995 ,0.18629,0.393844,0.601714,0.809603, 1.01758,1.22567,1.43809,1.6516,1.86517, 2.07895,2.29278,2.50878,2.72808,2.94752 ,3.16713,3.38683,3.60843,3.83364, 4.05898,4.39733,4.51018,4.52898,4.53485 ,4.53883,4.5431,4.5464,4.55099,4.55533, 4.55566,4.55442,4.21618,3.99085,3.76614 ,3.43025,3.21102,2.99123,2.77152, 2.55196,2.33536,2.12133,1.80051,1.58675 ,1.37304,1.16262,0.954331,0.746165, 0.538123,0.330167,0.12231,-0.0817856, -0.284201,-0.486572,-0.688872,-0.891064 ,-1.0931,-1.39289,-1.58965,-1.7863, -1.98288,-2.17937,-2.47402,-2.76689, -3.24473,-3.43667,-3.72277,-4.19905, -4.58037,-4.86616,-5.15225,-5.53328, -5.62853,-5.65112)
FOOTPRINT_POINT_LONGITUDE = (160.072,159.845,159.644,159.368, 158.994,158.744,158.732,158.724,158.721 ,158.717,158.713,158.709,158.705, 158.698,158.694,158.688,158.686,158.683 ,158.679,158.677,158.674,158.67,158.667 ,158.664,158.661,158.658,158.655, 158.652,158.647,158.644,158.641,158.637 ,158.634,158.631,158.627,158.624,158.62 ,158.617,158.613,158.609,158.606, 158.602,158.598,158.594,158.59,158.586, 158.582,158.576,158.574,158.574,158.994 ,159.244,159.495,159.793,159.998, 160.236,160.252,160.257,160.249,160.244 ,160.239,160.23,160.226,160.221,160.216 ,160.211,160.207,160.202,160.196, 160.191,160.187,160.183,160.179,160.175 ,160.171,160.167,160.163,160.16,160.156 ,160.153,160.149,160.146,160.142, 160.138,160.134,160.131,160.128,160.125 ,160.121,160.116,160.11,160.106,160.102 ,160.097,160.092,160.088,160.085,160.08 ,160.079,160.072)
ORBIT_NUMBER = 14626
ORBITAL_ECCENTRICITY = 0.578
ORBITAL_INCLINATION = 86.91
ORBITAL_SEMIMAJOR_AXIS = 8839.15
PERIAPSIS_ALTITUDE = 334.88
PERIAPSIS_ARGUMENT_ANGLE = 336.85
PERIAPSIS_TIME = 2015-07-13T21:43:29.000Z
SPACECRAFT_ORIENTATION = (0.0,1.0,0.0)
^MEX_ORIENTATION_DESC = "MEX_ORIENTATION_DESC.TXT"
SPACECRAFT_POINTING_MODE = INERT
^MEX_POINTING_DESC = "MEX_POINTING_DESC.TXT"
RIGHT_ASCENSION = 183.666
DECLINATION = 53.511
OFFSET_ANGLE = -1e+32
SPACECRAFT_SOLAR_DISTANCE = 2.37504e+08
TARGET_NAME = MARS
/* CAMERA DATA ELEMENTS */
DETECTOR_TEMPERATURE = 18.1666 <degC>
FOCAL_PLANE_TEMPERATURE = 7.5638 <degC>
INST_CMPRS_NAME = "DISCRETE COSINE TRANSFORMATION (DCT)"
INST_CMPRS_RATIO = 8.97408
INST_CMPRS_QUALITY = 0
INST_CMPRS_QUANTZ_TBL_ID = 0
INSTRUMENT_TEMPERATURE = 10.8262 <degC>
LENS_TEMPERATURE = 7.9716 <degC>
MACROPIXEL_SIZE = 4
MISSING_FRAMES = 0
PIXEL_SUBSAMPLING_FLAG = N
SIGNAL_CHAIN_ID = 3
/* RADIOMETRIC DATA ELEMENTS */
BANDWIDTH = 177.0 <nm>
CENTER_FILTER_WAVELENGTH = 676.5 <nm>
RADIANCE_OFFSET = 3.34316 <W*m**-2*sr**-1>
RADIANCE_SCALING_FACTOR = 0.0123012 <W*m**-2*sr**-1>
REFLECTANCE_SCALING_FACTOR = 0.000367912
MEX:REFLECTANCE_OFFSET = 0.0999896
/* IMAGE OBJECT DEFINITIONS */
OBJECT = IMAGE
  INTERCHANGE_FORMAT = BINARY
  LINES = 12101
  LINE_SAMPLES = 2044
  SAMPLE_TYPE = UNSIGNED_INTEGER
  SAMPLE_BITS = 8
  BANDS = 1
  BAND_STORAGE_TYPE = BAND_SEQUENTIAL
  MAXIMUM = 255
  MEAN = 143.298
  MINIMUM = 1
  STANDARD_DEVIATION = 19.2977
END_OBJECT = IMAGE
/* MAP OBJECT DEFINITIONS */
OBJECT = IMAGE_MAP_PROJECTION
  ^DATA_SET_MAP_PROJECTION_CATALOG= "DSMAP.CAT"
  A_AXIS_RADIUS = 3396.0 <km>
  B_AXIS_RADIUS = 3396.0 <km>
  C_AXIS_RADIUS = 3396.0 <km>
  CENTER_LATITUDE = 0.0
  CENTER_LONGITUDE = 159.0
  COORDINATE_SYSTEM_NAME = PLANETOGRAPHIC
  COORDINATE_SYSTEM_TYPE = "BODY-FIXED ROTATING"
  EASTERNMOST_LONGITUDE = 160.257
  FIRST_STANDARD_PARALLEL = "N/A"
  LINE_FIRST_PIXEL = 1
  LINE_LAST_PIXEL = 12101
  LINE_PROJECTION_OFFSET = 5369.875
  MAP_PROJECTION_ROTATION = 0.0
  MAP_PROJECTION_TYPE = SINUSOIDAL
  MAP_RESOLUTION = 1185.42760773333 <pixel/degree>
  MAP_SCALE = 0.05 <km/pixel>
  MAXIMUM_LATITUDE = 4.55566
  MINIMUM_LATITUDE = -5.66977
  POSITIVE_LONGITUDE_DIRECTION = EAST
  REFERENCE_LATITUDE = "N/A"
  REFERENCE_LONGITUDE = "N/A"
  SAMPLE_FIRST_PIXEL = 1
  SAMPLE_LAST_PIXEL = 2044
  SAMPLE_PROJECTION_OFFSET = 517.625
  SECOND_STANDARD_PARALLEL = "N/A"
  WESTERNMOST_LONGITUDE = 158.574
END_OBJECT = IMAGE_MAP_PROJECTION
END
