PDS_VERSION_ID = PDS3
/* FILE DATA ELEMENTS */
RECORD_TYPE = UNDEFINED
/* POINTERS TO DATA OBJECTS */
^IMAGE = ("HD994_0000_S24.TIF")
/* IDENTIFICATION DATA ELEMENTS */
DATA_SET_ID = "MEX-M-HRSC-4-REFDR-MAPPROJECT-EXT5-V4.0"
DATA_SET_NAME = "MARS EXPRESS HRSC MAP PROJECTED REFDR EXTENSION5 V4.0"
DETECTOR_ID = MEX_HRSC_S2
EVENT_TYPE = "MARS-REGIONAL-MAPPING-Fl-Gl-Pf"
INSTRUMENT_HOST_ID = MEX
INSTRUMENT_HOST_NAME = "MARS EXPRESS"
INSTRUMENT_ID = HRSC
INSTRUMENT_NAME = "HIGH RESOLUTION STEREO CAMERA"
MISSION_NAME = "MARS EXPRESS"
MISSION_PHASE_NAME = ME_Phase_32
PROCESSING_LEVEL_ID = 4
PRODUCT_CREATION_TIME = 2023-01-30T10:12:24.000Z
PRODUCT_ID = "HD994_0000_S24.TIF"
RELEASE_ID = 0001
REVISION_ID = 0000
/* QUALITY DATA ELEMENTS */
DATA_QUALITY_ID = 1
DATA_QUALITY_DESC = "Data calculated based on original SPICE kernels"
/* TIME DATA ELEMENTS */
SPACECRAFT_CLOCK_START_COUNT = "1/0368996541.07325"
SPACECRAFT_CLOCK_STOP_COUNT = "1/0368996907.57867"
START_TIME = 2015-01-10T19:02:27.248Z
STOP_TIME = 2015-01-10T19:04:23.443Z
/* ORBITAL DATA ELEMENTS */
ASCENDING_NODE_LONGITUDE = 310.99
MAXIMUM_RESOLUTION = 0.0626
FOOTPRINT_POINT_LATITUDE = (49.762,49.789,49.8073,49.8245,49.8405, 49.8554,49.8692,49.8819,49.8934,49.9038 ,49.9132,49.9252,49.9311,49.9319, 49.8244,49.5089,49.2563,49.0011,48.7455 ,48.552,48.2936,48.0332,47.7721,47.4429 ,47.0456,46.779,46.5779,46.3756,46.1049 ,45.8328,45.6277,45.3528,45.215,45.0762 ,44.9373,44.7986,44.6587,44.5183, 44.3787,44.2379,44.026,43.884,43.7415, 43.5984,43.4561,43.3114,43.0949,43.0227 ,43.0091,43.0074,43.0055,43.002,42.9947 ,42.9902,42.9824,42.9731,42.9622, 42.9546,42.9468,42.9385,42.9298,42.9136 ,42.8966,42.8759,42.8735,42.8737, 43.0172,43.1604,43.304,43.4458,43.5877, 43.7299,43.8698,44.0108,44.222,44.3607, 44.4999,44.6394,44.8466,44.9849,45.1224 ,45.3275,45.6688,45.939,46.3423,46.676, 46.941,47.1387,47.4013,47.5976,47.8572, 48.0521,48.3088,48.6931,48.8836,49.0742 ,49.3887,49.5772,49.6392,49.762)
FOOTPRINT_POINT_LONGITUDE = (149.384,149.804,150.109,150.414, 150.719,151.023,151.327,151.631,151.934 ,152.237,152.54,152.995,153.261,153.299 ,153.349,153.37,153.388,153.404,153.421 ,153.433,153.45,153.466,153.481,153.501 ,153.523,153.538,153.549,153.56,153.575 ,153.589,153.599,153.613,153.62,153.626 ,153.633,153.64,153.646,153.653,153.659 ,153.665,153.675,153.681,153.687, 153.694,153.7,153.706,153.715,153.718, 153.718,153.4,153.2,152.961,152.602, 152.402,152.083,151.763,151.443,151.242 ,151.042,150.841,150.641,150.319, 149.997,149.634,149.594,149.579,149.577 ,149.575,149.573,149.571,149.568, 149.565,149.562,149.56,149.555,149.552, 149.549,149.545,149.54,149.536,149.532, 149.527,149.516,149.507,149.493,149.481 ,149.47,149.462,149.451,149.442,149.43, 149.42,149.407,149.387,149.377,149.366, 149.348,149.336,149.333,149.384)
ORBIT_NUMBER = 13994
ORBITAL_ECCENTRICITY = 0.57
ORBITAL_INCLINATION = 86.92
ORBITAL_SEMIMAJOR_AXIS = 8760.35
PERIAPSIS_ALTITUDE = 387.39
PERIAPSIS_ARGUMENT_ANGLE = 86.04
PERIAPSIS_TIME = 2015-01-10T18:51:32.000Z
SPACECRAFT_ORIENTATION = (0.0,1.0,0.0)
^MEX_ORIENTATION_DESC = "MEX_ORIENTATION_DESC.TXT"
SPACECRAFT_POINTING_MODE = ACROSSTRACK
^MEX_POINTING_DESC = "MEX_POINTING_DESC.TXT"
RIGHT_ASCENSION = -1e+32
DECLINATION = -1e+32
OFFSET_ANGLE = -0.4
SPACECRAFT_SOLAR_DISTANCE = 2.07557e+08
TARGET_NAME = MARS
/* CAMERA DATA ELEMENTS */
DETECTOR_TEMPERATURE = 18.7783
FOCAL_PLANE_TEMPERATURE = 9.6028
INST_CMPRS_NAME = "DISCRETE COSINE TRANSFORMATION (DCT)"
INST_CMPRS_RATIO = 11.3703
INST_CMPRS_QUALITY = 0
INST_CMPRS_QUANTZ_TBL_ID = 0
INSTRUMENT_TEMPERATURE = 11.234
LENS_TEMPERATURE = 8.9911
MACROPIXEL_SIZE = 2
MISSING_FRAMES = 0
PIXEL_SUBSAMPLING_FLAG = N
SIGNAL_CHAIN_ID = 1
/* RADIOMETRIC DATA ELEMENTS */
BANDWIDTH = 178.0
CENTER_FILTER_WAVELENGTH = 679.0
RADIANCE_OFFSET = 3.9612
RADIANCE_SCALING_FACTOR = 0.0115031
REFLECTANCE_SCALING_FACTOR = 0.000262435
MEX:REFLECTANCE_OFFSET = 0.0903717
/* IMAGE OBJECT DEFINITIONS */
OBJECT = IMAGE
  INTERCHANGE_FORMAT = BINARY
  LINES = 8156
  LINE_SAMPLES = 4024
  SAMPLE_TYPE = UNSIGNED_INTEGER
  SAMPLE_BITS = 8
  BANDS = 1
  BAND_STORAGE_TYPE = BAND_SEQUENTIAL
  MAXIMUM = 255
  MEAN = 154.229
  MINIMUM = 1
  STANDARD_DEVIATION = 48.7737
END_OBJECT = IMAGE
/* MAP OBJECT DEFINITIONS */
OBJECT = IMAGE_MAP_PROJECTION
  ^DATA_SET_MAP_PROJECTION_CATALOG= "DSMAP.CAT"
  A_AXIS_RADIUS = 3396.0
  B_AXIS_RADIUS = 3396.0
  C_AXIS_RADIUS = 3396.0
  CENTER_LATITUDE = 0.0
  CENTER_LONGITUDE = 151.0
  COORDINATE_SYSTEM_NAME = PLANETOGRAPHIC
  COORDINATE_SYSTEM_TYPE = "BODY-FIXED ROTATING"
  EASTERNMOST_LONGITUDE = 153.718
  FIRST_STANDARD_PARALLEL = "N/A"
  LINE_FIRST_PIXEL = 1
  LINE_LAST_PIXEL = 8156
  LINE_PROJECTION_OFFSET = 59034.75
  MAP_PROJECTION_ROTATION = 0.0
  MAP_PROJECTION_TYPE = SINUSOIDAL
  MAP_RESOLUTION = 1185.42760773333
  MAP_SCALE = 0.05
  MAXIMUM_LATITUDE = 49.9319
  MINIMUM_LATITUDE = 42.8735
  POSITIVE_LONGITUDE_DIRECTION = EAST
  REFERENCE_LATITUDE = "N/A"
  REFERENCE_LONGITUDE = "N/A"
  SAMPLE_FIRST_PIXEL = 1
  SAMPLE_LAST_PIXEL = 4024
  SAMPLE_PROJECTION_OFFSET = 1485.75
  SECOND_STANDARD_PARALLEL = "N/A"
  WESTERNMOST_LONGITUDE = 149.333
END_OBJECT = IMAGE_MAP_PROJECTION
END
