PDS_VERSION_ID = PDS3
/* FILE DATA ELEMENTS */
RECORD_TYPE = UNDEFINED
/* POINTERS TO DATA OBJECTS */
^IMAGE = ("HD983_0000_GR4.TIF")
/* IDENTIFICATION DATA ELEMENTS */
DATA_SET_ID = "MEX-M-HRSC-4-REFDR-MAPPROJECT-EXT5-V4.0"
DATA_SET_NAME = "MARS EXPRESS HRSC MAP PROJECTED REFDR EXTENSION5 V4.0"
DETECTOR_ID = MEX_HRSC_GREEN
EVENT_TYPE = "MARS-REGIONAL-MAPPING-Fl-Gl-Pf"
INSTRUMENT_HOST_ID = MEX
INSTRUMENT_HOST_NAME = "MARS EXPRESS"
INSTRUMENT_ID = HRSC
INSTRUMENT_NAME = "HIGH RESOLUTION STEREO CAMERA"
MISSION_NAME = "MARS EXPRESS"
MISSION_PHASE_NAME = ME_Phase_32
PROCESSING_LEVEL_ID = 4
PRODUCT_CREATION_TIME = 2023-01-30T10:12:24.000Z
PRODUCT_ID = "HD983_0000_GR4.TIF"
RELEASE_ID = 0001
REVISION_ID = 0000
/* QUALITY DATA ELEMENTS */
DATA_QUALITY_ID = 1
DATA_QUALITY_DESC = "Data calculated based on original SPICE kernels"
/* TIME DATA ELEMENTS */
SPACECRAFT_CLOCK_START_COUNT = "1/0368719581.07320"
SPACECRAFT_CLOCK_STOP_COUNT = "1/0368719953.04695"
START_TIME = 2015-01-07T14:07:21.504Z
STOP_TIME = 2015-01-07T14:10:15.195Z
/* ORBITAL DATA ELEMENTS */
ASCENDING_NODE_LONGITUDE = 311.19
MAXIMUM_RESOLUTION = 0.1091
FOOTPRINT_POINT_LATITUDE = (54.4556,54.448,54.4354,54.419,54.4022, 54.3802,54.3551,54.323,54.3211,54.2984, 54.0448,53.7053,53.3636,53.0185,52.6718 ,52.3229,51.9704,51.705,51.3488,50.9894 ,50.5368,50.2634,50.0798,49.8038, 49.6185,49.4335,49.2464,49.0595,48.7771 ,48.5886,48.3033,48.1131,47.9212, 47.7293,47.4392,47.2456,47.0503,46.855, 46.6581,46.4611,46.2627,46.0641,45.8642 ,45.664,45.4627,45.1596,45.0577,45.0011 ,45.0142,45.0274,45.0423,45.0511, 45.0618,45.0671,45.0725,45.0759,45.0782 ,45.0797,45.0802,45.0802,45.0821, 45.2872,45.4904,45.6937,45.8953,46.0971 ,46.297,46.4973,46.6956,46.9926,47.1893 ,47.3855,47.5804,47.7754,47.9686,48.258 ,48.4496,48.6414,48.9261,49.1159,49.304 ,49.5858,49.7721,50.0514,50.2359, 50.5126,50.6954,50.9693,51.422,51.7803, 52.1365,52.4908,52.842,53.1036,53.4514, 53.7948,54.052,54.3068,54.392,54.4556)
FOOTPRINT_POINT_LONGITUDE = (197.898,197.492,196.938,196.347, 195.829,195.237,194.645,193.976,193.939 ,193.861,193.885,193.917,193.947, 193.977,194.006,194.033,194.06,194.079, 194.104,194.128,194.156,194.172,194.183 ,194.198,194.208,194.218,194.227, 194.236,194.25,194.258,194.271,194.278, 194.286,194.294,194.304,194.311,194.318 ,194.324,194.33,194.336,194.341,194.347 ,194.352,194.357,194.361,194.367, 194.369,194.37,194.725,195.122,195.636, 195.991,196.504,196.82,197.214,197.529, 197.844,198.159,198.554,198.593,198.606 ,198.596,198.585,198.575,198.564, 198.553,198.542,198.531,198.52,198.504, 198.492,198.481,198.469,198.458,198.446 ,198.428,198.416,198.404,198.385, 198.373,198.36,198.341,198.328,198.308, 198.295,198.275,198.262,198.241,198.206 ,198.178,198.149,198.12,198.09,198.067, 198.036,198.004,197.981,197.957,197.948 ,197.898)
ORBIT_NUMBER = 13983
ORBITAL_ECCENTRICITY = 0.57
ORBITAL_INCLINATION = 86.92
ORBITAL_SEMIMAJOR_AXIS = 8759.54
PERIAPSIS_ALTITUDE = 386.47
PERIAPSIS_ARGUMENT_ANGLE = 87.94
PERIAPSIS_TIME = 2015-01-07T13:57:17.000Z
SPACECRAFT_ORIENTATION = (0.0,-1.0,0.0)
^MEX_ORIENTATION_DESC = "MEX_ORIENTATION_DESC.TXT"
SPACECRAFT_POINTING_MODE = ACROSSTRACK
^MEX_POINTING_DESC = "MEX_POINTING_DESC.TXT"
RIGHT_ASCENSION = -1e+32
DECLINATION = -1e+32
OFFSET_ANGLE = -0.269
SPACECRAFT_SOLAR_DISTANCE = 2.07367e+08
TARGET_NAME = MARS
/* CAMERA DATA ELEMENTS */
DETECTOR_TEMPERATURE = 18.1666
FOCAL_PLANE_TEMPERATURE = 7.9716
INST_CMPRS_NAME = "DISCRETE COSINE TRANSFORMATION (DCT)"
INST_CMPRS_RATIO = 10.668
INST_CMPRS_QUALITY = 0
INST_CMPRS_QUANTZ_TBL_ID = 0
INSTRUMENT_TEMPERATURE = 11.0301
LENS_TEMPERATURE = 8.3794
MACROPIXEL_SIZE = 4
MISSING_FRAMES = 0
PIXEL_SUBSAMPLING_FLAG = N
SIGNAL_CHAIN_ID = 2
/* RADIOMETRIC DATA ELEMENTS */
BANDWIDTH = 88.0
CENTER_FILTER_WAVELENGTH = 538.0
RADIANCE_OFFSET = 0.999379
RADIANCE_SCALING_FACTOR = 0.00335221
REFLECTANCE_SCALING_FACTOR = 0.000124108
MEX:REFLECTANCE_OFFSET = 0.0369998
/* IMAGE OBJECT DEFINITIONS */
OBJECT = IMAGE
  INTERCHANGE_FORMAT = BINARY
  LINES = 5585
  LINE_SAMPLES = 1870
  SAMPLE_TYPE = UNSIGNED_INTEGER
  SAMPLE_BITS = 8
  BANDS = 1
  BAND_STORAGE_TYPE = BAND_SEQUENTIAL
  MAXIMUM = 255
  MEAN = 159.996
  MINIMUM = 1
  STANDARD_DEVIATION = 47.161
END_OBJECT = IMAGE
/* MAP OBJECT DEFINITIONS */
OBJECT = IMAGE_MAP_PROJECTION
  ^DATA_SET_MAP_PROJECTION_CATALOG= "DSMAP.CAT"
  A_AXIS_RADIUS = 3396.0
  B_AXIS_RADIUS = 3396.0
  C_AXIS_RADIUS = 3396.0
  CENTER_LATITUDE = 0.0
  CENTER_LONGITUDE = 196.0
  COORDINATE_SYSTEM_NAME = PLANETOGRAPHIC
  COORDINATE_SYSTEM_TYPE = "BODY-FIXED ROTATING"
  EASTERNMOST_LONGITUDE = 198.606
  FIRST_STANDARD_PARALLEL = "N/A"
  LINE_FIRST_PIXEL = 1
  LINE_LAST_PIXEL = 5585
  LINE_PROJECTION_OFFSET = 32264.125
  MAP_PROJECTION_ROTATION = 0.0
  MAP_PROJECTION_TYPE = SINUSOIDAL
  MAP_RESOLUTION = 592.713803866667
  MAP_SCALE = 0.1
  MAXIMUM_LATITUDE = 54.4556
  MINIMUM_LATITUDE = 45.0011
  POSITIVE_LONGITUDE_DIRECTION = EAST
  REFERENCE_LATITUDE = "N/A"
  REFERENCE_LONGITUDE = "N/A"
  SAMPLE_FIRST_PIXEL = 1
  SAMPLE_LAST_PIXEL = 1870
  SAMPLE_PROJECTION_OFFSET = 759.375
  SECOND_STANDARD_PARALLEL = "N/A"
  WESTERNMOST_LONGITUDE = 193.861
END_OBJECT = IMAGE_MAP_PROJECTION
END
