PDS_VERSION_ID = PDS3
/* FILE DATA ELEMENTS */
RECORD_TYPE = UNDEFINED
/* POINTERS TO DATA OBJECTS */
^IMAGE = ("HD983_0000_BL4.TIF")
/* IDENTIFICATION DATA ELEMENTS */
DATA_SET_ID = "MEX-M-HRSC-4-REFDR-MAPPROJECT-EXT5-V4.0"
DATA_SET_NAME = "MARS EXPRESS HRSC MAP PROJECTED REFDR EXTENSION5 V4.0"
DETECTOR_ID = MEX_HRSC_BLUE
EVENT_TYPE = "MARS-REGIONAL-MAPPING-Fl-Gl-Pf"
INSTRUMENT_HOST_ID = MEX
INSTRUMENT_HOST_NAME = "MARS EXPRESS"
INSTRUMENT_ID = HRSC
INSTRUMENT_NAME = "HIGH RESOLUTION STEREO CAMERA"
MISSION_NAME = "MARS EXPRESS"
MISSION_PHASE_NAME = ME_Phase_32
PROCESSING_LEVEL_ID = 4
PRODUCT_CREATION_TIME = 2023-01-30T10:12:24.000Z
PRODUCT_ID = "HD983_0000_BL4.TIF"
RELEASE_ID = 0001
REVISION_ID = 0000
/* QUALITY DATA ELEMENTS */
DATA_QUALITY_ID = 1
DATA_QUALITY_DESC = "Data calculated based on original SPICE kernels"
/* TIME DATA ELEMENTS */
SPACECRAFT_CLOCK_START_COUNT = "1/0368719581.07320"
SPACECRAFT_CLOCK_STOP_COUNT = "1/0368719953.04695"
START_TIME = 2015-01-07T14:07:46.647Z
STOP_TIME = 2015-01-07T14:10:49.539Z
/* ORBITAL DATA ELEMENTS */
ASCENDING_NODE_LONGITUDE = 311.19
MAXIMUM_RESOLUTION = 0.113
FOOTPRINT_POINT_LATITUDE = (54.4115,54.4042,54.3909,54.3754, 54.3569,54.3355,54.311,54.2888,54.287, 54.3031,53.8827,53.6293,53.2891,52.9459 ,52.6009,52.3408,51.9037,51.4626, 51.0175,50.5685,50.2967,50.1155,49.9326 ,49.6583,49.4737,49.2893,49.0105, 48.8246,48.637,48.4496,48.2604,48.0716, 47.881,47.6906,47.4988,47.3069,47.1138, 46.9206,46.7258,46.5311,46.3348,46.0394 ,45.8418,45.643,45.3438,45.1432,45.0429 ,45.0279,45.0379,45.0483,45.0556, 45.0638,45.0702,45.0751,45.0804,45.0842 ,45.0872,45.0892,45.0906,45.0898, 45.0896,45.0915,45.395,45.6968,45.8973, 46.0965,46.2955,46.4933,46.7885,46.9849 ,47.1797,47.3744,47.5677,47.7612,47.953 ,48.145,48.3352,48.5259,48.7146,48.9974 ,49.1847,49.3719,49.5576,49.7436, 49.9277,50.1121,50.3868,50.6606,51.1129 ,51.5611,52.0053,52.4455,52.7072, 53.0545,53.4001,53.7426,53.9978,54.3373 ,54.4211,54.4115)
FOOTPRINT_POINT_LONGITUDE = (197.973,197.515,196.866,196.254, 195.642,195.029,194.415,193.916,193.877 ,193.793,193.832,193.855,193.884, 193.913,193.941,193.961,193.992,194.023 ,194.051,194.078,194.094,194.104, 194.113,194.127,194.137,194.146,194.158 ,194.167,194.175,194.182,194.19,194.197 ,194.204,194.211,194.217,194.224,194.23 ,194.235,194.241,194.246,194.251, 194.258,194.262,194.266,194.272,194.275 ,194.277,194.277,194.606,194.979,195.27 ,195.642,195.972,196.261,196.632, 196.962,197.292,197.621,198.115,198.651 ,198.692,198.705,198.689,198.672, 198.661,198.65,198.638,198.627,198.61, 198.598,198.586,198.574,198.562,198.55, 198.538,198.525,198.513,198.5,198.487, 198.468,198.455,198.442,198.429,198.416 ,198.402,198.389,198.368,198.347, 198.312,198.276,198.24,198.202,198.179, 198.148,198.117,198.085,198.061,198.028 ,198.019,197.973)
ORBIT_NUMBER = 13983
ORBITAL_ECCENTRICITY = 0.57
ORBITAL_INCLINATION = 86.92
ORBITAL_SEMIMAJOR_AXIS = 8759.54
PERIAPSIS_ALTITUDE = 386.47
PERIAPSIS_ARGUMENT_ANGLE = 87.94
PERIAPSIS_TIME = 2015-01-07T13:57:17.000Z
SPACECRAFT_ORIENTATION = (0.0,-1.0,0.0)
^MEX_ORIENTATION_DESC = "MEX_ORIENTATION_DESC.TXT"
SPACECRAFT_POINTING_MODE = ACROSSTRACK
^MEX_POINTING_DESC = "MEX_POINTING_DESC.TXT"
RIGHT_ASCENSION = -1e+32
DECLINATION = -1e+32
OFFSET_ANGLE = -0.269
SPACECRAFT_SOLAR_DISTANCE = 2.07367e+08
TARGET_NAME = MARS
/* CAMERA DATA ELEMENTS */
DETECTOR_TEMPERATURE = 18.1666
FOCAL_PLANE_TEMPERATURE = 7.9716
INST_CMPRS_NAME = "DISCRETE COSINE TRANSFORMATION (DCT)"
INST_CMPRS_RATIO = 12.0667
INST_CMPRS_QUALITY = 0
INST_CMPRS_QUANTZ_TBL_ID = 0
INSTRUMENT_TEMPERATURE = 11.0301
LENS_TEMPERATURE = 8.3794
MACROPIXEL_SIZE = 4
MISSING_FRAMES = 0
PIXEL_SUBSAMPLING_FLAG = N
SIGNAL_CHAIN_ID = 2
/* RADIOMETRIC DATA ELEMENTS */
BANDWIDTH = 76.0
CENTER_FILTER_WAVELENGTH = 444.0
RADIANCE_OFFSET = 0.500064
RADIANCE_SCALING_FACTOR = 0.00159124
REFLECTANCE_SCALING_FACTOR = 7.03028e-05
MEX:REFLECTANCE_OFFSET = 0.0220934
/* IMAGE OBJECT DEFINITIONS */
OBJECT = IMAGE
  INTERCHANGE_FORMAT = BINARY
  LINES = 5585
  LINE_SAMPLES = 1870
  SAMPLE_TYPE = UNSIGNED_INTEGER
  SAMPLE_BITS = 8
  BANDS = 1
  BAND_STORAGE_TYPE = BAND_SEQUENTIAL
  MAXIMUM = 255
  MEAN = 168.393
  MINIMUM = 1
  STANDARD_DEVIATION = 44.6544
END_OBJECT = IMAGE
/* MAP OBJECT DEFINITIONS */
OBJECT = IMAGE_MAP_PROJECTION
  ^DATA_SET_MAP_PROJECTION_CATALOG= "DSMAP.CAT"
  A_AXIS_RADIUS = 3396.0
  B_AXIS_RADIUS = 3396.0
  C_AXIS_RADIUS = 3396.0
  CENTER_LATITUDE = 0.0
  CENTER_LONGITUDE = 196.0
  COORDINATE_SYSTEM_NAME = PLANETOGRAPHIC
  COORDINATE_SYSTEM_TYPE = "BODY-FIXED ROTATING"
  EASTERNMOST_LONGITUDE = 198.705
  FIRST_STANDARD_PARALLEL = "N/A"
  LINE_FIRST_PIXEL = 1
  LINE_LAST_PIXEL = 5585
  LINE_PROJECTION_OFFSET = 32264.125
  MAP_PROJECTION_ROTATION = 0.0
  MAP_PROJECTION_TYPE = SINUSOIDAL
  MAP_RESOLUTION = 592.713803866667
  MAP_SCALE = 0.1
  MAXIMUM_LATITUDE = 54.4211
  MINIMUM_LATITUDE = 45.0279
  POSITIVE_LONGITUDE_DIRECTION = EAST
  REFERENCE_LATITUDE = "N/A"
  REFERENCE_LONGITUDE = "N/A"
  SAMPLE_FIRST_PIXEL = 1
  SAMPLE_LAST_PIXEL = 1870
  SAMPLE_PROJECTION_OFFSET = 759.375
  SECOND_STANDARD_PARALLEL = "N/A"
  WESTERNMOST_LONGITUDE = 193.793
END_OBJECT = IMAGE_MAP_PROJECTION
END
