PDS_VERSION_ID = PDS3
/* FILE DATA ELEMENTS */
RECORD_TYPE = UNDEFINED
/* POINTERS TO DATA OBJECTS */
^IMAGE = ("HD920_0000_S24.TIF")
/* IDENTIFICATION DATA ELEMENTS */
DATA_SET_ID = "MEX-M-HRSC-4-REFDR-MAPPROJECT-EXT4-V4.0"
DATA_SET_NAME = "MARS EXPRESS HRSC MAP PROJECTED REFDR EXTENSION4 V4.0"
DETECTOR_ID = MEX_HRSC_S2
EVENT_TYPE = "MARS-REGIONAL-MAPPING-Im-Pf"
INSTRUMENT_HOST_ID = MEX
INSTRUMENT_HOST_NAME = "MARS EXPRESS"
INSTRUMENT_ID = HRSC
INSTRUMENT_NAME = "HIGH RESOLUTION STEREO CAMERA"
MISSION_NAME = "MARS EXPRESS"
MISSION_PHASE_NAME = ME_Phase_31
PROCESSING_LEVEL_ID = 4
PRODUCT_CREATION_TIME = 2023-02-01T02:09:17.000Z
PRODUCT_ID = "HD920_0000_S24.TIF"
RELEASE_ID = 0005
REVISION_ID = 0000
/* QUALITY DATA ELEMENTS */
DATA_QUALITY_ID = 1
DATA_QUALITY_DESC = "Data calculated based on original SPICE kernels"
/* TIME DATA ELEMENTS */
SPACECRAFT_CLOCK_START_COUNT = "1/0367133854.09060"
SPACECRAFT_CLOCK_STOP_COUNT = "1/0367134142.60543"
START_TIME = 2014-12-20T05:39:40.481Z
STOP_TIME = 2014-12-20T05:42:27.058Z
/* ORBITAL DATA ELEMENTS */
ASCENDING_NODE_LONGITUDE = 312.37
MAXIMUM_RESOLUTION = 0.0548
FOOTPRINT_POINT_LATITUDE = (50.6989,50.6951,50.689,50.6825,50.6777 ,50.6725,50.6669,50.6609,50.6545, 50.6477,50.6396,50.6299,50.6289,50.7345 ,50.3603,49.9829,49.6794,49.2983, 48.8363,48.3708,47.9792,47.7436,47.4275 ,47.2685,47.109,46.9498,46.7893,46.6284 ,46.4677,46.3053,46.1434,45.8996, 45.7361,45.5728,45.4081,45.2437,45.0783 ,44.9123,44.7465,44.5791,44.412,44.1599 ,43.9917,43.7375,43.5681,43.397,43.2263 ,43.0547,42.797,42.7102,42.6963,42.7013 ,42.704,42.7097,42.7147,42.7141,42.7154 ,42.7159,42.7164,42.7144,42.7156, 42.7137,42.7138,42.7145,42.8887,43.0614 ,43.2354,43.4078,43.5801,43.8365, 44.0077,44.1774,44.4318,44.5999,44.8523 ,45.0195,45.2702,45.5187,45.6843, 45.8485,46.095,46.258,46.4214,46.584, 46.8262,46.9882,47.1484,47.3089,47.4693 ,47.7872,48.103,48.418,48.7306,49.196, 49.4282,49.8885,50.3441,50.7207,50.796, 50.6989)
FOOTPRINT_POINT_LONGITUDE = (159.924,159.586,159.148,158.744, 158.475,158.206,157.937,157.668,157.399 ,157.13,156.827,156.49,156.456,156.385, 156.406,156.426,156.441,156.459,156.479 ,156.498,156.512,156.52,156.531,156.536 ,156.54,156.545,156.549,156.554,156.558 ,156.562,156.566,156.571,156.575, 156.578,156.581,156.584,156.587,156.589 ,156.592,156.594,156.596,156.599,156.6, 156.603,156.604,156.605,156.606,156.607 ,156.608,156.608,156.608,156.981, 157.244,157.543,157.991,158.44,158.664, 159.0,159.412,159.86,160.16,160.421, 160.459,160.472,160.463,160.454,160.445 ,160.436,160.427,160.413,160.404, 160.395,160.381,160.372,160.358,160.349 ,160.335,160.32,160.311,160.301,160.287 ,160.277,160.267,160.257,160.242, 160.232,160.223,160.213,160.202,160.182 ,160.162,160.141,160.12,160.088,160.072 ,160.04,160.007,159.979,159.973, 159.924)
ORBIT_NUMBER = 13920
ORBITAL_ECCENTRICITY = 0.57
ORBITAL_INCLINATION = 86.92
ORBITAL_SEMIMAJOR_AXIS = 8761.9
PERIAPSIS_ALTITUDE = 387.55
PERIAPSIS_ARGUMENT_ANGLE = 98.79
PERIAPSIS_TIME = 2014-12-20T05:30:25.000Z
SPACECRAFT_ORIENTATION = (0.0,-1.0,0.0)
^MEX_ORIENTATION_DESC = "MEX_ORIENTATION_DESC.TXT"
SPACECRAFT_POINTING_MODE = NADIR
^MEX_POINTING_DESC = "MEX_POINTING_DESC.TXT"
RIGHT_ASCENSION = -1e+32
DECLINATION = -1e+32
OFFSET_ANGLE = -1e+32
SPACECRAFT_SOLAR_DISTANCE = 2.06694e+08
TARGET_NAME = MARS
/* CAMERA DATA ELEMENTS */
DETECTOR_TEMPERATURE = 18.5744
FOCAL_PLANE_TEMPERATURE = 8.3794
INST_CMPRS_NAME = "DISCRETE COSINE TRANSFORMATION (DCT)"
INST_CMPRS_RATIO = 12.0876
INST_CMPRS_QUALITY = 0
INST_CMPRS_QUANTZ_TBL_ID = 0
INSTRUMENT_TEMPERATURE = 11.0301
LENS_TEMPERATURE = 8.5833
MACROPIXEL_SIZE = 2
MISSING_FRAMES = 0
PIXEL_SUBSAMPLING_FLAG = N
SIGNAL_CHAIN_ID = 1
/* RADIOMETRIC DATA ELEMENTS */
BANDWIDTH = 178.0
CENTER_FILTER_WAVELENGTH = 679.0
RADIANCE_OFFSET = 3.42355
RADIANCE_SCALING_FACTOR = 0.0156176
REFLECTANCE_SCALING_FACTOR = 0.000353346
MEX:REFLECTANCE_OFFSET = 0.0774572
/* IMAGE OBJECT DEFINITIONS */
OBJECT = IMAGE
  INTERCHANGE_FORMAT = BINARY
  LINES = 9642
  LINE_SAMPLES = 3006
  SAMPLE_TYPE = UNSIGNED_INTEGER
  SAMPLE_BITS = 8
  BANDS = 1
  BAND_STORAGE_TYPE = BAND_SEQUENTIAL
  MAXIMUM = 255
  MEAN = 101.354
  MINIMUM = 1
  STANDARD_DEVIATION = 48.18
END_OBJECT = IMAGE
/* MAP OBJECT DEFINITIONS */
OBJECT = IMAGE_MAP_PROJECTION
  ^DATA_SET_MAP_PROJECTION_CATALOG= "DSMAP.CAT"
  A_AXIS_RADIUS = 3396.0
  B_AXIS_RADIUS = 3396.0
  C_AXIS_RADIUS = 3396.0
  CENTER_LATITUDE = 0.0
  CENTER_LONGITUDE = 158.0
  COORDINATE_SYSTEM_NAME = PLANETOGRAPHIC
  COORDINATE_SYSTEM_TYPE = "BODY-FIXED ROTATING"
  EASTERNMOST_LONGITUDE = 160.472
  FIRST_STANDARD_PARALLEL = "N/A"
  LINE_FIRST_PIXEL = 1
  LINE_LAST_PIXEL = 9642
  LINE_PROJECTION_OFFSET = 60222.75
  MAP_PROJECTION_ROTATION = 0.0
  MAP_PROJECTION_TYPE = SINUSOIDAL
  MAP_RESOLUTION = 1185.42760773333
  MAP_SCALE = 0.05
  MAXIMUM_LATITUDE = 50.796
  MINIMUM_LATITUDE = 42.6963
  POSITIVE_LONGITUDE_DIRECTION = EAST
  REFERENCE_LATITUDE = "N/A"
  REFERENCE_LONGITUDE = "N/A"
  SAMPLE_FIRST_PIXEL = 1
  SAMPLE_LAST_PIXEL = 3006
  SAMPLE_PROJECTION_OFFSET = 1095.75
  SECOND_STANDARD_PARALLEL = "N/A"
  WESTERNMOST_LONGITUDE = 156.385
END_OBJECT = IMAGE_MAP_PROJECTION
END
