PDS_VERSION_ID = PDS3
/* FILE DATA ELEMENTS */
RECORD_TYPE = UNDEFINED
/* POINTERS TO DATA OBJECTS */
^IMAGE = ("HD920_0000_GR4.TIF")
/* IDENTIFICATION DATA ELEMENTS */
DATA_SET_ID = "MEX-M-HRSC-4-REFDR-MAPPROJECT-EXT4-V4.0"
DATA_SET_NAME = "MARS EXPRESS HRSC MAP PROJECTED REFDR EXTENSION4 V4.0"
DETECTOR_ID = MEX_HRSC_GREEN
EVENT_TYPE = "MARS-REGIONAL-MAPPING-Im-Pf"
INSTRUMENT_HOST_ID = MEX
INSTRUMENT_HOST_NAME = "MARS EXPRESS"
INSTRUMENT_ID = HRSC
INSTRUMENT_NAME = "HIGH RESOLUTION STEREO CAMERA"
MISSION_NAME = "MARS EXPRESS"
MISSION_PHASE_NAME = ME_Phase_31
PROCESSING_LEVEL_ID = 4
PRODUCT_CREATION_TIME = 2023-02-01T02:09:17.000Z
PRODUCT_ID = "HD920_0000_GR4.TIF"
RELEASE_ID = 0005
REVISION_ID = 0000
/* QUALITY DATA ELEMENTS */
DATA_QUALITY_ID = 1
DATA_QUALITY_DESC = "Data calculated based on original SPICE kernels"
/* TIME DATA ELEMENTS */
SPACECRAFT_CLOCK_START_COUNT = "1/0367133854.09060"
SPACECRAFT_CLOCK_STOP_COUNT = "1/0367134142.60543"
START_TIME = 2014-12-20T05:38:25.010Z
STOP_TIME = 2014-12-20T05:40:46.411Z
/* ORBITAL DATA ELEMENTS */
ASCENDING_NODE_LONGITUDE = 312.37
MAXIMUM_RESOLUTION = 0.1843
FOOTPRINT_POINT_LATITUDE = (50.8011,50.7945,50.7878,50.7804, 50.7736,50.761,50.7407,50.7236,50.7225, 50.7028,50.4842,50.114,49.8184,49.4436, 49.1439,48.7642,48.4606,48.0758,47.7682 ,47.6122,47.4561,47.3002,47.1445, 46.9865,46.8285,46.6706,46.513,46.353, 46.1132,45.9535,45.7111,45.5493,45.3876 ,45.1428,44.9791,44.8156,44.5677, 44.4021,44.2367,43.9861,43.8186,43.6514 ,43.4822,43.3129,43.1437,42.9732, 42.8019,42.7164,42.6436,42.6544,42.6609 ,42.6669,42.675,42.6809,42.685,42.6872, 42.6889,42.6889,42.6889,42.692,42.95, 43.1222,43.2921,43.4621,43.7171,43.885, 44.0533,44.2218,44.3883,44.5542,44.7207 ,44.8862,45.0505,45.215,45.3796,45.5419 ,45.7043,45.867,46.0289,46.1893,46.3499 ,46.5907,46.7491,46.9077,47.0664,47.225 ,47.3814,47.538,47.6947,47.8513,48.1603 ,48.5465,48.8515,49.2326,49.5336, 49.9099,50.2067,50.6515,50.7247, 50.8011)
FOOTPRINT_POINT_LONGITUDE = (159.702,159.242,158.869,158.524, 158.237,157.778,157.148,156.689,156.66, 156.6,156.614,156.636,156.653,156.674, 156.69,156.709,156.724,156.741,156.755, 156.761,156.768,156.774,156.78,156.786, 156.792,156.797,156.803,156.808,156.816 ,156.821,156.828,156.833,156.837, 156.844,156.848,156.852,156.858,156.862 ,156.865,156.87,156.873,156.876,156.879 ,156.882,156.885,156.887,156.89,156.891 ,156.892,157.287,157.563,157.87,158.3, 158.729,159.129,159.436,159.773,160.112 ,160.143,160.163,160.153,160.147,160.14 ,160.133,160.123,160.116,160.109, 160.102,160.094,160.088,160.081,160.073 ,160.066,160.058,160.051,160.043, 160.036,160.028,160.02,160.013,160.005, 159.993,159.985,159.977,159.969,159.961 ,159.952,159.944,159.936,159.927,159.91 ,159.889,159.871,159.849,159.83,159.807 ,159.789,159.76,159.755,159.702)
ORBIT_NUMBER = 13920
ORBITAL_ECCENTRICITY = 0.57
ORBITAL_INCLINATION = 86.92
ORBITAL_SEMIMAJOR_AXIS = 8761.9
PERIAPSIS_ALTITUDE = 387.55
PERIAPSIS_ARGUMENT_ANGLE = 98.79
PERIAPSIS_TIME = 2014-12-20T05:30:25.000Z
SPACECRAFT_ORIENTATION = (0.0,-1.0,0.0)
^MEX_ORIENTATION_DESC = "MEX_ORIENTATION_DESC.TXT"
SPACECRAFT_POINTING_MODE = NADIR
^MEX_POINTING_DESC = "MEX_POINTING_DESC.TXT"
RIGHT_ASCENSION = -1e+32
DECLINATION = -1e+32
OFFSET_ANGLE = -1e+32
SPACECRAFT_SOLAR_DISTANCE = 2.06694e+08
TARGET_NAME = MARS
/* CAMERA DATA ELEMENTS */
DETECTOR_TEMPERATURE = 18.1666
FOCAL_PLANE_TEMPERATURE = 8.3794
INST_CMPRS_NAME = "DISCRETE COSINE TRANSFORMATION (DCT)"
INST_CMPRS_RATIO = 19.4861
INST_CMPRS_QUALITY = 0
INST_CMPRS_QUANTZ_TBL_ID = 0
INSTRUMENT_TEMPERATURE = 11.0301
LENS_TEMPERATURE = 8.5833
MACROPIXEL_SIZE = 8
MISSING_FRAMES = 0
PIXEL_SUBSAMPLING_FLAG = N
SIGNAL_CHAIN_ID = 2
/* RADIOMETRIC DATA ELEMENTS */
BANDWIDTH = 88.0
CENTER_FILTER_WAVELENGTH = 538.0
RADIANCE_OFFSET = 1.38129
RADIANCE_SCALING_FACTOR = 0.00375011
REFLECTANCE_SCALING_FACTOR = 0.000137939
MEX:REFLECTANCE_OFFSET = 0.0508076
/* IMAGE OBJECT DEFINITIONS */
OBJECT = IMAGE
  INTERCHANGE_FORMAT = BINARY
  LINES = 2411
  LINE_SAMPLES = 752
  SAMPLE_TYPE = UNSIGNED_INTEGER
  SAMPLE_BITS = 8
  BANDS = 1
  BAND_STORAGE_TYPE = BAND_SEQUENTIAL
  MAXIMUM = 254
  MEAN = 91.4009
  MINIMUM = 1
  STANDARD_DEVIATION = 39.8498
END_OBJECT = IMAGE
/* MAP OBJECT DEFINITIONS */
OBJECT = IMAGE_MAP_PROJECTION
  ^DATA_SET_MAP_PROJECTION_CATALOG= "DSMAP.CAT"
  A_AXIS_RADIUS = 3396.0
  B_AXIS_RADIUS = 3396.0
  C_AXIS_RADIUS = 3396.0
  CENTER_LATITUDE = 0.0
  CENTER_LONGITUDE = 158.0
  COORDINATE_SYSTEM_NAME = PLANETOGRAPHIC
  COORDINATE_SYSTEM_TYPE = "BODY-FIXED ROTATING"
  EASTERNMOST_LONGITUDE = 160.163
  FIRST_STANDARD_PARALLEL = "N/A"
  LINE_FIRST_PIXEL = 1
  LINE_LAST_PIXEL = 2411
  LINE_PROJECTION_OFFSET = 15055.3125
  MAP_PROJECTION_ROTATION = 0.0
  MAP_PROJECTION_TYPE = SINUSOIDAL
  MAP_RESOLUTION = 296.356901933333
  MAP_SCALE = 0.2
  MAXIMUM_LATITUDE = 50.8011
  MINIMUM_LATITUDE = 42.6436
  POSITIVE_LONGITUDE_DIRECTION = EAST
  REFERENCE_LATITUDE = "N/A"
  REFERENCE_LONGITUDE = "N/A"
  SAMPLE_FIRST_PIXEL = 1
  SAMPLE_LAST_PIXEL = 752
  SAMPLE_PROJECTION_OFFSET = 273.5625
  SECOND_STANDARD_PARALLEL = "N/A"
  WESTERNMOST_LONGITUDE = 156.6
END_OBJECT = IMAGE_MAP_PROJECTION
END
