PDS_VERSION_ID = PDS3
/* FILE DATA ELEMENTS */
RECORD_TYPE = UNDEFINED
/* POINTERS TO DATA OBJECTS */
^IMAGE = ("HD912_0000_ND4.TIF")
/* IDENTIFICATION DATA ELEMENTS */
DATA_SET_ID = "MEX-M-HRSC-4-REFDR-MAPPROJECT-EXT4-V4.0"
DATA_SET_NAME = "MARS EXPRESS HRSC MAP PROJECTED REFDR EXTENSION4 V4.0"
DETECTOR_ID = MEX_HRSC_NADIR
EVENT_TYPE = "MARS-REGIONAL-MAPPING-Vo-Te"
INSTRUMENT_HOST_ID = MEX
INSTRUMENT_HOST_NAME = "MARS EXPRESS"
INSTRUMENT_ID = HRSC
INSTRUMENT_NAME = "HIGH RESOLUTION STEREO CAMERA"
MISSION_NAME = "MARS EXPRESS"
MISSION_PHASE_NAME = ME_Phase_31
PROCESSING_LEVEL_ID = 4
PRODUCT_CREATION_TIME = 2023-02-01T02:09:17.000Z
PRODUCT_ID = "HD912_0000_ND4.TIF"
RELEASE_ID = 0005
REVISION_ID = 0000
/* QUALITY DATA ELEMENTS */
DATA_QUALITY_ID = 1
DATA_QUALITY_DESC = "Data calculated based on original SPICE kernels"
/* TIME DATA ELEMENTS */
SPACECRAFT_CLOCK_START_COUNT = "1/0366932440.08259"
SPACECRAFT_CLOCK_STOP_COUNT = "1/0366932768.27531"
START_TIME = 2014-12-17T21:41:34.664Z
STOP_TIME = 2014-12-17T21:44:48.690Z
/* ORBITAL DATA ELEMENTS */
ASCENDING_NODE_LONGITUDE = 312.52
MAXIMUM_RESOLUTION = 0.0211
FOOTPRINT_POINT_LATITUDE = (53.6482,53.6271,53.6148,53.5969,53.574 ,53.5594,53.5582,53.5574,52.955,52.5515 ,52.1419,51.7322,51.4203,51.2122, 51.0045,50.6887,50.4776,50.2669,49.9466 ,49.7326,49.519,49.3025,49.0855,48.8688 ,48.54,48.3202,48.1007,47.8777,47.655, 47.3197,47.094,46.8687,46.6409,46.4125, 46.0686,45.8372,45.6063,45.3726,45.0219 ,44.7854,44.4306,44.1914,43.8326, 43.5903,43.3484,42.9816,42.6133,42.4895 ,42.4856,42.4947,42.5073,42.5148,42.522 ,42.5264,42.5297,42.5302,42.5302, 42.5306,42.7795,43.0251,43.3937,43.6368 ,43.8802,44.2408,44.4811,44.8375, 45.0752,45.4274,45.6622,45.8941,46.1264 ,46.3574,46.5867,46.9302,47.1565, 47.3832,47.72,47.9437,48.1677,48.3882, 48.6089,48.9391,49.1567,49.3746,49.5921 ,49.8067,50.0216,50.3432,50.5549, 50.7668,51.084,51.2926,51.5015,51.8149, 52.2262,52.6376,53.0429,53.5482,53.6479 ,53.6482)
FOOTPRINT_POINT_LONGITUDE = (257.433,256.449,256.002,255.436, 254.811,254.454,254.424,254.366,254.418 ,254.451,254.484,254.514,254.537, 254.551,254.565,254.586,254.6,254.612, 254.632,254.644,254.656,254.668,254.68, 254.691,254.707,254.718,254.728,254.738 ,254.748,254.763,254.772,254.781, 254.789,254.798,254.81,254.819,254.827, 254.834,254.844,254.851,254.86,254.866, 254.873,254.878,254.883,254.889,254.894 ,254.896,254.896,255.243,255.812, 256.222,256.728,257.172,257.775,258.062 ,258.094,258.109,258.1,258.09,258.075, 258.065,258.055,258.041,258.03,258.014, 258.004,257.987,257.976,257.965,257.953 ,257.942,257.931,257.913,257.902, 257.891,257.872,257.86,257.847,257.835, 257.822,257.803,257.79,257.777,257.764, 257.75,257.737,257.716,257.703,257.689, 257.667,257.653,257.639,257.617,257.587 ,257.556,257.525,257.485,257.477, 257.433)
ORBIT_NUMBER = 13912
ORBITAL_ECCENTRICITY = 0.57
ORBITAL_INCLINATION = 86.92
ORBITAL_SEMIMAJOR_AXIS = 8761.19
PERIAPSIS_ALTITUDE = 386.06
PERIAPSIS_ARGUMENT_ANGLE = 100.16
PERIAPSIS_TIME = 2014-12-17T21:34:37.000Z
SPACECRAFT_ORIENTATION = (0.0,-1.0,0.0)
^MEX_ORIENTATION_DESC = "MEX_ORIENTATION_DESC.TXT"
SPACECRAFT_POINTING_MODE = NADIR
^MEX_POINTING_DESC = "MEX_POINTING_DESC.TXT"
RIGHT_ASCENSION = -1e+32
DECLINATION = -1e+32
OFFSET_ANGLE = -1e+32
SPACECRAFT_SOLAR_DISTANCE = 2.0666e+08
TARGET_NAME = MARS
/* CAMERA DATA ELEMENTS */
DETECTOR_TEMPERATURE = 18.5744
FOCAL_PLANE_TEMPERATURE = 9.195
INST_CMPRS_NAME = "DISCRETE COSINE TRANSFORMATION (DCT)"
INST_CMPRS_RATIO = 5.6844
INST_CMPRS_QUALITY = 0
INST_CMPRS_QUANTZ_TBL_ID = 0
INSTRUMENT_TEMPERATURE = 11.8457
LENS_TEMPERATURE = 9.3989
MACROPIXEL_SIZE = 1
MISSING_FRAMES = 0
PIXEL_SUBSAMPLING_FLAG = N
SIGNAL_CHAIN_ID = 0
/* RADIOMETRIC DATA ELEMENTS */
BANDWIDTH = 177.0
CENTER_FILTER_WAVELENGTH = 677.5
RADIANCE_OFFSET = 2.31659
RADIANCE_SCALING_FACTOR = 0.0241545
REFLECTANCE_SCALING_FACTOR = 0.00054802
MEX:REFLECTANCE_OFFSET = 0.052559
/* IMAGE OBJECT DEFINITIONS */
OBJECT = IMAGE
  INTERCHANGE_FORMAT = BINARY
  LINES = 26471
  LINE_SAMPLES = 5987
  SAMPLE_TYPE = UNSIGNED_INTEGER
  SAMPLE_BITS = 8
  BANDS = 1
  BAND_STORAGE_TYPE = BAND_SEQUENTIAL
  MAXIMUM = 255
  MEAN = 87.9035
  MINIMUM = 1
  STANDARD_DEVIATION = 37.476
END_OBJECT = IMAGE
/* MAP OBJECT DEFINITIONS */
OBJECT = IMAGE_MAP_PROJECTION
  ^DATA_SET_MAP_PROJECTION_CATALOG= "DSMAP.CAT"
  A_AXIS_RADIUS = 3396.0
  B_AXIS_RADIUS = 3396.0
  C_AXIS_RADIUS = 3396.0
  CENTER_LATITUDE = 0.0
  CENTER_LONGITUDE = 256.0
  COORDINATE_SYSTEM_NAME = PLANETOGRAPHIC
  COORDINATE_SYSTEM_TYPE = "BODY-FIXED ROTATING"
  EASTERNMOST_LONGITUDE = 258.109
  FIRST_STANDARD_PARALLEL = "N/A"
  LINE_FIRST_PIXEL = 1
  LINE_LAST_PIXEL = 26471
  LINE_PROJECTION_OFFSET = 127198.0
  MAP_PROJECTION_ROTATION = 0.0
  MAP_PROJECTION_TYPE = SINUSOIDAL
  MAP_RESOLUTION = 2370.85521546667
  MAP_SCALE = 0.025
  MAXIMUM_LATITUDE = 53.6482
  MINIMUM_LATITUDE = 42.4856
  POSITIVE_LONGITUDE_DIRECTION = EAST
  REFERENCE_LATITUDE = "N/A"
  REFERENCE_LONGITUDE = "N/A"
  SAMPLE_FIRST_PIXEL = 1
  SAMPLE_LAST_PIXEL = 5987
  SAMPLE_PROJECTION_OFFSET = 2301.0
  SECOND_STANDARD_PARALLEL = "N/A"
  WESTERNMOST_LONGITUDE = 254.366
END_OBJECT = IMAGE_MAP_PROJECTION
END
