PDS_VERSION_ID = PDS3
/* FILE DATA ELEMENTS */
RECORD_TYPE = UNDEFINED
/* POINTERS TO DATA OBJECTS */
^IMAGE = ("HD905_0000_P14.TIF")
/* IDENTIFICATION DATA ELEMENTS */
DATA_SET_ID = "MEX-M-HRSC-4-REFDR-MAPPROJECT-EXT4-V4.0"
DATA_SET_NAME = "MARS EXPRESS HRSC MAP PROJECTED REFDR EXTENSION4 V4.0"
DETECTOR_ID = MEX_HRSC_P1
EVENT_TYPE = "MARS-REGIONAL-STEREO-Vo-Te"
INSTRUMENT_HOST_ID = MEX
INSTRUMENT_HOST_NAME = "MARS EXPRESS"
INSTRUMENT_ID = HRSC
INSTRUMENT_NAME = "HIGH RESOLUTION STEREO CAMERA"
MISSION_NAME = "MARS EXPRESS"
MISSION_PHASE_NAME = ME_Phase_31
PROCESSING_LEVEL_ID = 4
PRODUCT_CREATION_TIME = 2023-02-01T02:09:17.000Z
PRODUCT_ID = "HD905_0000_P14.TIF"
RELEASE_ID = 0005
REVISION_ID = 0000
/* QUALITY DATA ELEMENTS */
DATA_QUALITY_ID = 1
DATA_QUALITY_DESC = "Data calculated based on original SPICE kernels"
/* TIME DATA ELEMENTS */
SPACECRAFT_CLOCK_START_COUNT = "1/0366756346.09062"
SPACECRAFT_CLOCK_STOP_COUNT = "1/0366756680.17733"
START_TIME = 2014-12-15T20:46:10.316Z
STOP_TIME = 2014-12-15T20:48:55.110Z
/* ORBITAL DATA ELEMENTS */
ASCENDING_NODE_LONGITUDE = 312.65
MAXIMUM_RESOLUTION = 0.0462
FOOTPRINT_POINT_LATITUDE = (47.0946,47.091,47.0845,47.0722,47.0552 ,47.0417,47.0276,47.0265,46.9905, 46.4595,46.1031,45.7424,45.3825,45.108, 44.8323,44.461,43.9932,43.7095,43.5196, 43.3301,43.0431,42.851,42.6593,42.4659, 42.1741,41.9795,41.7832,41.5858,41.3887 ,41.1899,40.9901,40.6904,40.4877, 40.2851,40.0817,39.8755,39.5675,39.361, 39.0516,38.7377,38.5271,38.209,37.9958, 37.7821,37.5661,37.3505,37.2347,37.2159 ,37.2238,37.2286,37.2355,37.2387, 37.2425,37.2445,37.2452,37.2432,37.2426 ,37.2423,37.243,37.4669,37.6823,37.8982 ,38.1118,38.4324,38.6434,38.9599, 39.1683,39.3771,39.585,39.7904,39.9968, 40.2021,40.4053,40.6087,40.811,41.0117, 41.2123,41.5119,41.71,42.0072,42.2029, 42.3984,42.5945,42.788,42.9812,43.1746, 43.3674,43.558,43.7483,44.0334,44.4079, 44.6881,45.0559,45.4239,45.7871,46.328, 46.5964,46.9526,47.0408,47.0946)
FOOTPRINT_POINT_LONGITUDE = (253.496,253.165,252.724,252.119, 251.487,251.074,250.689,250.662,250.632 ,250.656,250.67,250.685,250.699,250.708 ,250.717,250.728,250.74,250.747,250.751 ,250.755,250.761,250.765,250.769, 250.773,250.778,250.781,250.784,250.786 ,250.789,250.791,250.794,250.796, 250.798,250.799,250.8,250.801,250.801, 250.802,250.804,250.803,250.803,250.802 ,250.801,250.8,250.798,250.796,250.795, 250.795,251.121,251.359,251.774,252.071 ,252.458,252.904,253.231,253.589, 253.827,253.857,253.867,253.862,253.856 ,253.851,253.845,253.836,253.83,253.822 ,253.816,253.809,253.803,253.797, 253.791,253.785,253.778,253.772,253.766 ,253.759,253.753,253.743,253.736, 253.726,253.719,253.712,253.705,253.697 ,253.69,253.683,253.675,253.667,253.66, 253.649,253.634,253.623,253.609,253.594 ,253.579,253.556,253.545,253.529, 253.524,253.496)
ORBIT_NUMBER = 13905
ORBITAL_ECCENTRICITY = 0.571
ORBITAL_INCLINATION = 86.92
ORBITAL_SEMIMAJOR_AXIS = 8761.68
PERIAPSIS_ALTITUDE = 385.77
PERIAPSIS_ARGUMENT_ANGLE = 101.36
PERIAPSIS_TIME = 2014-12-15T20:38:18.000Z
SPACECRAFT_ORIENTATION = (0.0,-1.0,0.0)
^MEX_ORIENTATION_DESC = "MEX_ORIENTATION_DESC.TXT"
SPACECRAFT_POINTING_MODE = NADIR
^MEX_POINTING_DESC = "MEX_POINTING_DESC.TXT"
RIGHT_ASCENSION = -1e+32
DECLINATION = -1e+32
OFFSET_ANGLE = -1e+32
SPACECRAFT_SOLAR_DISTANCE = 2.0664e+08
TARGET_NAME = MARS
/* CAMERA DATA ELEMENTS */
DETECTOR_TEMPERATURE = 18.3705
FOCAL_PLANE_TEMPERATURE = 9.8067
INST_CMPRS_NAME = "DISCRETE COSINE TRANSFORMATION (DCT)"
INST_CMPRS_RATIO = 4.53448
INST_CMPRS_QUALITY = 0
INST_CMPRS_QUANTZ_TBL_ID = 0
INSTRUMENT_TEMPERATURE = 12.0496
LENS_TEMPERATURE = 10.4184
MACROPIXEL_SIZE = 2
MISSING_FRAMES = 1
PIXEL_SUBSAMPLING_FLAG = N
SIGNAL_CHAIN_ID = 3
/* RADIOMETRIC DATA ELEMENTS */
BANDWIDTH = 174.0
CENTER_FILTER_WAVELENGTH = 675.0
RADIANCE_OFFSET = 3.32873
RADIANCE_SCALING_FACTOR = 0.0249726
REFLECTANCE_SCALING_FACTOR = 0.000573559
MEX:REFLECTANCE_OFFSET = 0.0764528
/* IMAGE OBJECT DEFINITIONS */
OBJECT = IMAGE
  INTERCHANGE_FORMAT = BINARY
  LINES = 11694
  LINE_SAMPLES = 3101
  SAMPLE_TYPE = UNSIGNED_INTEGER
  SAMPLE_BITS = 8
  BANDS = 1
  BAND_STORAGE_TYPE = BAND_SEQUENTIAL
  MAXIMUM = 255
  MEAN = 121.302
  MINIMUM = 1
  STANDARD_DEVIATION = 36.2399
END_OBJECT = IMAGE
/* MAP OBJECT DEFINITIONS */
OBJECT = IMAGE_MAP_PROJECTION
  ^DATA_SET_MAP_PROJECTION_CATALOG= "DSMAP.CAT"
  A_AXIS_RADIUS = 3396.0
  B_AXIS_RADIUS = 3396.0
  C_AXIS_RADIUS = 3396.0
  CENTER_LATITUDE = 0.0
  CENTER_LONGITUDE = 252.0
  COORDINATE_SYSTEM_NAME = PLANETOGRAPHIC
  COORDINATE_SYSTEM_TYPE = "BODY-FIXED ROTATING"
  EASTERNMOST_LONGITUDE = 253.867
  FIRST_STANDARD_PARALLEL = "N/A"
  LINE_FIRST_PIXEL = 1
  LINE_LAST_PIXEL = 11694
  LINE_PROJECTION_OFFSET = 55775.75
  MAP_PROJECTION_ROTATION = 0.0
  MAP_PROJECTION_TYPE = SINUSOIDAL
  MAP_RESOLUTION = 1185.42760773333
  MAP_SCALE = 0.05
  MAXIMUM_LATITUDE = 47.0946
  MINIMUM_LATITUDE = 37.2159
  POSITIVE_LONGITUDE_DIRECTION = EAST
  REFERENCE_LATITUDE = "N/A"
  REFERENCE_LONGITUDE = "N/A"
  SAMPLE_FIRST_PIXEL = 1
  SAMPLE_LAST_PIXEL = 3101
  SAMPLE_PROJECTION_OFFSET = 1247.75
  SECOND_STANDARD_PARALLEL = "N/A"
  WESTERNMOST_LONGITUDE = 250.632
END_OBJECT = IMAGE_MAP_PROJECTION
END
