PDS_VERSION_ID = PDS3
/* FILE DATA ELEMENTS */
RECORD_TYPE = UNDEFINED
/* POINTERS TO DATA OBJECTS */
^IMAGE = ("HD900_0000_RE4.TIF")
/* IDENTIFICATION DATA ELEMENTS */
DATA_SET_ID = "MEX-M-HRSC-4-REFDR-MAPPROJECT-EXT4-V4.0"
DATA_SET_NAME = "MARS EXPRESS HRSC MAP PROJECTED REFDR EXTENSION4 V4.0"
DETECTOR_ID = MEX_HRSC_RED
EVENT_TYPE = "MARS-REGIONAL-MAPPING-Te-Gl-Pf"
INSTRUMENT_HOST_ID = MEX
INSTRUMENT_HOST_NAME = "MARS EXPRESS"
INSTRUMENT_ID = HRSC
INSTRUMENT_NAME = "HIGH RESOLUTION STEREO CAMERA"
MISSION_NAME = "MARS EXPRESS"
MISSION_PHASE_NAME = ME_Phase_31
PROCESSING_LEVEL_ID = 4
PRODUCT_CREATION_TIME = 2023-02-01T02:09:17.000Z
PRODUCT_ID = "HD900_0000_RE4.TIF"
RELEASE_ID = 0005
REVISION_ID = 0000
/* QUALITY DATA ELEMENTS */
DATA_QUALITY_ID = 1
DATA_QUALITY_DESC = "Data calculated based on original SPICE kernels"
/* TIME DATA ELEMENTS */
SPACECRAFT_CLOCK_START_COUNT = "1/0366630374.09060"
SPACECRAFT_CLOCK_STOP_COUNT = "1/0366630618.17762"
START_TIME = 2014-12-14T09:47:48.240Z
STOP_TIME = 2014-12-14T09:50:09.669Z
/* ORBITAL DATA ELEMENTS */
ASCENDING_NODE_LONGITUDE = 312.73
MAXIMUM_RESOLUTION = 0.0884
FOOTPRINT_POINT_LATITUDE = (54.3262,54.3163,54.3069,54.2917, 54.2792,54.2653,54.2499,54.2489,54.3339 ,54.0482,53.8342,53.4722,53.1835, 52.7452,52.452,52.2313,51.9338,51.6377, 51.4129,51.2625,51.112,50.9619,50.7342, 50.582,50.4299,50.2021,49.9709,49.8166, 49.6616,49.4296,49.2736,49.1183,48.9634 ,48.7276,48.5702,48.413,48.1741,47.9354 ,47.7763,47.6155,47.4543,47.212,47.0504 ,46.8057,46.7236,46.6882,46.6964, 46.7044,46.7091,46.7152,46.7187,46.7227 ,46.7258,46.7283,46.7318,46.7335, 46.7337,46.7351,46.8988,47.0624,47.2245 ,47.3879,47.5499,47.7109,47.8656, 48.0269,48.1906,48.3494,48.5888,48.7468 ,48.9058,49.1422,49.2984,49.4552, 49.6119,49.7663,49.921,50.0757,50.3073, 50.4599,50.6128,50.842,50.9945,51.1453, 51.2968,51.448,51.6747,51.8234,51.9724, 52.1219,52.2711,52.567,52.9349,53.2288, 53.5191,53.8106,54.0986,54.3134,54.3852 ,54.3262)
FOOTPRINT_POINT_LONGITUDE = (43.8226,43.2522,42.7955,42.1656, 41.7067,41.2464,40.7839,40.7549,40.6634 ,40.6947,40.7177,40.7546,40.7829, 40.8248,40.8519,40.8717,40.8977,40.9222 ,40.9404,40.9523,40.9643,40.976,40.9932 ,41.0043,41.0153,41.0314,41.0472, 41.0578,41.069,41.0835,41.0932,41.1026, 41.1115,41.125,41.1339,41.1426,41.1562, 41.1685,41.1767,41.1849,41.1928,41.205, 41.212,41.2232,41.2274,41.2295,41.5016, 41.8372,42.112,42.477,42.7506,43.0846, 43.3576,43.6,44.0536,44.4467,44.477, 44.487,44.4763,44.4654,44.4539,44.4436, 44.4326,44.4211,44.4077,44.397,44.3869, 44.3749,44.3584,44.3467,44.3352,44.3179 ,44.3061,44.2942,44.2821,44.2701,44.258 ,44.2458,44.2272,44.2149,44.2025, 44.1835,44.1707,44.1581,44.1455,44.1326 ,44.113,44.1,44.0868,44.0736,44.0601, 44.0332,43.9988,43.9711,43.943,43.9144, 43.8855,43.8635,43.8561,43.8226)
ORBIT_NUMBER = 13900
ORBITAL_ECCENTRICITY = 0.571
ORBITAL_INCLINATION = 86.92
ORBITAL_SEMIMAJOR_AXIS = 8764.7
PERIAPSIS_ALTITUDE = 386.18
PERIAPSIS_ARGUMENT_ANGLE = 102.24
PERIAPSIS_TIME = 2014-12-14T09:40:56.000Z
SPACECRAFT_ORIENTATION = (0.0,-1.0,0.0)
^MEX_ORIENTATION_DESC = "MEX_ORIENTATION_DESC.TXT"
SPACECRAFT_POINTING_MODE = ACROSSTRACK
^MEX_POINTING_DESC = "MEX_POINTING_DESC.TXT"
RIGHT_ASCENSION = -1e+32
DECLINATION = -1e+32
OFFSET_ANGLE = -0.3
SPACECRAFT_SOLAR_DISTANCE = 2.06631e+08
TARGET_NAME = MARS
/* CAMERA DATA ELEMENTS */
DETECTOR_TEMPERATURE = 18.5744
FOCAL_PLANE_TEMPERATURE = 8.1755
INST_CMPRS_NAME = "DISCRETE COSINE TRANSFORMATION (DCT)"
INST_CMPRS_RATIO = 16.1833
INST_CMPRS_QUALITY = 0
INST_CMPRS_QUANTZ_TBL_ID = 0
INSTRUMENT_TEMPERATURE = 11.234
LENS_TEMPERATURE = 8.5833
MACROPIXEL_SIZE = 4
MISSING_FRAMES = 0
PIXEL_SUBSAMPLING_FLAG = N
SIGNAL_CHAIN_ID = 2
/* RADIOMETRIC DATA ELEMENTS */
BANDWIDTH = 48.0
CENTER_FILTER_WAVELENGTH = 748.0
RADIANCE_OFFSET = 0.595437
RADIANCE_SCALING_FACTOR = 0.00420308
REFLECTANCE_SCALING_FACTOR = 0.000409531
MEX:REFLECTANCE_OFFSET = 0.0580168
/* IMAGE OBJECT DEFINITIONS */
OBJECT = IMAGE
  INTERCHANGE_FORMAT = BINARY
  LINES = 4594
  LINE_SAMPLES = 1327
  SAMPLE_TYPE = UNSIGNED_INTEGER
  SAMPLE_BITS = 8
  BANDS = 1
  BAND_STORAGE_TYPE = BAND_SEQUENTIAL
  MAXIMUM = 255
  MEAN = 87.0732
  MINIMUM = 1
  STANDARD_DEVIATION = 35.7308
END_OBJECT = IMAGE
/* MAP OBJECT DEFINITIONS */
OBJECT = IMAGE_MAP_PROJECTION
  ^DATA_SET_MAP_PROJECTION_CATALOG= "DSMAP.CAT"
  A_AXIS_RADIUS = 3396.0
  B_AXIS_RADIUS = 3396.0
  C_AXIS_RADIUS = 3396.0
  CENTER_LATITUDE = 0.0
  CENTER_LONGITUDE = 43.0
  COORDINATE_SYSTEM_NAME = PLANETOGRAPHIC
  COORDINATE_SYSTEM_TYPE = "BODY-FIXED ROTATING"
  EASTERNMOST_LONGITUDE = 44.487
  FIRST_STANDARD_PARALLEL = "N/A"
  LINE_FIRST_PIXEL = 1
  LINE_LAST_PIXEL = 4594
  LINE_PROJECTION_OFFSET = 32255.625
  MAP_PROJECTION_ROTATION = 0.0
  MAP_PROJECTION_TYPE = SINUSOIDAL
  MAP_RESOLUTION = 592.713803866667
  MAP_SCALE = 0.1
  MAXIMUM_LATITUDE = 54.3852
  MINIMUM_LATITUDE = 46.6882
  POSITIVE_LONGITUDE_DIRECTION = EAST
  REFERENCE_LATITUDE = "N/A"
  REFERENCE_LONGITUDE = "N/A"
  SAMPLE_FIRST_PIXEL = 1
  SAMPLE_LAST_PIXEL = 1327
  SAMPLE_PROJECTION_OFFSET = 778.375
  SECOND_STANDARD_PARALLEL = "N/A"
  WESTERNMOST_LONGITUDE = 40.6634
END_OBJECT = IMAGE_MAP_PROJECTION
END
