PDS_VERSION_ID = PDS3
/* FILE DATA ELEMENTS */
RECORD_TYPE = UNDEFINED
/* POINTERS TO DATA OBJECTS */
^IMAGE = ("HD891_0000_S14.TIF")
/* IDENTIFICATION DATA ELEMENTS */
DATA_SET_ID = "MEX-M-HRSC-4-REFDR-MAPPROJECT-EXT4-V4.0"
DATA_SET_NAME = "MARS EXPRESS HRSC MAP PROJECTED REFDR EXTENSION4 V4.0"
DETECTOR_ID = MEX_HRSC_S1
EVENT_TYPE = "MARS-REGIONAL-STEREO-Vo-Te"
INSTRUMENT_HOST_ID = MEX
INSTRUMENT_HOST_NAME = "MARS EXPRESS"
INSTRUMENT_ID = HRSC
INSTRUMENT_NAME = "HIGH RESOLUTION STEREO CAMERA"
MISSION_NAME = "MARS EXPRESS"
MISSION_PHASE_NAME = ME_Phase_31
PROCESSING_LEVEL_ID = 4
PRODUCT_CREATION_TIME = 2023-02-01T02:09:17.000Z
PRODUCT_ID = "HD891_0000_S14.TIF"
RELEASE_ID = 0005
REVISION_ID = 0000
/* QUALITY DATA ELEMENTS */
DATA_QUALITY_ID = 1
DATA_QUALITY_DESC = "Data calculated based on original SPICE kernels"
/* TIME DATA ELEMENTS */
SPACECRAFT_CLOCK_START_COUNT = "1/0366403954.09063"
SPACECRAFT_CLOCK_STOP_COUNT = "1/0366404286.09849"
START_TIME = 2014-12-11T18:52:40.151Z
STOP_TIME = 2014-12-11T18:55:27.924Z
/* ORBITAL DATA ELEMENTS */
ASCENDING_NODE_LONGITUDE = 312.91
MAXIMUM_RESOLUTION = 0.0223
FOOTPRINT_POINT_LATITUDE = (46.9333,46.9407,46.9443,46.9458, 46.9452,46.9426,46.938,46.9376,46.8755, 46.5009,46.122,45.7446,45.3593,44.9754, 44.586,44.0977,43.8986,43.6996,43.4029, 43.1007,42.7978,42.5959,42.2875,42.0814 ,41.7724,41.5643,41.3547,41.1453, 40.9346,40.722,40.5089,40.2961,40.0802, 39.864,39.6479,39.319,39.0997,38.8797, 38.5455,38.3225,37.9838,37.7581,37.531, 37.3018,36.9576,36.6085,36.4924,36.4851 ,36.4872,36.4854,36.4797,36.4756, 36.4688,36.462,36.4519,36.451,36.4511, 36.684,36.9178,37.1484,37.3785,37.6086, 37.8351,38.0617,38.2887,38.5129,38.7358 ,38.958,39.1776,39.3971,39.6164,39.8322 ,40.0488,40.2653,40.4786,40.7986,41.117 ,41.3268,41.5373,41.7474,42.0576, 42.2648,42.4716,42.6749,42.9797,43.1845 ,43.3869,43.5865,43.7866,43.9857, 44.1812,44.4741,44.9603,45.3438,45.7299 ,46.1086,46.4885,46.7708,46.8642, 46.9333)
FOOTPRINT_POINT_LONGITUDE = (245.76,245.226,244.802,244.38,243.961, 243.544,243.129,243.103,243.085,243.095 ,243.105,243.113,243.121,243.129, 243.136,243.143,243.146,243.149,243.152 ,243.156,243.158,243.16,243.162,243.163 ,243.165,243.166,243.166,243.167, 243.167,243.167,243.167,243.167,243.166 ,243.165,243.165,243.163,243.162,243.16 ,243.157,243.155,243.152,243.149, 243.147,243.144,243.139,243.134,243.132 ,243.132,243.635,244.167,244.702, 244.957,245.297,245.554,245.953,245.982 ,245.996,245.993,245.989,245.985, 245.981,245.978,245.974,245.971,245.966 ,245.962,245.959,245.955,245.952, 245.949,245.945,245.942,245.939,245.935 ,245.931,245.926,245.92,245.917,245.912 ,245.908,245.902,245.898,245.894,245.89 ,245.885,245.88,245.875,245.871,245.867 ,245.864,245.862,245.857,245.849, 245.843,245.835,245.827,245.818,245.811 ,245.808,245.76)
ORBIT_NUMBER = 13891
ORBITAL_ECCENTRICITY = 0.571
ORBITAL_INCLINATION = 86.92
ORBITAL_SEMIMAJOR_AXIS = 8762.87
PERIAPSIS_ALTITUDE = 385.06
PERIAPSIS_ARGUMENT_ANGLE = 103.77
PERIAPSIS_TIME = 2014-12-11T18:45:42.000Z
SPACECRAFT_ORIENTATION = (0.0,-1.0,0.0)
^MEX_ORIENTATION_DESC = "MEX_ORIENTATION_DESC.TXT"
SPACECRAFT_POINTING_MODE = ACROSSTRACK
^MEX_POINTING_DESC = "MEX_POINTING_DESC.TXT"
RIGHT_ASCENSION = -1e+32
DECLINATION = -1e+32
OFFSET_ANGLE = 0.6
SPACECRAFT_SOLAR_DISTANCE = 2.06627e+08
TARGET_NAME = MARS
/* CAMERA DATA ELEMENTS */
DETECTOR_TEMPERATURE = 17.5549
FOCAL_PLANE_TEMPERATURE = 9.8067
INST_CMPRS_NAME = "DISCRETE COSINE TRANSFORMATION (DCT)"
INST_CMPRS_RATIO = 5.18788
INST_CMPRS_QUALITY = 0
INST_CMPRS_QUANTZ_TBL_ID = 0
INSTRUMENT_TEMPERATURE = 11.4379
LENS_TEMPERATURE = 8.3794
MACROPIXEL_SIZE = 1
MISSING_FRAMES = 0
PIXEL_SUBSAMPLING_FLAG = N
SIGNAL_CHAIN_ID = 2
/* RADIOMETRIC DATA ELEMENTS */
BANDWIDTH = 180.0
CENTER_FILTER_WAVELENGTH = 677.0
RADIANCE_OFFSET = 2.95844
RADIANCE_SCALING_FACTOR = 0.0286784
REFLECTANCE_SCALING_FACTOR = 0.000638809
MEX:REFLECTANCE_OFFSET = 0.065899
/* IMAGE OBJECT DEFINITIONS */
OBJECT = IMAGE
  INTERCHANGE_FORMAT = BINARY
  LINES = 24810
  LINE_SAMPLES = 5961
  SAMPLE_TYPE = UNSIGNED_INTEGER
  SAMPLE_BITS = 8
  BANDS = 1
  BAND_STORAGE_TYPE = BAND_SEQUENTIAL
  MAXIMUM = 255
  MEAN = 126.998
  MINIMUM = 1
  STANDARD_DEVIATION = 36.5619
END_OBJECT = IMAGE
/* MAP OBJECT DEFINITIONS */
OBJECT = IMAGE_MAP_PROJECTION
  ^DATA_SET_MAP_PROJECTION_CATALOG= "DSMAP.CAT"
  A_AXIS_RADIUS = 3396.0
  B_AXIS_RADIUS = 3396.0
  C_AXIS_RADIUS = 3396.0
  CENTER_LATITUDE = 0.0
  CENTER_LONGITUDE = 245.0
  COORDINATE_SYSTEM_NAME = PLANETOGRAPHIC
  COORDINATE_SYSTEM_TYPE = "BODY-FIXED ROTATING"
  EASTERNMOST_LONGITUDE = 245.996
  FIRST_STANDARD_PARALLEL = "N/A"
  LINE_FIRST_PIXEL = 1
  LINE_LAST_PIXEL = 24810
  LINE_PROJECTION_OFFSET = 111152.0
  MAP_PROJECTION_ROTATION = 0.0
  MAP_PROJECTION_TYPE = SINUSOIDAL
  MAP_RESOLUTION = 2370.85521546667
  MAP_SCALE = 0.025
  MAXIMUM_LATITUDE = 46.9458
  MINIMUM_LATITUDE = 36.451
  POSITIVE_LONGITUDE_DIRECTION = EAST
  REFERENCE_LATITUDE = "N/A"
  REFERENCE_LONGITUDE = "N/A"
  SAMPLE_FIRST_PIXEL = 1
  SAMPLE_LAST_PIXEL = 5961
  SAMPLE_PROJECTION_OFFSET = 3860.0
  SECOND_STANDARD_PARALLEL = "N/A"
  WESTERNMOST_LONGITUDE = 243.085
END_OBJECT = IMAGE_MAP_PROJECTION
END
