PDS_VERSION_ID = PDS3
/* FILE DATA ELEMENTS */
RECORD_TYPE = UNDEFINED
/* POINTERS TO DATA OBJECTS */
^IMAGE = ("HD880_0000_P14.TIF")
/* IDENTIFICATION DATA ELEMENTS */
DATA_SET_ID = "MEX-M-HRSC-4-REFDR-MAPPROJECT-EXT4-V4.0"
DATA_SET_NAME = "MARS EXPRESS HRSC MAP PROJECTED REFDR EXTENSION4 V4.0"
DETECTOR_ID = MEX_HRSC_P1
EVENT_TYPE = "MARS-REGIONAL-STEREO-Te"
INSTRUMENT_HOST_ID = MEX
INSTRUMENT_HOST_NAME = "MARS EXPRESS"
INSTRUMENT_ID = HRSC
INSTRUMENT_NAME = "HIGH RESOLUTION STEREO CAMERA"
MISSION_NAME = "MARS EXPRESS"
MISSION_PHASE_NAME = ME_Phase_31
PROCESSING_LEVEL_ID = 4
PRODUCT_CREATION_TIME = 2023-02-01T02:09:17.000Z
PRODUCT_ID = "HD880_0000_P14.TIF"
RELEASE_ID = 0005
REVISION_ID = 0000
/* QUALITY DATA ELEMENTS */
DATA_QUALITY_ID = 1
DATA_QUALITY_DESC = "Data calculated based on original SPICE kernels"
/* TIME DATA ELEMENTS */
SPACECRAFT_CLOCK_START_COUNT = "1/0366127093.07295"
SPACECRAFT_CLOCK_STOP_COUNT = "1/0366127398.38260"
START_TIME = 2014-12-08T13:58:35.659Z
STOP_TIME = 2014-12-08T14:01:13.159Z
/* ORBITAL DATA ELEMENTS */
ASCENDING_NODE_LONGITUDE = 313.12
MAXIMUM_RESOLUTION = 0.0431
FOOTPRINT_POINT_LATITUDE = (46.1473,46.141,46.1304,46.1197,46.1059 ,46.0902,46.0727,46.0571,46.0559, 46.0136,45.6683,45.3187,45.0549,44.7026 ,44.3455,43.9889,43.8092,43.6281, 43.4463,43.2657,43.0842,42.8999,42.7146 ,42.4363,42.1568,41.9689,41.687,41.4986 ,41.3092,41.1195,40.9294,40.7378, 40.4514,40.2583,39.9674,39.7713,39.5763 ,39.2802,39.0817,38.7836,38.5835, 38.3819,38.1808,37.8753,37.671,37.4674, 37.2613,37.0549,36.8485,36.639,36.5344, 36.4921,36.5107,36.5179,36.5286,36.538, 36.5432,36.5473,36.5475,36.5483,36.8647 ,37.0725,37.28,37.5905,37.7943,37.9991, 38.2025,38.5076,38.7095,39.0094,39.2088 ,39.5073,39.7034,39.8998,40.1941, 40.3875,40.5811,40.8715,41.1578,41.3488 ,41.6352,41.8232,42.0107,42.1993, 42.3857,42.5699,42.7552,42.9408,43.1256 ,43.3998,43.5801,43.854,44.0386,44.2186 ,44.5769,45.0223,45.5499,45.9835, 46.0697,46.1473)
FOOTPRINT_POINT_LONGITUDE = (288.999,288.724,288.324,287.973, 287.571,287.168,286.764,286.434,286.409 ,286.367,286.384,286.401,286.414, 286.428,286.444,286.459,286.466,286.473 ,286.479,286.487,286.493,286.499, 286.504,286.512,286.519,286.524,286.531 ,286.535,286.541,286.546,286.55,286.553 ,286.562,286.565,286.571,286.574, 286.578,286.582,286.584,286.588,286.59, 286.592,286.594,286.596,286.597,286.599 ,286.6,286.601,286.602,286.602,286.602, 286.602,287.15,287.397,287.833,288.404, 288.948,289.381,289.408,289.418,289.408 ,289.401,289.395,289.385,289.378, 289.372,289.365,289.354,289.347,289.336 ,289.329,289.318,289.311,289.304, 289.293,289.286,289.278,289.267,289.255 ,289.247,289.235,289.227,289.219, 289.211,289.203,289.195,289.187,289.178 ,289.17,289.157,289.149,289.136,289.125 ,289.116,289.098,289.075,289.048, 289.024,289.02,288.999)
ORBIT_NUMBER = 13880
ORBITAL_ECCENTRICITY = 0.571
ORBITAL_INCLINATION = 86.91
ORBITAL_SEMIMAJOR_AXIS = 8765.66
PERIAPSIS_ALTITUDE = 385.56
PERIAPSIS_ARGUMENT_ANGLE = 105.7
PERIAPSIS_TIME = 2014-12-08T13:51:39.000Z
SPACECRAFT_ORIENTATION = (0.0,-1.0,0.0)
^MEX_ORIENTATION_DESC = "MEX_ORIENTATION_DESC.TXT"
SPACECRAFT_POINTING_MODE = ACROSSTRACK
^MEX_POINTING_DESC = "MEX_POINTING_DESC.TXT"
RIGHT_ASCENSION = -1e+32
DECLINATION = -1e+32
OFFSET_ANGLE = -0.35
SPACECRAFT_SOLAR_DISTANCE = 2.06642e+08
TARGET_NAME = MARS
/* CAMERA DATA ELEMENTS */
DETECTOR_TEMPERATURE = 17.351
FOCAL_PLANE_TEMPERATURE = 8.1755
INST_CMPRS_NAME = "DISCRETE COSINE TRANSFORMATION (DCT)"
INST_CMPRS_RATIO = 5.37316
INST_CMPRS_QUALITY = 0
INST_CMPRS_QUANTZ_TBL_ID = 0
INSTRUMENT_TEMPERATURE = 11.234
LENS_TEMPERATURE = 8.5833
MACROPIXEL_SIZE = 2
MISSING_FRAMES = 0
PIXEL_SUBSAMPLING_FLAG = N
SIGNAL_CHAIN_ID = 3
/* RADIOMETRIC DATA ELEMENTS */
BANDWIDTH = 174.0
CENTER_FILTER_WAVELENGTH = 675.0
RADIANCE_OFFSET = 3.27439
RADIANCE_SCALING_FACTOR = 0.0270396
REFLECTANCE_SCALING_FACTOR = 0.000621044
MEX:REFLECTANCE_OFFSET = 0.0752059
/* IMAGE OBJECT DEFINITIONS */
OBJECT = IMAGE
  INTERCHANGE_FORMAT = BINARY
  LINES = 11354
  LINE_SAMPLES = 2846
  SAMPLE_TYPE = UNSIGNED_INTEGER
  SAMPLE_BITS = 8
  BANDS = 1
  BAND_STORAGE_TYPE = BAND_SEQUENTIAL
  MAXIMUM = 255
  MEAN = 105.861
  MINIMUM = 1
  STANDARD_DEVIATION = 33.0599
END_OBJECT = IMAGE
/* MAP OBJECT DEFINITIONS */
OBJECT = IMAGE_MAP_PROJECTION
  ^DATA_SET_MAP_PROJECTION_CATALOG= "DSMAP.CAT"
  A_AXIS_RADIUS = 3396.0
  B_AXIS_RADIUS = 3396.0
  C_AXIS_RADIUS = 3396.0
  CENTER_LATITUDE = 0.0
  CENTER_LONGITUDE = 288.0
  COORDINATE_SYSTEM_NAME = PLANETOGRAPHIC
  COORDINATE_SYSTEM_TYPE = "BODY-FIXED ROTATING"
  EASTERNMOST_LONGITUDE = 289.418
  FIRST_STANDARD_PARALLEL = "N/A"
  LINE_FIRST_PIXEL = 1
  LINE_LAST_PIXEL = 11354
  LINE_PROJECTION_OFFSET = 54634.75
  MAP_PROJECTION_ROTATION = 0.0
  MAP_PROJECTION_TYPE = SINUSOIDAL
  MAP_RESOLUTION = 1185.42760773333
  MAP_SCALE = 0.05
  MAXIMUM_LATITUDE = 46.1473
  MINIMUM_LATITUDE = 36.4921
  POSITIVE_LONGITUDE_DIRECTION = EAST
  REFERENCE_LATITUDE = "N/A"
  REFERENCE_LONGITUDE = "N/A"
  SAMPLE_FIRST_PIXEL = 1
  SAMPLE_LAST_PIXEL = 2846
  SAMPLE_PROJECTION_OFFSET = 1420.25
  SECOND_STANDARD_PARALLEL = "N/A"
  WESTERNMOST_LONGITUDE = 286.367
END_OBJECT = IMAGE_MAP_PROJECTION
END
