PDS_VERSION_ID = PDS3
/* FILE DATA ELEMENTS */
RECORD_TYPE = UNDEFINED
/* POINTERS TO DATA OBJECTS */
^IMAGE = ("HD876_0000_BL4.TIF")
/* IDENTIFICATION DATA ELEMENTS */
DATA_SET_ID = "MEX-M-HRSC-4-REFDR-MAPPROJECT-EXT4-V4.0"
DATA_SET_NAME = "MARS EXPRESS HRSC MAP PROJECTED REFDR EXTENSION4 V4.0"
DETECTOR_ID = MEX_HRSC_BLUE
EVENT_TYPE = "MARS-CLOUD-VARIABLE-At"
INSTRUMENT_HOST_ID = MEX
INSTRUMENT_HOST_NAME = "MARS EXPRESS"
INSTRUMENT_ID = HRSC
INSTRUMENT_NAME = "HIGH RESOLUTION STEREO CAMERA"
MISSION_NAME = "MARS EXPRESS"
MISSION_PHASE_NAME = ME_Phase_31
PROCESSING_LEVEL_ID = 4
PRODUCT_CREATION_TIME = 2023-02-01T02:09:17.000Z
PRODUCT_ID = "HD876_0000_BL4.TIF"
RELEASE_ID = 0005
REVISION_ID = 0000
/* QUALITY DATA ELEMENTS */
DATA_QUALITY_ID = 1
DATA_QUALITY_DESC = "Data calculated based on original SPICE kernels"
/* TIME DATA ELEMENTS */
SPACECRAFT_CLOCK_START_COUNT = "1/0366026313.07337"
SPACECRAFT_CLOCK_STOP_COUNT = "1/0366026801.21819"
START_TIME = 2014-12-07T09:58:53.819Z
STOP_TIME = 2014-12-07T10:05:39.167Z
/* ORBITAL DATA ELEMENTS */
ASCENDING_NODE_LONGITUDE = 313.19
MAXIMUM_RESOLUTION = 0.0748
FOOTPRINT_POINT_LATITUDE = (54.2962,54.2784,54.251,54.2157,54.2147 ,54.2324,53.6684,52.9112,52.3379, 51.5624,50.7786,50.1864,49.3824,48.7723 ,48.3645,47.9494,47.5356,47.1143, 46.4797,46.0535,45.6226,44.9706,44.5319 ,44.0881,43.642,43.1911,42.736,42.2781, 41.8158,41.3484,40.8775,40.4025,39.9232 ,39.4383,38.9489,38.4548,37.956,37.4524 ,36.9435,36.4293,35.9097,35.3848, 34.8542,34.3182,33.7764,33.2287,32.6741 ,31.8316,31.5477,31.4499,31.4535, 31.4523,31.4483,31.4375,31.4371,31.4387 ,32.0092,32.5734,33.1316,33.6842, 34.2301,34.7698,35.3038,35.8324,36.3553 ,36.873,37.3851,37.8919,38.394,38.8914, 39.384,39.8711,40.3531,40.8311,41.3052, 41.7755,42.2395,42.9297,43.3844,43.8367 ,44.283,44.9468,45.6021,46.0362,46.4642 ,46.8911,47.3132,47.7332,48.149,48.5634 ,48.9728,49.3817,49.7845,50.7841, 51.7668,52.7348,53.4997,54.0652,54.2541 ,54.2962)
FOOTPRINT_POINT_LONGITUDE = (338.026,337.253,336.331,335.385,335.36 ,335.295,335.35,335.42,335.469,335.531, 335.589,335.628,335.679,335.714,335.736 ,335.758,335.777,335.797,335.825,335.84 ,335.855,335.877,335.89,335.903,335.914 ,335.925,335.934,335.942,335.95,335.956 ,335.962,335.966,335.97,335.972,335.973 ,335.974,335.973,335.971,335.969, 335.965,335.96,335.954,335.947,335.938, 335.928,335.918,335.906,335.885,335.878 ,335.875,336.712,337.461,338.119, 339.048,339.078,339.088,339.076,339.064 ,339.051,339.038,339.025,339.011, 338.997,338.984,338.969,338.955,338.94, 338.925,338.91,338.895,338.879,338.862, 338.846,338.829,338.812,338.795,338.777 ,338.75,338.731,338.713,338.693,338.664 ,338.634,338.613,338.592,338.57,338.549 ,338.526,338.503,338.48,338.457,338.432 ,338.408,338.345,338.278,338.208, 338.149,338.104,338.088,338.026)
ORBIT_NUMBER = 13876
ORBITAL_ECCENTRICITY = 0.571
ORBITAL_INCLINATION = 86.93
ORBITAL_SEMIMAJOR_AXIS = 8765.46
PERIAPSIS_ALTITUDE = 385.25
PERIAPSIS_ARGUMENT_ANGLE = 106.37
PERIAPSIS_TIME = 2014-12-07T09:53:42.000Z
SPACECRAFT_ORIENTATION = (0.0,-1.0,0.0)
^MEX_ORIENTATION_DESC = "MEX_ORIENTATION_DESC.TXT"
SPACECRAFT_POINTING_MODE = NADIR
^MEX_POINTING_DESC = "MEX_POINTING_DESC.TXT"
RIGHT_ASCENSION = -1e+32
DECLINATION = -1e+32
OFFSET_ANGLE = -1e+32
SPACECRAFT_SOLAR_DISTANCE = 2.06653e+08
TARGET_NAME = MARS
/* CAMERA DATA ELEMENTS */
DETECTOR_TEMPERATURE = 18.5744
FOCAL_PLANE_TEMPERATURE = 8.3794
INST_CMPRS_NAME = "DISCRETE COSINE TRANSFORMATION (DCT)"
INST_CMPRS_RATIO = 12.0188
INST_CMPRS_QUALITY = 0
INST_CMPRS_QUANTZ_TBL_ID = 0
INSTRUMENT_TEMPERATURE = 11.6418
LENS_TEMPERATURE = 9.3989
MACROPIXEL_SIZE = 4
MISSING_FRAMES = 0
PIXEL_SUBSAMPLING_FLAG = N
SIGNAL_CHAIN_ID = 2
/* RADIOMETRIC DATA ELEMENTS */
BANDWIDTH = 76.0
CENTER_FILTER_WAVELENGTH = 444.0
RADIANCE_OFFSET = 0.560461
RADIANCE_SCALING_FACTOR = 0.00263289
REFLECTANCE_SCALING_FACTOR = 0.000115524
MEX:REFLECTANCE_OFFSET = 0.0245915
/* IMAGE OBJECT DEFINITIONS */
OBJECT = IMAGE
  INTERCHANGE_FORMAT = BINARY
  LINES = 27124
  LINE_SAMPLES = 3295
  SAMPLE_TYPE = UNSIGNED_INTEGER
  SAMPLE_BITS = 8
  BANDS = 1
  BAND_STORAGE_TYPE = BAND_SEQUENTIAL
  MAXIMUM = 255
  MEAN = 138.138
  MINIMUM = 1
  STANDARD_DEVIATION = 47.0734
END_OBJECT = IMAGE
/* MAP OBJECT DEFINITIONS */
OBJECT = IMAGE_MAP_PROJECTION
  ^DATA_SET_MAP_PROJECTION_CATALOG= "DSMAP.CAT"
  A_AXIS_RADIUS = 3396.0
  B_AXIS_RADIUS = 3396.0
  C_AXIS_RADIUS = 3396.0
  CENTER_LATITUDE = 0.0
  CENTER_LONGITUDE = 337.0
  COORDINATE_SYSTEM_NAME = PLANETOGRAPHIC
  COORDINATE_SYSTEM_TYPE = "BODY-FIXED ROTATING"
  EASTERNMOST_LONGITUDE = 339.088
  FIRST_STANDARD_PARALLEL = "N/A"
  LINE_FIRST_PIXEL = 1
  LINE_LAST_PIXEL = 27124
  LINE_PROJECTION_OFFSET = 64391.0
  MAP_PROJECTION_ROTATION = 0.0
  MAP_PROJECTION_TYPE = SINUSOIDAL
  MAP_RESOLUTION = 1185.42760773333
  MAP_SCALE = 0.05
  MAXIMUM_LATITUDE = 54.2962
  MINIMUM_LATITUDE = 31.4371
  POSITIVE_LONGITUDE_DIRECTION = EAST
  REFERENCE_LATITUDE = "N/A"
  REFERENCE_LONGITUDE = "N/A"
  SAMPLE_FIRST_PIXEL = 1
  SAMPLE_LAST_PIXEL = 3295
  SAMPLE_PROJECTION_OFFSET = 1181.0
  SECOND_STANDARD_PARALLEL = "N/A"
  WESTERNMOST_LONGITUDE = 335.295
END_OBJECT = IMAGE_MAP_PROJECTION
END
