PDS_VERSION_ID = PDS3
/* FILE DATA ELEMENTS */
RECORD_TYPE = UNDEFINED
/* POINTERS TO DATA OBJECTS */
^IMAGE = ("HD869_0000_P24.TIF")
/* IDENTIFICATION DATA ELEMENTS */
DATA_SET_ID = "MEX-M-HRSC-4-REFDR-MAPPROJECT-EXT4-V4.0"
DATA_SET_NAME = "MARS EXPRESS HRSC MAP PROJECTED REFDR EXTENSION4 V4.0"
DETECTOR_ID = MEX_HRSC_P2
EVENT_TYPE = "MARS-REGIONAL-MAPPING-Fl-Pf-At"
INSTRUMENT_HOST_ID = MEX
INSTRUMENT_HOST_NAME = "MARS EXPRESS"
INSTRUMENT_ID = HRSC
INSTRUMENT_NAME = "HIGH RESOLUTION STEREO CAMERA"
MISSION_NAME = "MARS EXPRESS"
MISSION_PHASE_NAME = ME_Phase_31
PROCESSING_LEVEL_ID = 4
PRODUCT_CREATION_TIME = 2023-02-01T02:09:17.000Z
PRODUCT_ID = "HD869_0000_P24.TIF"
RELEASE_ID = 0005
REVISION_ID = 0000
/* QUALITY DATA ELEMENTS */
DATA_QUALITY_ID = 1
DATA_QUALITY_DESC = "Data calculated based on original SPICE kernels"
/* TIME DATA ELEMENTS */
SPACECRAFT_CLOCK_START_COUNT = "1/0365850137.07328"
SPACECRAFT_CLOCK_STOP_COUNT = "1/0365850454.45372"
START_TIME = 2014-12-05T09:03:38.229Z
STOP_TIME = 2014-12-05T09:07:12.003Z
/* ORBITAL DATA ELEMENTS */
ASCENDING_NODE_LONGITUDE = 313.32
MAXIMUM_RESOLUTION = 0.0826
FOOTPRINT_POINT_LATITUDE = (50.8344,50.8229,50.8149,50.8058, 50.7957,50.7844,50.7737,50.7729,50.8417 ,50.4201,49.9917,49.5634,49.1294, 48.8031,48.3645,47.8142,47.4782,47.255, 47.032,46.8049,46.5783,46.3522,46.0087, 45.7794,45.5507,45.3178,45.085,44.8536, 44.6175,44.2648,44.0276,43.7892,43.5514 ,43.3105,42.9491,42.584,42.3405,41.9712 ,41.7249,41.3516,41.1027,40.8506, 40.5987,40.2173,39.963,39.7052,39.3182, 39.1881,39.0848,39.0896,39.0938,39.0966 ,39.0988,39.0989,39.0987,39.098,39.0979 ,39.0993,39.4909,39.7494,40.0082, 40.2638,40.5202,40.773,41.1524,41.4027, 41.7775,42.0251,42.3957,42.6404,43.0068 ,43.2487,43.4907,43.7307,43.9696, 44.2094,44.4453,44.6817,44.9184,45.1519 ,45.3849,45.6182,45.8479,46.0783, 46.3082,46.5356,46.7635,47.1048,47.3288 ,47.5535,47.8902,48.3326,48.5544, 48.8834,49.2105,49.6461,50.0761,50.7176 ,50.8233,50.8344)
FOOTPRINT_POINT_LONGITUDE = (333.575,332.878,332.479,332.079, 331.679,331.277,330.924,330.899,330.818 ,330.851,330.883,330.914,330.944, 330.966,330.993,331.025,331.044,331.056 ,331.067,331.079,331.09,331.101,331.116 ,331.126,331.135,331.145,331.154, 331.163,331.172,331.184,331.192,331.199 ,331.206,331.213,331.223,331.232, 331.238,331.246,331.251,331.258,331.262 ,331.266,331.27,331.274,331.277,331.28, 331.283,331.284,331.285,331.704,332.152 ,332.599,333.156,333.601,333.906,334.24 ,334.268,334.277,334.261,334.25,334.239 ,334.228,334.217,334.206,334.188, 334.177,334.16,334.148,334.13,334.118, 334.1,334.088,334.076,334.064,334.051, 334.038,334.026,334.013,334.0,333.988, 333.974,333.961,333.947,333.934,333.92, 333.906,333.893,333.872,333.858,333.843 ,333.822,333.793,333.778,333.755, 333.732,333.701,333.67,333.621,333.613, 333.575)
ORBIT_NUMBER = 13869
ORBITAL_ECCENTRICITY = 0.571
ORBITAL_INCLINATION = 86.93
ORBITAL_SEMIMAJOR_AXIS = 8766.42
PERIAPSIS_ALTITUDE = 384.89
PERIAPSIS_ARGUMENT_ANGLE = 107.58
PERIAPSIS_TIME = 2014-12-05T08:57:27.000Z
SPACECRAFT_ORIENTATION = (0.0,-1.0,0.0)
^MEX_ORIENTATION_DESC = "MEX_ORIENTATION_DESC.TXT"
SPACECRAFT_POINTING_MODE = ACROSSTRACK
^MEX_POINTING_DESC = "MEX_POINTING_DESC.TXT"
RIGHT_ASCENSION = -1e+32
DECLINATION = -1e+32
OFFSET_ANGLE = -0.269
SPACECRAFT_SOLAR_DISTANCE = 2.06679e+08
TARGET_NAME = MARS
/* CAMERA DATA ELEMENTS */
DETECTOR_TEMPERATURE = 18.7783
FOCAL_PLANE_TEMPERATURE = 8.3794
INST_CMPRS_NAME = "DISCRETE COSINE TRANSFORMATION (DCT)"
INST_CMPRS_RATIO = 13.637
INST_CMPRS_QUALITY = 0
INST_CMPRS_QUANTZ_TBL_ID = 0
INSTRUMENT_TEMPERATURE = 11.4379
LENS_TEMPERATURE = 8.7872
MACROPIXEL_SIZE = 4
MISSING_FRAMES = 0
PIXEL_SUBSAMPLING_FLAG = N
SIGNAL_CHAIN_ID = 3
/* RADIOMETRIC DATA ELEMENTS */
BANDWIDTH = 177.0
CENTER_FILTER_WAVELENGTH = 676.5
RADIANCE_OFFSET = 2.17907
RADIANCE_SCALING_FACTOR = 0.0131618
REFLECTANCE_SCALING_FACTOR = 0.000298104
MEX:REFLECTANCE_OFFSET = 0.049354
/* IMAGE OBJECT DEFINITIONS */
OBJECT = IMAGE
  INTERCHANGE_FORMAT = BINARY
  LINES = 7013
  LINE_SAMPLES = 1338
  SAMPLE_TYPE = UNSIGNED_INTEGER
  SAMPLE_BITS = 8
  BANDS = 1
  BAND_STORAGE_TYPE = BAND_SEQUENTIAL
  MAXIMUM = 255
  MEAN = 133.553
  MINIMUM = 1
  STANDARD_DEVIATION = 61.4132
END_OBJECT = IMAGE
/* MAP OBJECT DEFINITIONS */
OBJECT = IMAGE_MAP_PROJECTION
  ^DATA_SET_MAP_PROJECTION_CATALOG= "DSMAP.CAT"
  A_AXIS_RADIUS = 3396.0
  B_AXIS_RADIUS = 3396.0
  C_AXIS_RADIUS = 3396.0
  CENTER_LATITUDE = 0.0
  CENTER_LONGITUDE = 333.0
  COORDINATE_SYSTEM_NAME = PLANETOGRAPHIC
  COORDINATE_SYSTEM_TYPE = "BODY-FIXED ROTATING"
  EASTERNMOST_LONGITUDE = 334.277
  FIRST_STANDARD_PARALLEL = "N/A"
  LINE_FIRST_PIXEL = 1
  LINE_LAST_PIXEL = 7013
  LINE_PROJECTION_OFFSET = 30170.875
  MAP_PROJECTION_ROTATION = 0.0
  MAP_PROJECTION_TYPE = SINUSOIDAL
  MAP_RESOLUTION = 592.713803866667
  MAP_SCALE = 0.1
  MAXIMUM_LATITUDE = 50.8417
  MINIMUM_LATITUDE = 39.0848
  POSITIVE_LONGITUDE_DIRECTION = EAST
  REFERENCE_LATITUDE = "N/A"
  REFERENCE_LONGITUDE = "N/A"
  SAMPLE_FIRST_PIXEL = 1
  SAMPLE_LAST_PIXEL = 1338
  SAMPLE_PROJECTION_OFFSET = 797.875
  SECOND_STANDARD_PARALLEL = "N/A"
  WESTERNMOST_LONGITUDE = 330.818
END_OBJECT = IMAGE_MAP_PROJECTION
END
