PDS_VERSION_ID = PDS3
/* FILE DATA ELEMENTS */
RECORD_TYPE = UNDEFINED
/* POINTERS TO DATA OBJECTS */
^IMAGE = ("HD869_0000_P14.TIF")
/* IDENTIFICATION DATA ELEMENTS */
DATA_SET_ID = "MEX-M-HRSC-4-REFDR-MAPPROJECT-EXT4-V4.0"
DATA_SET_NAME = "MARS EXPRESS HRSC MAP PROJECTED REFDR EXTENSION4 V4.0"
DETECTOR_ID = MEX_HRSC_P1
EVENT_TYPE = "MARS-REGIONAL-MAPPING-Fl-Pf-At"
INSTRUMENT_HOST_ID = MEX
INSTRUMENT_HOST_NAME = "MARS EXPRESS"
INSTRUMENT_ID = HRSC
INSTRUMENT_NAME = "HIGH RESOLUTION STEREO CAMERA"
MISSION_NAME = "MARS EXPRESS"
MISSION_PHASE_NAME = ME_Phase_31
PROCESSING_LEVEL_ID = 4
PRODUCT_CREATION_TIME = 2023-02-01T02:09:17.000Z
PRODUCT_ID = "HD869_0000_P14.TIF"
RELEASE_ID = 0005
REVISION_ID = 0000
/* QUALITY DATA ELEMENTS */
DATA_QUALITY_ID = 1
DATA_QUALITY_DESC = "Data calculated based on original SPICE kernels"
/* TIME DATA ELEMENTS */
SPACECRAFT_CLOCK_START_COUNT = "1/0365850137.07328"
SPACECRAFT_CLOCK_STOP_COUNT = "1/0365850454.45372"
START_TIME = 2014-12-05T09:02:37.522Z
STOP_TIME = 2014-12-05T09:05:47.322Z
/* ORBITAL DATA ELEMENTS */
ASCENDING_NODE_LONGITUDE = 313.32
MAXIMUM_RESOLUTION = 0.0766
FOOTPRINT_POINT_LATITUDE = (50.9667,50.9521,50.9357,50.9216,50.906 ,50.8717,50.8705,50.7985,50.1594, 49.7339,49.3002,48.7575,48.3184,48.097, 47.6542,47.4319,47.206,46.9804,46.7552, 46.5299,46.1856,45.9559,45.6113,45.3793 ,45.1455,44.9112,44.5606,44.2034, 43.9657,43.7283,43.3656,43.1239,42.8822 ,42.5138,42.2681,42.0224,41.7722, 41.5224,41.2729,41.0197,40.766,40.5126, 40.2558,39.9981,39.7407,39.4798,39.2184 ,39.0879,39.0452,39.0559,39.0706, 39.0871,39.0945,39.1011,39.1052,39.1054 ,39.1069,39.3691,39.6309,40.021,40.2794 ,40.5378,40.7922,41.0469,41.3016, 41.5518,41.8024,42.1774,42.4238,42.6705 ,42.9175,43.1598,43.4024,43.6453, 43.8861,44.2439,44.4825,44.8376,45.0716 ,45.3064,45.658,45.888,46.1185,46.3499, 46.5804,46.8061,47.0322,47.2585,47.5977 ,47.8194,48.0417,48.2637,48.486,48.7077 ,49.1432,49.4703,50.0104,50.7583, 50.8652,50.9667)
FOOTPRINT_POINT_LONGITUDE = (333.47,332.963,332.478,332.107,331.736 ,331.014,330.991,330.926,330.978, 331.011,331.043,331.082,331.111,331.126 ,331.153,331.166,331.179,331.192, 331.205,331.217,331.235,331.246,331.263 ,331.274,331.284,331.294,331.309, 331.324,331.333,331.342,331.355,331.363 ,331.371,331.382,331.389,331.396, 331.403,331.409,331.415,331.421,331.427 ,331.432,331.437,331.442,331.446,331.45 ,331.454,331.456,331.456,331.753, 332.225,332.868,333.263,333.657,334.076 ,334.1,334.108,334.099,334.091,334.077, 334.067,334.058,334.048,334.038,334.029 ,334.019,334.009,333.993,333.983, 333.973,333.962,333.952,333.941,333.93, 333.919,333.902,333.891,333.874,333.862 ,333.85,333.832,333.82,333.808,333.795, 333.782,333.77,333.757,333.744,333.725, 333.711,333.698,333.684,333.671,333.657 ,333.629,333.607,333.571,333.518,333.51 ,333.47)
ORBIT_NUMBER = 13869
ORBITAL_ECCENTRICITY = 0.571
ORBITAL_INCLINATION = 86.93
ORBITAL_SEMIMAJOR_AXIS = 8766.42
PERIAPSIS_ALTITUDE = 384.89
PERIAPSIS_ARGUMENT_ANGLE = 107.58
PERIAPSIS_TIME = 2014-12-05T08:57:27.000Z
SPACECRAFT_ORIENTATION = (0.0,-1.0,0.0)
^MEX_ORIENTATION_DESC = "MEX_ORIENTATION_DESC.TXT"
SPACECRAFT_POINTING_MODE = ACROSSTRACK
^MEX_POINTING_DESC = "MEX_POINTING_DESC.TXT"
RIGHT_ASCENSION = -1e+32
DECLINATION = -1e+32
OFFSET_ANGLE = -0.269
SPACECRAFT_SOLAR_DISTANCE = 2.06679e+08
TARGET_NAME = MARS
/* CAMERA DATA ELEMENTS */
DETECTOR_TEMPERATURE = 17.7588
FOCAL_PLANE_TEMPERATURE = 8.3794
INST_CMPRS_NAME = "DISCRETE COSINE TRANSFORMATION (DCT)"
INST_CMPRS_RATIO = 15.2392
INST_CMPRS_QUALITY = 0
INST_CMPRS_QUANTZ_TBL_ID = 0
INSTRUMENT_TEMPERATURE = 11.4379
LENS_TEMPERATURE = 8.7872
MACROPIXEL_SIZE = 4
MISSING_FRAMES = 0
PIXEL_SUBSAMPLING_FLAG = N
SIGNAL_CHAIN_ID = 3
/* RADIOMETRIC DATA ELEMENTS */
BANDWIDTH = 174.0
CENTER_FILTER_WAVELENGTH = 675.0
RADIANCE_OFFSET = 2.37433
RADIANCE_SCALING_FACTOR = 0.0130155
REFLECTANCE_SCALING_FACTOR = 0.000299048
MEX:REFLECTANCE_OFFSET = 0.0545532
/* IMAGE OBJECT DEFINITIONS */
OBJECT = IMAGE
  INTERCHANGE_FORMAT = BINARY
  LINES = 7013
  LINE_SAMPLES = 1338
  SAMPLE_TYPE = UNSIGNED_INTEGER
  SAMPLE_BITS = 8
  BANDS = 1
  BAND_STORAGE_TYPE = BAND_SEQUENTIAL
  MAXIMUM = 255
  MEAN = 133.477
  MINIMUM = 1
  STANDARD_DEVIATION = 62.1047
END_OBJECT = IMAGE
/* MAP OBJECT DEFINITIONS */
OBJECT = IMAGE_MAP_PROJECTION
  ^DATA_SET_MAP_PROJECTION_CATALOG= "DSMAP.CAT"
  A_AXIS_RADIUS = 3396.0
  B_AXIS_RADIUS = 3396.0
  C_AXIS_RADIUS = 3396.0
  CENTER_LATITUDE = 0.0
  CENTER_LONGITUDE = 333.0
  COORDINATE_SYSTEM_NAME = PLANETOGRAPHIC
  COORDINATE_SYSTEM_TYPE = "BODY-FIXED ROTATING"
  EASTERNMOST_LONGITUDE = 334.108
  FIRST_STANDARD_PARALLEL = "N/A"
  LINE_FIRST_PIXEL = 1
  LINE_LAST_PIXEL = 7013
  LINE_PROJECTION_OFFSET = 30170.875
  MAP_PROJECTION_ROTATION = 0.0
  MAP_PROJECTION_TYPE = SINUSOIDAL
  MAP_RESOLUTION = 592.713803866667
  MAP_SCALE = 0.1
  MAXIMUM_LATITUDE = 50.9667
  MINIMUM_LATITUDE = 39.0452
  POSITIVE_LONGITUDE_DIRECTION = EAST
  REFERENCE_LATITUDE = "N/A"
  REFERENCE_LONGITUDE = "N/A"
  SAMPLE_FIRST_PIXEL = 1
  SAMPLE_LAST_PIXEL = 1338
  SAMPLE_PROJECTION_OFFSET = 797.875
  SECOND_STANDARD_PARALLEL = "N/A"
  WESTERNMOST_LONGITUDE = 330.926
END_OBJECT = IMAGE_MAP_PROJECTION
END
