PDS_VERSION_ID = PDS3
/* FILE DATA ELEMENTS */
RECORD_TYPE = UNDEFINED
/* POINTERS TO DATA OBJECTS */
^IMAGE = ("HD869_0000_BL4.TIF")
/* IDENTIFICATION DATA ELEMENTS */
DATA_SET_ID = "MEX-M-HRSC-4-REFDR-MAPPROJECT-EXT4-V4.0"
DATA_SET_NAME = "MARS EXPRESS HRSC MAP PROJECTED REFDR EXTENSION4 V4.0"
DETECTOR_ID = MEX_HRSC_BLUE
EVENT_TYPE = "MARS-REGIONAL-MAPPING-Fl-Pf-At"
INSTRUMENT_HOST_ID = MEX
INSTRUMENT_HOST_NAME = "MARS EXPRESS"
INSTRUMENT_ID = HRSC
INSTRUMENT_NAME = "HIGH RESOLUTION STEREO CAMERA"
MISSION_NAME = "MARS EXPRESS"
MISSION_PHASE_NAME = ME_Phase_31
PROCESSING_LEVEL_ID = 4
PRODUCT_CREATION_TIME = 2023-02-01T02:09:17.000Z
PRODUCT_ID = "HD869_0000_BL4.TIF"
RELEASE_ID = 0005
REVISION_ID = 0000
/* QUALITY DATA ELEMENTS */
DATA_QUALITY_ID = 1
DATA_QUALITY_DESC = "Data calculated based on original SPICE kernels"
/* TIME DATA ELEMENTS */
SPACECRAFT_CLOCK_START_COUNT = "1/0365850137.07328"
SPACECRAFT_CLOCK_STOP_COUNT = "1/0365850454.45372"
START_TIME = 2014-12-05T09:03:14.545Z
STOP_TIME = 2014-12-05T09:06:37.775Z
/* ORBITAL DATA ELEMENTS */
ASCENDING_NODE_LONGITUDE = 313.32
MAXIMUM_RESOLUTION = 0.1556
FOOTPRINT_POINT_LATITUDE = (50.8783,50.8713,50.8626,50.8527, 50.8416,50.8293,50.8064,50.8055,50.8202 ,50.3965,49.9738,49.4371,49.0073, 48.4616,48.0248,47.803,47.5807,47.3588, 47.1372,46.9114,46.573,46.3479,46.0053, 45.7765,45.548,45.2005,44.9683,44.7366, 44.5011,44.2655,44.0302,43.7925,43.5535 ,43.3149,43.0741,42.8319,42.5901, 42.3459,42.1005,41.8555,41.6073,41.2348 ,40.8583,40.6068,40.2256,39.9711, 39.5854,39.3278,39.198,39.0674,39.0755, 39.0828,39.0933,39.097,39.098,39.098, 39.1008,39.3623,39.6209,40.0083,40.2639 ,40.6467,40.8991,41.2771,41.5264, 41.9004,42.1464,42.3927,42.6379,42.8806 ,43.1238,43.3655,43.605,43.845,44.0835, 44.3197,44.5563,44.7926,45.142,45.3752, 45.6071,45.8365,46.0662,46.4097,46.6359 ,46.9756,47.2022,47.4247,47.6475, 47.8705,48.0933,48.3123,48.5317,48.7512 ,49.0794,49.5107,50.0495,50.6863, 50.7927,50.8783)
FOOTPRINT_POINT_LONGITUDE = (333.525,333.166,332.781,332.396, 332.011,331.625,330.994,330.97,330.89, 330.924,330.957,330.996,331.026,331.062 ,331.089,331.102,331.115,331.128,331.14 ,331.152,331.169,331.18,331.197,331.207 ,331.217,331.232,331.242,331.25,331.26, 331.269,331.277,331.285,331.293,331.301 ,331.308,331.315,331.322,331.328, 331.334,331.34,331.346,331.353,331.361, 331.365,331.371,331.375,331.38,331.383, 331.384,331.385,331.779,332.203,333.073 ,333.705,334.151,334.177,334.195, 334.185,334.175,334.16,334.15,334.134, 334.124,334.108,334.097,334.081,334.07, 334.059,334.048,334.037,334.025,334.014 ,334.002,333.991,333.979,333.967, 333.955,333.943,333.925,333.912,333.899 ,333.887,333.874,333.854,333.841, 333.821,333.808,333.794,333.781,333.767 ,333.753,333.739,333.725,333.71,333.688 ,333.659,333.621,333.574,333.566, 333.525)
ORBIT_NUMBER = 13869
ORBITAL_ECCENTRICITY = 0.571
ORBITAL_INCLINATION = 86.93
ORBITAL_SEMIMAJOR_AXIS = 8766.42
PERIAPSIS_ALTITUDE = 384.89
PERIAPSIS_ARGUMENT_ANGLE = 107.58
PERIAPSIS_TIME = 2014-12-05T08:57:27.000Z
SPACECRAFT_ORIENTATION = (0.0,-1.0,0.0)
^MEX_ORIENTATION_DESC = "MEX_ORIENTATION_DESC.TXT"
SPACECRAFT_POINTING_MODE = ACROSSTRACK
^MEX_POINTING_DESC = "MEX_POINTING_DESC.TXT"
RIGHT_ASCENSION = -1e+32
DECLINATION = -1e+32
OFFSET_ANGLE = -0.269
SPACECRAFT_SOLAR_DISTANCE = 2.06679e+08
TARGET_NAME = MARS
/* CAMERA DATA ELEMENTS */
DETECTOR_TEMPERATURE = 17.9627
FOCAL_PLANE_TEMPERATURE = 8.3794
INST_CMPRS_NAME = "DISCRETE COSINE TRANSFORMATION (DCT)"
INST_CMPRS_RATIO = 20.3439
INST_CMPRS_QUALITY = 0
INST_CMPRS_QUANTZ_TBL_ID = 0
INSTRUMENT_TEMPERATURE = 11.4379
LENS_TEMPERATURE = 8.7872
MACROPIXEL_SIZE = 8
MISSING_FRAMES = 0
PIXEL_SUBSAMPLING_FLAG = N
SIGNAL_CHAIN_ID = 2
/* RADIOMETRIC DATA ELEMENTS */
BANDWIDTH = 76.0
CENTER_FILTER_WAVELENGTH = 444.0
RADIANCE_OFFSET = 0.647629
RADIANCE_SCALING_FACTOR = 0.002556
REFLECTANCE_SCALING_FACTOR = 0.000112179
MEX:REFLECTANCE_OFFSET = 0.0284235
/* IMAGE OBJECT DEFINITIONS */
OBJECT = IMAGE
  INTERCHANGE_FORMAT = BINARY
  LINES = 3507
  LINE_SAMPLES = 669
  SAMPLE_TYPE = UNSIGNED_INTEGER
  SAMPLE_BITS = 8
  BANDS = 1
  BAND_STORAGE_TYPE = BAND_SEQUENTIAL
  MAXIMUM = 255
  MEAN = 155.745
  MINIMUM = 1
  STANDARD_DEVIATION = 67.1905
END_OBJECT = IMAGE
/* MAP OBJECT DEFINITIONS */
OBJECT = IMAGE_MAP_PROJECTION
  ^DATA_SET_MAP_PROJECTION_CATALOG= "DSMAP.CAT"
  A_AXIS_RADIUS = 3396.0
  B_AXIS_RADIUS = 3396.0
  C_AXIS_RADIUS = 3396.0
  CENTER_LATITUDE = 0.0
  CENTER_LONGITUDE = 333.0
  COORDINATE_SYSTEM_NAME = PLANETOGRAPHIC
  COORDINATE_SYSTEM_TYPE = "BODY-FIXED ROTATING"
  EASTERNMOST_LONGITUDE = 334.195
  FIRST_STANDARD_PARALLEL = "N/A"
  LINE_FIRST_PIXEL = 1
  LINE_LAST_PIXEL = 3507
  LINE_PROJECTION_OFFSET = 15085.1875
  MAP_PROJECTION_ROTATION = 0.0
  MAP_PROJECTION_TYPE = SINUSOIDAL
  MAP_RESOLUTION = 296.356901933333
  MAP_SCALE = 0.2
  MAXIMUM_LATITUDE = 50.8783
  MINIMUM_LATITUDE = 39.0674
  POSITIVE_LONGITUDE_DIRECTION = EAST
  REFERENCE_LATITUDE = "N/A"
  REFERENCE_LONGITUDE = "N/A"
  SAMPLE_FIRST_PIXEL = 1
  SAMPLE_LAST_PIXEL = 669
  SAMPLE_PROJECTION_OFFSET = 398.6875
  SECOND_STANDARD_PARALLEL = "N/A"
  WESTERNMOST_LONGITUDE = 330.89
END_OBJECT = IMAGE_MAP_PROJECTION
END
