PDS_VERSION_ID = PDS3
/* FILE DATA ELEMENTS */
RECORD_TYPE = UNDEFINED
/* POINTERS TO DATA OBJECTS */
^IMAGE = ("HD856_0000_S14.TIF")
/* IDENTIFICATION DATA ELEMENTS */
DATA_SET_ID = "MEX-M-HRSC-4-REFDR-MAPPROJECT-EXT4-V4.0"
DATA_SET_NAME = "MARS EXPRESS HRSC MAP PROJECTED REFDR EXTENSION4 V4.0"
DETECTOR_ID = MEX_HRSC_S1
EVENT_TYPE = "MARS-REGIONAL-STEREO-Vo-Te"
INSTRUMENT_HOST_ID = MEX
INSTRUMENT_HOST_NAME = "MARS EXPRESS"
INSTRUMENT_ID = HRSC
INSTRUMENT_NAME = "HIGH RESOLUTION STEREO CAMERA"
MISSION_NAME = "MARS EXPRESS"
MISSION_PHASE_NAME = ME_Phase_31
PROCESSING_LEVEL_ID = 4
PRODUCT_CREATION_TIME = 2023-02-01T02:09:17.000Z
PRODUCT_ID = "HD856_0000_S14.TIF"
RELEASE_ID = 0005
REVISION_ID = 0000
/* QUALITY DATA ELEMENTS */
DATA_QUALITY_ID = 1
DATA_QUALITY_DESC = "Data calculated based on original SPICE kernels"
/* TIME DATA ELEMENTS */
SPACECRAFT_CLOCK_START_COUNT = "1/0365523009.07309"
SPACECRAFT_CLOCK_STOP_COUNT = "1/0365523326.21700"
START_TIME = 2014-12-01T14:10:15.068Z
STOP_TIME = 2014-12-01T14:13:08.345Z
/* ORBITAL DATA ELEMENTS */
ASCENDING_NODE_LONGITUDE = 313.56
MAXIMUM_RESOLUTION = 0.0207
FOOTPRINT_POINT_LATITUDE = (44.9502,44.9441,44.9382,44.9286,44.911 ,44.8967,44.8958,44.8175,44.5212, 44.0276,43.5246,43.1225,42.7139,42.4057 ,42.2003,41.9953,41.7861,41.5774, 41.3684,41.0549,40.7359,40.5229,40.3105 ,39.988,39.7719,39.5617,39.3421,39.1256 ,38.9119,38.694,38.4681,38.2472,37.9101 ,37.6853,37.4571,37.228,37.0004,36.7738 ,36.5401,36.3079,36.0769,35.8427, 35.6081,35.3746,35.1378,34.8998,34.6609 ,34.4192,34.0568,33.9367,33.9194, 33.9302,33.9358,33.9413,33.9423,33.9422 ,33.9406,33.9405,33.9407,34.1834, 34.4256,34.7882,35.0277,35.3865,35.6224 ,35.9762,36.2104,36.4428,36.6752, 36.9063,37.2483,37.5912,37.82,38.1614, 38.3849,38.7153,38.9353,39.1567,39.3741 ,39.5898,39.8034,40.0194,40.3427,40.556 ,40.7697,41.0895,41.4035,41.6129, 41.8228,42.0325,42.341,42.5468,42.7528, 42.9588,43.1619,43.5656,44.0705,44.7633 ,44.8624,44.9502)
FOOTPRINT_POINT_LONGITUDE = (223.338,222.851,222.503,222.063, 221.438,221.021,220.998,220.959,220.97, 220.987,221.004,221.016,221.027,221.036 ,221.041,221.046,221.051,221.055,221.06 ,221.066,221.072,221.076,221.08,221.085 ,221.088,221.093,221.095,221.099, 221.103,221.106,221.106,221.109,221.111 ,221.112,221.113,221.114,221.114, 221.116,221.115,221.115,221.115,221.115 ,221.115,221.115,221.114,221.114, 221.112,221.111,221.108,221.108,221.108 ,221.59,221.87,222.453,222.86,223.139, 223.648,223.673,223.686,223.681,223.677 ,223.669,223.664,223.656,223.651, 223.643,223.638,223.633,223.627,223.622 ,223.614,223.605,223.598,223.588, 223.583,223.575,223.569,223.563,223.558 ,223.552,223.547,223.542,223.532, 223.525,223.519,223.509,223.499,223.492 ,223.485,223.478,223.468,223.461, 223.453,223.446,223.439,223.424,223.404 ,223.377,223.373,223.338)
ORBIT_NUMBER = 13856
ORBITAL_ECCENTRICITY = 0.571
ORBITAL_INCLINATION = 86.93
ORBITAL_SEMIMAJOR_AXIS = 8767.71
PERIAPSIS_ALTITUDE = 383.41
PERIAPSIS_ARGUMENT_ANGLE = 109.81
PERIAPSIS_TIME = 2014-12-01T14:04:20.000Z
SPACECRAFT_ORIENTATION = (0.0,-1.0,0.0)
^MEX_ORIENTATION_DESC = "MEX_ORIENTATION_DESC.TXT"
SPACECRAFT_POINTING_MODE = NADIR
^MEX_POINTING_DESC = "MEX_POINTING_DESC.TXT"
RIGHT_ASCENSION = -1e+32
DECLINATION = -1e+32
OFFSET_ANGLE = -1e+32
SPACECRAFT_SOLAR_DISTANCE = 2.06752e+08
TARGET_NAME = MARS
/* CAMERA DATA ELEMENTS */
DETECTOR_TEMPERATURE = 17.9627
FOCAL_PLANE_TEMPERATURE = 8.7872
INST_CMPRS_NAME = "DISCRETE COSINE TRANSFORMATION (DCT)"
INST_CMPRS_RATIO = 7.96278
INST_CMPRS_QUALITY = 0
INST_CMPRS_QUANTZ_TBL_ID = 0
INSTRUMENT_TEMPERATURE = 12.0496
LENS_TEMPERATURE = 9.195
MACROPIXEL_SIZE = 1
MISSING_FRAMES = 0
PIXEL_SUBSAMPLING_FLAG = N
SIGNAL_CHAIN_ID = 2
/* RADIOMETRIC DATA ELEMENTS */
BANDWIDTH = 180.0
CENTER_FILTER_WAVELENGTH = 677.0
RADIANCE_OFFSET = 5.48409
RADIANCE_SCALING_FACTOR = 0.0163789
REFLECTANCE_SCALING_FACTOR = 0.000365282
MEX:REFLECTANCE_OFFSET = 0.122306
/* IMAGE OBJECT DEFINITIONS */
OBJECT = IMAGE
  INTERCHANGE_FORMAT = BINARY
  LINES = 25925
  LINE_SAMPLES = 5481
  SAMPLE_TYPE = UNSIGNED_INTEGER
  SAMPLE_BITS = 8
  BANDS = 1
  BAND_STORAGE_TYPE = BAND_SEQUENTIAL
  MAXIMUM = 255
  MEAN = 122.594
  MINIMUM = 1
  STANDARD_DEVIATION = 57.3036
END_OBJECT = IMAGE
/* MAP OBJECT DEFINITIONS */
OBJECT = IMAGE_MAP_PROJECTION
  ^DATA_SET_MAP_PROJECTION_CATALOG= "DSMAP.CAT"
  A_AXIS_RADIUS = 3396.0
  B_AXIS_RADIUS = 3396.0
  C_AXIS_RADIUS = 3396.0
  CENTER_LATITUDE = 0.0
  CENTER_LONGITUDE = 222.0
  COORDINATE_SYSTEM_NAME = PLANETOGRAPHIC
  COORDINATE_SYSTEM_TYPE = "BODY-FIXED ROTATING"
  EASTERNMOST_LONGITUDE = 223.686
  FIRST_STANDARD_PARALLEL = "N/A"
  LINE_FIRST_PIXEL = 1
  LINE_LAST_PIXEL = 25925
  LINE_PROJECTION_OFFSET = 106411.0
  MAP_PROJECTION_ROTATION = 0.0
  MAP_PROJECTION_TYPE = SINUSOIDAL
  MAP_RESOLUTION = 2370.85521546667
  MAP_SCALE = 0.025
  MAXIMUM_LATITUDE = 44.9502
  MINIMUM_LATITUDE = 33.9194
  POSITIVE_LONGITUDE_DIRECTION = EAST
  REFERENCE_LATITUDE = "N/A"
  REFERENCE_LONGITUDE = "N/A"
  SAMPLE_FIRST_PIXEL = 1
  SAMPLE_LAST_PIXEL = 5481
  SAMPLE_PROJECTION_OFFSET = 1986.0
  SECOND_STANDARD_PARALLEL = "N/A"
  WESTERNMOST_LONGITUDE = 220.959
END_OBJECT = IMAGE_MAP_PROJECTION
END
