PDS_VERSION_ID = PDS3
/* FILE DATA ELEMENTS */
RECORD_TYPE = UNDEFINED
/* POINTERS TO DATA OBJECTS */
^IMAGE = ("HD852_0000_P24.TIF")
/* IDENTIFICATION DATA ELEMENTS */
DATA_SET_ID = "MEX-M-HRSC-4-REFDR-MAPPROJECT-EXT4-V4.0"
DATA_SET_NAME = "MARS EXPRESS HRSC MAP PROJECTED REFDR EXTENSION4 V4.0"
DETECTOR_ID = MEX_HRSC_P2
EVENT_TYPE = "MARS-REGIONAL-STEREO-Vo-Te-Gl"
INSTRUMENT_HOST_ID = MEX
INSTRUMENT_HOST_NAME = "MARS EXPRESS"
INSTRUMENT_ID = HRSC
INSTRUMENT_NAME = "HIGH RESOLUTION STEREO CAMERA"
MISSION_NAME = "MARS EXPRESS"
MISSION_PHASE_NAME = ME_Phase_31
PROCESSING_LEVEL_ID = 4
PRODUCT_CREATION_TIME = 2023-02-01T02:09:17.000Z
PRODUCT_ID = "HD852_0000_P24.TIF"
RELEASE_ID = 0005
REVISION_ID = 0000
/* QUALITY DATA ELEMENTS */
DATA_QUALITY_ID = 1
DATA_QUALITY_DESC = "Data calculated based on original SPICE kernels"
/* TIME DATA ELEMENTS */
SPACECRAFT_CLOCK_START_COUNT = "1/0365422394.09050"
SPACECRAFT_CLOCK_STOP_COUNT = "1/0365422795.05481"
START_TIME = 2014-11-30T10:14:49.284Z
STOP_TIME = 2014-11-30T10:19:20.078Z
/* ORBITAL DATA ELEMENTS */
ASCENDING_NODE_LONGITUDE = 313.64
MAXIMUM_RESOLUTION = 0.0476
FOOTPRINT_POINT_LATITUDE = (40.9873,40.9799,40.9733,40.9658, 40.9574,40.948,40.9376,40.937,40.9664, 40.6025,39.9892,39.3688,38.741,38.3607, 37.8491,37.5922,37.2033,36.8124,36.5506 ,36.1544,35.8891,35.6198,35.216,34.9471 ,34.6744,34.4021,34.1268,33.8525, 33.5756,33.2971,33.0172,32.7349,32.3093 ,31.8799,31.5929,31.302,31.0107,30.5704 ,30.2755,29.9781,29.6787,29.3781,29.076 ,28.6183,28.3121,28.0034,27.6926, 27.3806,27.2241,27.2158,27.2168,27.2169 ,27.2156,27.2134,27.2101,27.206,27.2057 ,27.2065,27.6782,27.9906,28.3011, 28.6092,29.0691,29.373,29.6754,29.9764, 30.275,30.7205,31.0172,31.3056,31.5983, 31.8866,32.3172,32.7458,33.1706,33.4529 ,33.7324,34.1485,34.4248,34.6981, 34.9736,35.2444,35.6481,35.9168,36.1818 ,36.4481,36.7103,36.9731,37.3668, 37.6227,37.8819,38.1399,38.5215,38.7765 ,39.4067,39.9039,40.4,40.8899,41.0117, 40.9873)
FOOTPRINT_POINT_LONGITUDE = (273.502,272.923,272.507,272.092, 271.681,271.271,270.864,270.838,270.824 ,270.823,270.821,270.817,270.812, 270.807,270.801,270.798,270.792,270.786 ,270.782,270.774,270.769,270.764, 270.756,270.75,270.743,270.737,270.73, 270.722,270.715,270.707,270.698,270.69, 270.677,270.663,270.653,270.644,270.633 ,270.617,270.606,270.595,270.583, 270.571,270.559,270.54,270.527,270.513, 270.499,270.484,270.477,270.477,270.887 ,271.394,271.904,272.576,273.188,273.74 ,273.773,273.785,273.777,273.772, 273.767,273.763,273.755,273.75,273.746, 273.741,273.736,273.729,273.727,273.718 ,273.714,273.708,273.7,273.694,273.687, 273.683,273.678,273.671,273.665,273.66, 273.657,273.652,273.644,273.639,273.633 ,273.628,273.622,273.616,273.611, 273.602,273.599,273.593,273.585,273.58, 273.567,273.555,273.547,273.536,273.534 ,273.502)
ORBIT_NUMBER = 13852
ORBITAL_ECCENTRICITY = 0.571
ORBITAL_INCLINATION = 86.91
ORBITAL_SEMIMAJOR_AXIS = 8770.64
PERIAPSIS_ALTITUDE = 383.87
PERIAPSIS_ARGUMENT_ANGLE = 110.51
PERIAPSIS_TIME = 2014-11-30T10:06:35.000Z
SPACECRAFT_ORIENTATION = (0.0,-1.0,0.0)
^MEX_ORIENTATION_DESC = "MEX_ORIENTATION_DESC.TXT"
SPACECRAFT_POINTING_MODE = ACROSSTRACK
^MEX_POINTING_DESC = "MEX_POINTING_DESC.TXT"
RIGHT_ASCENSION = -1e+32
DECLINATION = -1e+32
OFFSET_ANGLE = 0.7
SPACECRAFT_SOLAR_DISTANCE = 2.06781e+08
TARGET_NAME = MARS
/* CAMERA DATA ELEMENTS */
DETECTOR_TEMPERATURE = 18.9822
FOCAL_PLANE_TEMPERATURE = 8.9911
INST_CMPRS_NAME = "DISCRETE COSINE TRANSFORMATION (DCT)"
INST_CMPRS_RATIO = 6.95131
INST_CMPRS_QUALITY = 0
INST_CMPRS_QUANTZ_TBL_ID = 0
INSTRUMENT_TEMPERATURE = 12.0496
LENS_TEMPERATURE = 9.6028
MACROPIXEL_SIZE = 2
MISSING_FRAMES = 0
PIXEL_SUBSAMPLING_FLAG = N
SIGNAL_CHAIN_ID = 3
/* RADIOMETRIC DATA ELEMENTS */
BANDWIDTH = 177.0
CENTER_FILTER_WAVELENGTH = 676.5
RADIANCE_OFFSET = 4.57142
RADIANCE_SCALING_FACTOR = 0.0226512
REFLECTANCE_SCALING_FACTOR = 0.000513533
MEX:REFLECTANCE_OFFSET = 0.10364
/* IMAGE OBJECT DEFINITIONS */
OBJECT = IMAGE
  INTERCHANGE_FORMAT = BINARY
  LINES = 16365
  LINE_SAMPLES = 3184
  SAMPLE_TYPE = UNSIGNED_INTEGER
  SAMPLE_BITS = 8
  BANDS = 1
  BAND_STORAGE_TYPE = BAND_SEQUENTIAL
  MAXIMUM = 255
  MEAN = 123.331
  MINIMUM = 1
  STANDARD_DEVIATION = 37.8162
END_OBJECT = IMAGE
/* MAP OBJECT DEFINITIONS */
OBJECT = IMAGE_MAP_PROJECTION
  ^DATA_SET_MAP_PROJECTION_CATALOG= "DSMAP.CAT"
  A_AXIS_RADIUS = 3396.0
  B_AXIS_RADIUS = 3396.0
  C_AXIS_RADIUS = 3396.0
  CENTER_LATITUDE = 0.0
  CENTER_LONGITUDE = 272.0
  COORDINATE_SYSTEM_NAME = PLANETOGRAPHIC
  COORDINATE_SYSTEM_TYPE = "BODY-FIXED ROTATING"
  EASTERNMOST_LONGITUDE = 273.785
  FIRST_STANDARD_PARALLEL = "N/A"
  LINE_FIRST_PIXEL = 1
  LINE_LAST_PIXEL = 16365
  LINE_PROJECTION_OFFSET = 48609.25
  MAP_PROJECTION_ROTATION = 0.0
  MAP_PROJECTION_TYPE = SINUSOIDAL
  MAP_RESOLUTION = 1185.42760773333
  MAP_SCALE = 0.05
  MAXIMUM_LATITUDE = 41.0117
  MINIMUM_LATITUDE = 27.2057
  POSITIVE_LONGITUDE_DIRECTION = EAST
  REFERENCE_LATITUDE = "N/A"
  REFERENCE_LONGITUDE = "N/A"
  SAMPLE_FIRST_PIXEL = 1
  SAMPLE_LAST_PIXEL = 3184
  SAMPLE_PROJECTION_OFFSET = 1469.25
  SECOND_STANDARD_PARALLEL = "N/A"
  WESTERNMOST_LONGITUDE = 270.477
END_OBJECT = IMAGE_MAP_PROJECTION
END
