PDS_VERSION_ID = PDS3
/* FILE DATA ELEMENTS */
RECORD_TYPE = UNDEFINED
/* POINTERS TO DATA OBJECTS */
^IMAGE = ("HD848_0000_RE4.TIF")
/* IDENTIFICATION DATA ELEMENTS */
DATA_SET_ID = "MEX-M-HRSC-4-REFDR-MAPPROJECT-EXT4-V4.0"
DATA_SET_NAME = "MARS EXPRESS HRSC MAP PROJECTED REFDR EXTENSION4 V4.0"
DETECTOR_ID = MEX_HRSC_RED
EVENT_TYPE = "MARS-CLOUD-VARIABLE-At"
INSTRUMENT_HOST_ID = MEX
INSTRUMENT_HOST_NAME = "MARS EXPRESS"
INSTRUMENT_ID = HRSC
INSTRUMENT_NAME = "HIGH RESOLUTION STEREO CAMERA"
MISSION_NAME = "MARS EXPRESS"
MISSION_PHASE_NAME = ME_Phase_31
PROCESSING_LEVEL_ID = 4
PRODUCT_CREATION_TIME = 2023-02-01T02:09:17.000Z
PRODUCT_ID = "HD848_0000_RE4.TIF"
RELEASE_ID = 0005
REVISION_ID = 0000
/* QUALITY DATA ELEMENTS */
DATA_QUALITY_ID = 1
DATA_QUALITY_DESC = "Data calculated based on original SPICE kernels"
/* TIME DATA ELEMENTS */
SPACECRAFT_CLOCK_START_COUNT = "1/0365321547.08434"
SPACECRAFT_CLOCK_STOP_COUNT = "1/0365321982.57716"
START_TIME = 2014-11-29T06:13:14.235Z
STOP_TIME = 2014-11-29T06:19:46.775Z
/* ORBITAL DATA ELEMENTS */
ASCENDING_NODE_LONGITUDE = 313.72
MAXIMUM_RESOLUTION = 0.075
FOOTPRINT_POINT_LATITUDE = (53.4583,53.444,53.4203,53.3876,53.3867 ,53.476,52.9256,51.8209,51.0774,50.6999 ,49.9448,49.5605,48.9852,48.4019, 48.0126,47.4204,47.0258,46.625,46.2244, 45.8188,45.4124,45.0022,44.5906,44.1744 ,43.5459,43.1232,42.6968,42.052,41.6187 ,41.1806,40.7401,40.0719,39.6239, 39.1696,38.7121,38.2515,37.7869,37.3186 ,36.8455,36.3676,35.8849,35.3997,34.91, 34.4149,33.9154,33.4112,32.9022,32.3878 ,32.1283,32.096,32.0962,32.0938,32.0878 ,32.0836,32.0834,32.0847,32.863,33.3742 ,33.8816,34.3845,34.8822,35.3751, 35.8634,36.3479,36.828,37.3038,37.7745, 38.2413,38.7045,39.1639,39.62,40.0704, 40.7413,41.4044,42.0595,42.7072,43.1358 ,43.5602,44.1909,44.6088,45.022,45.4348 ,45.8424,46.2498,46.6517,47.0547, 47.6487,48.0447,48.4353,49.0211,49.4058 ,49.7914,50.3629,50.7424,51.1222, 51.8683,52.4264,53.3455,53.5299, 53.4583)
FOOTPRINT_POINT_LONGITUDE = (320.835,320.197,319.324,318.334,318.31 ,318.239,318.291,318.387,318.446, 318.473,318.526,318.551,318.587,318.62, 318.641,318.672,318.69,318.708,318.726, 318.742,318.757,318.772,318.785,318.798 ,318.816,318.826,318.836,318.849, 318.857,318.863,318.869,318.876,318.88, 318.882,318.884,318.885,318.885,318.884 ,318.882,318.879,318.876,318.871, 318.865,318.858,318.85,318.841,318.831, 318.82,318.814,318.814,319.696,320.35, 321.261,321.832,321.861,321.87,321.848, 321.833,321.818,321.804,321.789,321.773 ,321.758,321.743,321.727,321.712, 321.696,321.68,321.664,321.648,321.631, 321.615,321.589,321.564,321.537,321.511 ,321.492,321.474,321.446,321.427, 321.407,321.388,321.367,321.347,321.327 ,321.305,321.273,321.251,321.229, 321.195,321.172,321.148,321.112,321.088 ,321.063,321.011,320.971,320.902, 320.888,320.835)
ORBIT_NUMBER = 13848
ORBITAL_ECCENTRICITY = 0.571
ORBITAL_INCLINATION = 86.93
ORBITAL_SEMIMAJOR_AXIS = 8769.93
PERIAPSIS_ALTITUDE = 383.84
PERIAPSIS_ARGUMENT_ANGLE = 111.21
PERIAPSIS_TIME = 2014-11-29T06:08:41.000Z
SPACECRAFT_ORIENTATION = (0.0,-1.0,0.0)
^MEX_ORIENTATION_DESC = "MEX_ORIENTATION_DESC.TXT"
SPACECRAFT_POINTING_MODE = NADIR
^MEX_POINTING_DESC = "MEX_POINTING_DESC.TXT"
RIGHT_ASCENSION = -1e+32
DECLINATION = -1e+32
OFFSET_ANGLE = -1e+32
SPACECRAFT_SOLAR_DISTANCE = 2.06812e+08
TARGET_NAME = MARS
/* CAMERA DATA ELEMENTS */
DETECTOR_TEMPERATURE = 19.5939
FOCAL_PLANE_TEMPERATURE = 10.6223
INST_CMPRS_NAME = "DISCRETE COSINE TRANSFORMATION (DCT)"
INST_CMPRS_RATIO = 32.8173
INST_CMPRS_QUALITY = 0
INST_CMPRS_QUANTZ_TBL_ID = 0
INSTRUMENT_TEMPERATURE = 12.4574
LENS_TEMPERATURE = 11.0301
MACROPIXEL_SIZE = 4
MISSING_FRAMES = 0
PIXEL_SUBSAMPLING_FLAG = N
SIGNAL_CHAIN_ID = 2
/* RADIOMETRIC DATA ELEMENTS */
BANDWIDTH = 48.0
CENTER_FILTER_WAVELENGTH = 748.0
RADIANCE_OFFSET = 0.447629
RADIANCE_SCALING_FACTOR = 0.00512579
REFLECTANCE_SCALING_FACTOR = 0.000500311
MEX:REFLECTANCE_OFFSET = 0.0436915
/* IMAGE OBJECT DEFINITIONS */
OBJECT = IMAGE
  INTERCHANGE_FORMAT = BINARY
  LINES = 25453
  LINE_SAMPLES = 2955
  SAMPLE_TYPE = UNSIGNED_INTEGER
  SAMPLE_BITS = 8
  BANDS = 1
  BAND_STORAGE_TYPE = BAND_SEQUENTIAL
  MAXIMUM = 255
  MEAN = 115.456
  MINIMUM = 2
  STANDARD_DEVIATION = 52.7279
END_OBJECT = IMAGE
/* MAP OBJECT DEFINITIONS */
OBJECT = IMAGE_MAP_PROJECTION
  ^DATA_SET_MAP_PROJECTION_CATALOG= "DSMAP.CAT"
  A_AXIS_RADIUS = 3396.0
  B_AXIS_RADIUS = 3396.0
  C_AXIS_RADIUS = 3396.0
  CENTER_LATITUDE = 0.0
  CENTER_LONGITUDE = 320.0
  COORDINATE_SYSTEM_NAME = PLANETOGRAPHIC
  COORDINATE_SYSTEM_TYPE = "BODY-FIXED ROTATING"
  EASTERNMOST_LONGITUDE = 321.87
  FIRST_STANDARD_PARALLEL = "N/A"
  LINE_FIRST_PIXEL = 1
  LINE_LAST_PIXEL = 25453
  LINE_PROJECTION_OFFSET = 63454.0
  MAP_PROJECTION_ROTATION = 0.0
  MAP_PROJECTION_TYPE = SINUSOIDAL
  MAP_RESOLUTION = 1185.42760773333
  MAP_SCALE = 0.05
  MAXIMUM_LATITUDE = 53.5299
  MINIMUM_LATITUDE = 32.0834
  POSITIVE_LONGITUDE_DIRECTION = EAST
  REFERENCE_LATITUDE = "N/A"
  REFERENCE_LONGITUDE = "N/A"
  SAMPLE_FIRST_PIXEL = 1
  SAMPLE_LAST_PIXEL = 2955
  SAMPLE_PROJECTION_OFFSET = 1206.0
  SECOND_STANDARD_PARALLEL = "N/A"
  WESTERNMOST_LONGITUDE = 318.239
END_OBJECT = IMAGE_MAP_PROJECTION
END
