PDS_VERSION_ID = PDS3
/* FILE DATA ELEMENTS */
RECORD_TYPE = UNDEFINED
/* POINTERS TO DATA OBJECTS */
^IMAGE = ("HD845_0000_ND4.TIF")
/* IDENTIFICATION DATA ELEMENTS */
DATA_SET_ID = "MEX-M-HRSC-4-REFDR-MAPPROJECT-EXT4-V4.0"
DATA_SET_NAME = "MARS EXPRESS HRSC MAP PROJECTED REFDR EXTENSION4 V4.0"
DETECTOR_ID = MEX_HRSC_NADIR
EVENT_TYPE = "MARS-REGIONAL-MAPPING-Vo-Te"
INSTRUMENT_HOST_ID = MEX
INSTRUMENT_HOST_NAME = "MARS EXPRESS"
INSTRUMENT_ID = HRSC
INSTRUMENT_NAME = "HIGH RESOLUTION STEREO CAMERA"
MISSION_NAME = "MARS EXPRESS"
MISSION_PHASE_NAME = ME_Phase_31
PROCESSING_LEVEL_ID = 4
PRODUCT_CREATION_TIME = 2023-02-01T02:09:17.000Z
PRODUCT_ID = "HD845_0000_ND4.TIF"
RELEASE_ID = 0005
REVISION_ID = 0000
/* QUALITY DATA ELEMENTS */
DATA_QUALITY_ID = 1
DATA_QUALITY_DESC = "Data calculated based on original SPICE kernels"
/* TIME DATA ELEMENTS */
SPACECRAFT_CLOCK_START_COUNT = "1/0365246064.08266"
SPACECRAFT_CLOCK_STOP_COUNT = "1/0365246281.00480"
START_TIME = 2014-11-28T09:15:11.220Z
STOP_TIME = 2014-11-28T09:17:09.189Z
/* ORBITAL DATA ELEMENTS */
ASCENDING_NODE_LONGITUDE = 313.78
MAXIMUM_RESOLUTION = 0.018
FOOTPRINT_POINT_LATITUDE = (49.6828,49.6721,49.6601,49.6468, 49.6321,49.6161,49.594,49.5928,49.5899, 49.318,49.0465,48.7752,48.5043,48.1591, 47.8824,47.606,47.33,47.0492,46.9083, 46.7675,46.4861,46.2051,46.0621,45.9186 ,45.7753,45.632,45.4888,45.3458,45.2028 ,45.0582,44.9123,44.7664,44.6207, 44.4752,44.3297,44.1843,44.036,43.8136, 43.6655,43.5175,43.3696,43.1464,42.9957 ,42.8451,42.6946,42.5443,42.4691, 42.4564,42.4681,42.4749,42.4866,42.497, 42.5026,42.5073,42.5116,42.5156,42.5226 ,42.523,42.5235,42.6743,42.8253,42.9764 ,43.1276,43.3533,43.5017,43.6501, 43.7988,43.9475,44.0963,44.3184,44.4643 ,44.6104,44.7566,44.9029,45.0493,45.268 ,45.4114,45.555,45.6987,45.8425,45.9864 ,46.1303,46.2741,46.4151,46.5561, 46.6973,46.8386,46.9799,47.1213,47.4035 ,47.6805,47.9579,48.2357,48.5824, 48.8544,49.1267,49.3994,49.604,49.6723, 49.6828)
FOOTPRINT_POINT_LONGITUDE = (266.428,266.057,265.683,265.306, 264.927,264.544,264.06,264.035,263.954, 263.981,264.007,264.032,264.057,264.088 ,264.112,264.135,264.157,264.179,264.19 ,264.201,264.221,264.241,264.251, 264.261,264.271,264.281,264.29,264.3, 264.309,264.318,264.327,264.336,264.345 ,264.354,264.362,264.371,264.379, 264.392,264.4,264.408,264.416,264.427, 264.435,264.443,264.45,264.458,264.461, 264.462,264.786,264.985,265.354,265.721 ,265.94,266.134,266.327,266.52,266.903, 266.927,266.938,266.93,266.921,266.912, 266.903,266.889,266.88,266.871,266.862, 266.853,266.843,266.829,266.82,266.81, 266.801,266.791,266.781,266.767,266.757 ,266.747,266.737,266.727,266.717, 266.707,266.696,266.686,266.676,266.666 ,266.655,266.645,266.634,266.613, 266.591,266.569,266.547,266.519,266.496 ,266.473,266.449,266.431,266.425, 266.428)
ORBIT_NUMBER = 13845
ORBITAL_ECCENTRICITY = 0.571
ORBITAL_INCLINATION = 86.91
ORBITAL_SEMIMAJOR_AXIS = 8772.03
PERIAPSIS_ALTITUDE = 383.4
PERIAPSIS_ARGUMENT_ANGLE = 111.71
PERIAPSIS_TIME = 2014-11-28T09:10:20.000Z
SPACECRAFT_ORIENTATION = (0.0,-1.0,0.0)
^MEX_ORIENTATION_DESC = "MEX_ORIENTATION_DESC.TXT"
SPACECRAFT_POINTING_MODE = ACROSSTRACK
^MEX_POINTING_DESC = "MEX_POINTING_DESC.TXT"
RIGHT_ASCENSION = -1e+32
DECLINATION = -1e+32
OFFSET_ANGLE = -0.84
SPACECRAFT_SOLAR_DISTANCE = 2.06838e+08
TARGET_NAME = MARS
/* CAMERA DATA ELEMENTS */
DETECTOR_TEMPERATURE = 18.5744
FOCAL_PLANE_TEMPERATURE = 8.7872
INST_CMPRS_NAME = "DISCRETE COSINE TRANSFORMATION (DCT)"
INST_CMPRS_RATIO = 5.70896
INST_CMPRS_QUALITY = 0
INST_CMPRS_QUANTZ_TBL_ID = 0
INSTRUMENT_TEMPERATURE = 11.6418
LENS_TEMPERATURE = 9.195
MACROPIXEL_SIZE = 1
MISSING_FRAMES = 0
PIXEL_SUBSAMPLING_FLAG = N
SIGNAL_CHAIN_ID = 0
/* RADIOMETRIC DATA ELEMENTS */
BANDWIDTH = 177.0
CENTER_FILTER_WAVELENGTH = 677.5
RADIANCE_OFFSET = 2.52949
RADIANCE_SCALING_FACTOR = 0.0217986
REFLECTANCE_SCALING_FACTOR = 0.000495418
MEX:REFLECTANCE_OFFSET = 0.057488
/* IMAGE OBJECT DEFINITIONS */
OBJECT = IMAGE
  INTERCHANGE_FORMAT = BINARY
  LINES = 34270
  LINE_SAMPLES = 9988
  SAMPLE_TYPE = UNSIGNED_INTEGER
  SAMPLE_BITS = 8
  BANDS = 1
  BAND_STORAGE_TYPE = BAND_SEQUENTIAL
  MAXIMUM = 255
  MEAN = 88.111
  MINIMUM = 1
  STANDARD_DEVIATION = 33.1978
END_OBJECT = IMAGE
/* MAP OBJECT DEFINITIONS */
OBJECT = IMAGE_MAP_PROJECTION
  ^DATA_SET_MAP_PROJECTION_CATALOG= "DSMAP.CAT"
  A_AXIS_RADIUS = 3396.0
  B_AXIS_RADIUS = 3396.0
  C_AXIS_RADIUS = 3396.0
  CENTER_LATITUDE = 0.0
  CENTER_LONGITUDE = 265.0
  COORDINATE_SYSTEM_NAME = PLANETOGRAPHIC
  COORDINATE_SYSTEM_TYPE = "BODY-FIXED ROTATING"
  EASTERNMOST_LONGITUDE = 266.938
  FIRST_STANDARD_PARALLEL = "N/A"
  LINE_FIRST_PIXEL = 1
  LINE_LAST_PIXEL = 34270
  LINE_PROJECTION_OFFSET = 235586.0
  MAP_PROJECTION_ROTATION = 0.0
  MAP_PROJECTION_TYPE = SINUSOIDAL
  MAP_RESOLUTION = 4741.71043093333
  MAP_SCALE = 0.0125
  MAXIMUM_LATITUDE = 49.6828
  MINIMUM_LATITUDE = 42.4564
  POSITIVE_LONGITUDE_DIRECTION = EAST
  REFERENCE_LATITUDE = "N/A"
  REFERENCE_LONGITUDE = "N/A"
  SAMPLE_FIRST_PIXEL = 1
  SAMPLE_LAST_PIXEL = 9988
  SAMPLE_PROJECTION_OFFSET = 3213.0
  SECOND_STANDARD_PARALLEL = "N/A"
  WESTERNMOST_LONGITUDE = 263.954
END_OBJECT = IMAGE_MAP_PROJECTION
END
