PDS_VERSION_ID = PDS3
/* FILE DATA ELEMENTS */
RECORD_TYPE = UNDEFINED
/* POINTERS TO DATA OBJECTS */
^IMAGE = ("HD845_0000_IR4.TIF")
/* IDENTIFICATION DATA ELEMENTS */
DATA_SET_ID = "MEX-M-HRSC-4-REFDR-MAPPROJECT-EXT4-V4.0"
DATA_SET_NAME = "MARS EXPRESS HRSC MAP PROJECTED REFDR EXTENSION4 V4.0"
DETECTOR_ID = MEX_HRSC_IR
EVENT_TYPE = "MARS-REGIONAL-MAPPING-Vo-Te"
INSTRUMENT_HOST_ID = MEX
INSTRUMENT_HOST_NAME = "MARS EXPRESS"
INSTRUMENT_ID = HRSC
INSTRUMENT_NAME = "HIGH RESOLUTION STEREO CAMERA"
MISSION_NAME = "MARS EXPRESS"
MISSION_PHASE_NAME = ME_Phase_31
PROCESSING_LEVEL_ID = 4
PRODUCT_CREATION_TIME = 2023-02-01T02:09:17.000Z
PRODUCT_ID = "HD845_0000_IR4.TIF"
RELEASE_ID = 0005
REVISION_ID = 0000
/* QUALITY DATA ELEMENTS */
DATA_QUALITY_ID = 1
DATA_QUALITY_DESC = "Data calculated based on original SPICE kernels"
/* TIME DATA ELEMENTS */
SPACECRAFT_CLOCK_START_COUNT = "1/0365246064.08266"
SPACECRAFT_CLOCK_STOP_COUNT = "1/0365246281.00480"
START_TIME = 2014-11-28T09:14:36.839Z
STOP_TIME = 2014-11-28T09:16:29.283Z
/* ORBITAL DATA ELEMENTS */
ASCENDING_NODE_LONGITUDE = 313.78
MAXIMUM_RESOLUTION = 0.1452
FOOTPRINT_POINT_LATITUDE = (49.7817,49.7633,49.7435,49.7224, 49.6998,49.6756,49.6348,49.633,49.5679, 49.2408,48.9792,48.7127,48.5118,48.3109 ,48.043,47.7755,47.5076,47.3705,47.1648 ,47.028,46.8228,46.6857,46.4802,46.3427 ,46.2064,45.9966,45.8567,45.7168, 45.5768,45.4371,45.2975,45.1577,45.018, 44.8048,44.6621,44.4482,44.3056,44.092, 43.9495,43.7334,43.5881,43.4428,43.2246 ,43.0792,42.9343,42.7889,42.5674, 42.4933,42.429,42.4618,42.4836,42.5008, 42.5131,42.5257,42.5425,42.5575,42.5585 ,42.5615,42.7847,43.0053,43.151,43.2961 ,43.4419,43.5883,43.734,43.8797,44.0244 ,44.2387,44.3816,44.596,44.7389,44.8819 ,45.0254,45.1672,45.3775,45.5176, 45.6578,45.7983,45.9388,46.079,46.2196, 46.3596,46.4969,46.6344,46.7717,46.9091 ,47.0466,47.2529,47.3906,47.528,47.6649 ,47.9342,48.2029,48.4722,48.8084, 49.0105,49.3404,49.6025,49.6683, 49.7817)
FOOTPRINT_POINT_LONGITUDE = (266.381,266.043,265.703,265.36,265.014 ,264.665,264.115,264.093,264.018, 264.051,264.077,264.102,264.121,264.139 ,264.163,264.186,264.209,264.22,264.237 ,264.248,264.264,264.275,264.29,264.3, 264.311,264.326,264.336,264.346,264.355 ,264.365,264.375,264.384,264.393, 264.407,264.416,264.429,264.438,264.451 ,264.46,264.472,264.481,264.489,264.501 ,264.509,264.517,264.524,264.536, 264.539,264.543,265.032,265.387,265.695 ,265.914,266.154,266.501,266.845, 266.867,266.881,266.868,266.856,266.847 ,266.839,266.831,266.822,266.813, 266.805,266.796,266.783,266.774,266.761 ,266.752,266.742,266.733,266.724,266.71 ,266.701,266.692,266.682,266.673, 266.663,266.653,266.644,266.634,266.624 ,266.614,266.604,266.594,266.579, 266.569,266.559,266.548,266.528,266.507 ,266.485,266.458,266.442,266.414, 266.392,266.386,266.381)
ORBIT_NUMBER = 13845
ORBITAL_ECCENTRICITY = 0.571
ORBITAL_INCLINATION = 86.91
ORBITAL_SEMIMAJOR_AXIS = 8772.03
PERIAPSIS_ALTITUDE = 383.4
PERIAPSIS_ARGUMENT_ANGLE = 111.71
PERIAPSIS_TIME = 2014-11-28T09:10:20.000Z
SPACECRAFT_ORIENTATION = (0.0,-1.0,0.0)
^MEX_ORIENTATION_DESC = "MEX_ORIENTATION_DESC.TXT"
SPACECRAFT_POINTING_MODE = ACROSSTRACK
^MEX_POINTING_DESC = "MEX_POINTING_DESC.TXT"
RIGHT_ASCENSION = -1e+32
DECLINATION = -1e+32
OFFSET_ANGLE = -0.84
SPACECRAFT_SOLAR_DISTANCE = 2.06838e+08
TARGET_NAME = MARS
/* CAMERA DATA ELEMENTS */
DETECTOR_TEMPERATURE = 17.9627
FOCAL_PLANE_TEMPERATURE = 8.7872
INST_CMPRS_NAME = "DISCRETE COSINE TRANSFORMATION (DCT)"
INST_CMPRS_RATIO = 8.00379
INST_CMPRS_QUALITY = 0
INST_CMPRS_QUANTZ_TBL_ID = 0
INSTRUMENT_TEMPERATURE = 11.6418
LENS_TEMPERATURE = 9.195
MACROPIXEL_SIZE = 8
MISSING_FRAMES = 0
PIXEL_SUBSAMPLING_FLAG = N
SIGNAL_CHAIN_ID = 2
/* RADIOMETRIC DATA ELEMENTS */
BANDWIDTH = 81.0
CENTER_FILTER_WAVELENGTH = 955.5
RADIANCE_OFFSET = 0.689211
RADIANCE_SCALING_FACTOR = 0.00523874
REFLECTANCE_SCALING_FACTOR = 0.00048352
MEX:REFLECTANCE_OFFSET = 0.0636121
/* IMAGE OBJECT DEFINITIONS */
OBJECT = IMAGE
  INTERCHANGE_FORMAT = BINARY
  LINES = 4284
  LINE_SAMPLES = 1249
  SAMPLE_TYPE = UNSIGNED_INTEGER
  SAMPLE_BITS = 8
  BANDS = 1
  BAND_STORAGE_TYPE = BAND_SEQUENTIAL
  MAXIMUM = 255
  MEAN = 110.093
  MINIMUM = 1
  STANDARD_DEVIATION = 41.9702
END_OBJECT = IMAGE
/* MAP OBJECT DEFINITIONS */
OBJECT = IMAGE_MAP_PROJECTION
  ^DATA_SET_MAP_PROJECTION_CATALOG= "DSMAP.CAT"
  A_AXIS_RADIUS = 3396.0
  B_AXIS_RADIUS = 3396.0
  C_AXIS_RADIUS = 3396.0
  CENTER_LATITUDE = 0.0
  CENTER_LONGITUDE = 265.0
  COORDINATE_SYSTEM_NAME = PLANETOGRAPHIC
  COORDINATE_SYSTEM_TYPE = "BODY-FIXED ROTATING"
  EASTERNMOST_LONGITUDE = 266.881
  FIRST_STANDARD_PARALLEL = "N/A"
  LINE_FIRST_PIXEL = 1
  LINE_LAST_PIXEL = 4284
  LINE_PROJECTION_OFFSET = 29447.8125
  MAP_PROJECTION_ROTATION = 0.0
  MAP_PROJECTION_TYPE = SINUSOIDAL
  MAP_RESOLUTION = 592.713803866667
  MAP_SCALE = 0.1
  MAXIMUM_LATITUDE = 49.7817
  MINIMUM_LATITUDE = 42.429
  POSITIVE_LONGITUDE_DIRECTION = EAST
  REFERENCE_LATITUDE = "N/A"
  REFERENCE_LONGITUDE = "N/A"
  SAMPLE_FIRST_PIXEL = 1
  SAMPLE_LAST_PIXEL = 1249
  SAMPLE_PROJECTION_OFFSET = 401.1875
  SECOND_STANDARD_PARALLEL = "N/A"
  WESTERNMOST_LONGITUDE = 264.018
END_OBJECT = IMAGE_MAP_PROJECTION
END
