PDS_VERSION_ID = PDS3
/* FILE DATA ELEMENTS */
RECORD_TYPE = UNDEFINED
/* POINTERS TO DATA OBJECTS */
^IMAGE = ("HD844_0000_S24.TIF")
/* IDENTIFICATION DATA ELEMENTS */
DATA_SET_ID = "MEX-M-HRSC-4-REFDR-MAPPROJECT-EXT4-V4.0"
DATA_SET_NAME = "MARS EXPRESS HRSC MAP PROJECTED REFDR EXTENSION4 V4.0"
DETECTOR_ID = MEX_HRSC_S2
EVENT_TYPE = "MARS-REGIONAL-MAPPING-Te-Im-Pf"
INSTRUMENT_HOST_ID = MEX
INSTRUMENT_HOST_NAME = "MARS EXPRESS"
INSTRUMENT_ID = HRSC
INSTRUMENT_NAME = "HIGH RESOLUTION STEREO CAMERA"
MISSION_NAME = "MARS EXPRESS"
MISSION_PHASE_NAME = ME_Phase_31
PROCESSING_LEVEL_ID = 4
PRODUCT_CREATION_TIME = 2023-02-01T02:09:17.000Z
PRODUCT_ID = "HD844_0000_S24.TIF"
RELEASE_ID = 0005
REVISION_ID = 0000
/* QUALITY DATA ELEMENTS */
DATA_QUALITY_ID = 1
DATA_QUALITY_DESC = "Data calculated based on original SPICE kernels"
/* TIME DATA ELEMENTS */
SPACECRAFT_CLOCK_START_COUNT = "1/0365220840.08251"
SPACECRAFT_CLOCK_STOP_COUNT = "1/0365221045.40478"
START_TIME = 2014-11-28T02:15:26.481Z
STOP_TIME = 2014-11-28T02:17:29.538Z
/* ORBITAL DATA ELEMENTS */
ASCENDING_NODE_LONGITUDE = 313.79
MAXIMUM_RESOLUTION = 0.0385
FOOTPRINT_POINT_LATITUDE = (52.8497,52.8375,52.8279,52.8201, 52.8091,52.7971,52.7817,52.7809,52.8862 ,52.548,52.2775,52.0084,51.803,51.5277, 51.2531,50.9107,50.7039,50.4942,50.3545 ,50.2149,50.0756,49.8672,49.7282, 49.5872,49.4453,49.3038,49.0917,48.9505 ,48.8093,48.5962,48.4526,48.3096, 48.1659,48.0226,47.879,47.7359,47.5178, 47.3721,47.2267,47.0817,46.9366,46.7917 ,46.6438,46.4962,46.3485,46.2013, 45.9068,45.8318,45.8077,45.8182,45.8221 ,45.8278,45.833,45.8402,45.8436,45.8479 ,45.8525,45.8528,45.8535,46.0775, 46.2251,46.447,46.5949,46.7435,46.8908, 47.0359,47.1822,47.401,47.5475,47.7668, 47.9102,48.0539,48.1978,48.4135,48.5577 ,48.7733,48.9147,49.0562,49.2684, 49.4105,49.5534,49.6959,49.8362,49.9755 ,50.1152,50.255,50.3949,50.5346,50.6747 ,50.8845,51.1592,51.5037,51.7797, 51.9179,52.1233,52.3263,52.5973,52.8685 ,52.9362,52.8497)
FOOTPRINT_POINT_LONGITUDE = (9.84918,9.28568,8.89394,8.60023, 8.20919,7.81803,7.35285,7.32835,7.2561, 7.28677,7.31083,7.33366,7.35069,7.37316 ,7.39485,7.42104,7.43644,7.45167, 7.46168,7.47159,7.48118,7.49518,7.50448 ,7.51372,7.52289,7.53172,7.54485, 7.55335,7.56183,7.57439,7.58244,7.59014 ,7.59817,7.60588,7.61367,7.6212,7.63227 ,7.63953,7.64654,7.6533,7.66009,7.66669 ,7.67333,7.67974,7.68623,7.69235, 7.70436,7.70736,7.70834,8.19207,8.39579 ,8.67554,8.95517,9.36247,9.59166, 9.92272,10.305,10.3305,10.3396,10.3284, 10.3207,10.3092,10.3013,10.2936,10.2856 ,10.2776,10.2699,10.2578,10.2498, 10.2376,10.2294,10.2213,10.2131,10.2004 ,10.1919,10.1792,10.1707,10.1621,10.149 ,10.1403,10.1318,10.1229,10.114,10.1051 ,10.0963,10.0873,10.0782,10.0688, 10.0595,10.0457,10.027,10.0034,9.98395, 9.9741,9.95934,9.94458,9.92446,9.90389, 9.89861,9.84918)
ORBIT_NUMBER = 13844
ORBITAL_ECCENTRICITY = 0.571
ORBITAL_INCLINATION = 86.92
ORBITAL_SEMIMAJOR_AXIS = 8772.83
PERIAPSIS_ALTITUDE = 383.92
PERIAPSIS_ARGUMENT_ANGLE = 111.88
PERIAPSIS_TIME = 2014-11-28T02:10:47.000Z
SPACECRAFT_ORIENTATION = (0.0,-1.0,0.0)
^MEX_ORIENTATION_DESC = "MEX_ORIENTATION_DESC.TXT"
SPACECRAFT_POINTING_MODE = NADIR
^MEX_POINTING_DESC = "MEX_POINTING_DESC.TXT"
RIGHT_ASCENSION = -1e+32
DECLINATION = -1e+32
OFFSET_ANGLE = -1e+32
SPACECRAFT_SOLAR_DISTANCE = 2.06847e+08
TARGET_NAME = MARS
/* CAMERA DATA ELEMENTS */
DETECTOR_TEMPERATURE = 18.7783
FOCAL_PLANE_TEMPERATURE = 8.7872
INST_CMPRS_NAME = "DISCRETE COSINE TRANSFORMATION (DCT)"
INST_CMPRS_RATIO = 13.1143
INST_CMPRS_QUALITY = 0
INST_CMPRS_QUANTZ_TBL_ID = 0
INSTRUMENT_TEMPERATURE = 12.8652
LENS_TEMPERATURE = 9.195
MACROPIXEL_SIZE = 2
MISSING_FRAMES = 0
PIXEL_SUBSAMPLING_FLAG = N
SIGNAL_CHAIN_ID = 1
/* RADIOMETRIC DATA ELEMENTS */
BANDWIDTH = 178.0
CENTER_FILTER_WAVELENGTH = 679.0
RADIANCE_OFFSET = 2.91801
RADIANCE_SCALING_FACTOR = 0.00627528
REFLECTANCE_SCALING_FACTOR = 0.000142187
MEX:REFLECTANCE_OFFSET = 0.0661168
/* IMAGE OBJECT DEFINITIONS */
OBJECT = IMAGE
  INTERCHANGE_FORMAT = BINARY
  LINES = 16959
  LINE_SAMPLES = 4454
  SAMPLE_TYPE = UNSIGNED_INTEGER
  SAMPLE_BITS = 8
  BANDS = 1
  BAND_STORAGE_TYPE = BAND_SEQUENTIAL
  MAXIMUM = 255
  MEAN = 101.85
  MINIMUM = 1
  STANDARD_DEVIATION = 31.226
END_OBJECT = IMAGE
/* MAP OBJECT DEFINITIONS */
OBJECT = IMAGE_MAP_PROJECTION
  ^DATA_SET_MAP_PROJECTION_CATALOG= "DSMAP.CAT"
  A_AXIS_RADIUS = 3396.0
  B_AXIS_RADIUS = 3396.0
  C_AXIS_RADIUS = 3396.0
  CENTER_LATITUDE = 0.0
  CENTER_LONGITUDE = 9.0
  COORDINATE_SYSTEM_NAME = PLANETOGRAPHIC
  COORDINATE_SYSTEM_TYPE = "BODY-FIXED ROTATING"
  EASTERNMOST_LONGITUDE = 10.3396
  FIRST_STANDARD_PARALLEL = "N/A"
  LINE_FIRST_PIXEL = 1
  LINE_LAST_PIXEL = 16959
  LINE_PROJECTION_OFFSET = 125493.25
  MAP_PROJECTION_ROTATION = 0.0
  MAP_PROJECTION_TYPE = SINUSOIDAL
  MAP_RESOLUTION = 2370.85521546667
  MAP_SCALE = 0.025
  MAXIMUM_LATITUDE = 52.9362
  MINIMUM_LATITUDE = 45.8077
  POSITIVE_LONGITUDE_DIRECTION = EAST
  REFERENCE_LATITUDE = "N/A"
  REFERENCE_LONGITUDE = "N/A"
  SAMPLE_FIRST_PIXEL = 1
  SAMPLE_LAST_PIXEL = 4454
  SAMPLE_PROJECTION_OFFSET = 2409.75
  SECOND_STANDARD_PARALLEL = "N/A"
  WESTERNMOST_LONGITUDE = 7.2561
END_OBJECT = IMAGE_MAP_PROJECTION
END
