PDS_VERSION_ID = PDS3
/* FILE DATA ELEMENTS */
RECORD_TYPE = UNDEFINED
/* POINTERS TO DATA OBJECTS */
^IMAGE = ("HD837_0000_IR4.TIF")
/* IDENTIFICATION DATA ELEMENTS */
DATA_SET_ID = "MEX-M-HRSC-4-REFDR-MAPPROJECT-EXT4-V4.0"
DATA_SET_NAME = "MARS EXPRESS HRSC MAP PROJECTED REFDR EXTENSION4 V4.0"
DETECTOR_ID = MEX_HRSC_IR
EVENT_TYPE = "MARS-REGIONAL-MAPPING-Im-Fl"
INSTRUMENT_HOST_ID = MEX
INSTRUMENT_HOST_NAME = "MARS EXPRESS"
INSTRUMENT_ID = HRSC
INSTRUMENT_NAME = "HIGH RESOLUTION STEREO CAMERA"
MISSION_NAME = "MARS EXPRESS"
MISSION_PHASE_NAME = ME_Phase_31
PROCESSING_LEVEL_ID = 4
PRODUCT_CREATION_TIME = 2023-02-01T02:09:17.000Z
PRODUCT_ID = "HD837_0000_IR4.TIF"
RELEASE_ID = 0005
REVISION_ID = 0000
/* QUALITY DATA ELEMENTS */
DATA_QUALITY_ID = 1
DATA_QUALITY_DESC = "Data calculated based on original SPICE kernels"
/* TIME DATA ELEMENTS */
SPACECRAFT_CLOCK_START_COUNT = "1/0365044889.07317"
SPACECRAFT_CLOCK_STOP_COUNT = "1/0365045149.35245"
START_TIME = 2014-11-26T01:21:43.669Z
STOP_TIME = 2014-11-26T01:23:38.659Z
/* ORBITAL DATA ELEMENTS */
ASCENDING_NODE_LONGITUDE = 313.92
MAXIMUM_RESOLUTION = 0.0892
FOOTPRINT_POINT_LATITUDE = (37.3028,37.3107,37.3166,37.3222, 37.3274,37.3322,37.3406,37.3475,37.353, 37.3571,37.3573,37.3049,37.0444,36.7831 ,36.5176,36.2526,35.9872,35.6506, 35.4473,35.1764,34.8327,34.492,34.2834, 34.1429,33.9333,33.7267,33.5876,33.3751 ,33.2332,33.0917,32.9516,32.81,32.6661, 32.5229,32.3792,32.1638,31.9454,31.8001 ,31.5825,31.4372,31.2152,31.0672, 30.9194,30.7717,30.6223,30.4725,30.323, 30.2482,30.2222,30.2194,30.2154,30.2106 ,30.2039,30.1902,30.1807,30.1731, 30.1663,30.1583,30.1539,30.1487,30.1484 ,30.1496,30.3001,30.5245,30.6743, 30.8209,30.9681,31.1134,31.2628,31.4116 ,31.5575,31.7031,31.9226,32.0695, 32.2129,32.3572,32.5727,32.7177,32.8606 ,33.0026,33.1447,33.3576,33.6371, 33.8477,33.9882,34.1281,34.3368,34.6087 ,34.8176,34.9567,35.2295,35.4993, 35.9044,36.3042,36.5709,36.7705,36.9667 ,37.1632,37.2288,37.3028)
FOOTPRINT_POINT_LONGITUDE = (7.30334,7.08032,6.90287,6.72615, 6.55006,6.3746,6.02585,5.68001,5.33656, 4.99525,4.974,4.9697,4.9673,4.96473, 4.9619,4.95888,4.95567,4.9513,4.94853, 4.94466,4.93945,4.93395,4.93044,4.92801 ,4.92429,4.92051,4.9179,4.91381,4.91102 ,4.90818,4.90533,4.9024,4.89936,4.89629 ,4.89315,4.88834,4.88335,4.87997, 4.87482,4.87131,4.86584,4.86212,4.85835 ,4.85454,4.85063,4.84665,4.84264, 4.84061,4.8399,5.02416,5.2109,5.445, 5.77357,6.08237,6.25051,6.46572,6.77513 ,6.99144,7.15877,7.3503,7.37395,7.38204 ,7.38131,7.38149,7.38133,7.38195, 7.38217,7.38392,7.38256,7.38106,7.38057 ,7.38034,7.37938,7.37803,7.37781, 7.37694,7.37646,7.37517,7.37439,7.37358 ,7.37277,7.37173,7.37248,7.37047, 7.36911,7.36835,7.36764,7.36874,7.36543 ,7.36351,7.36153,7.3607,7.35937,7.35635 ,7.35446,7.35313,7.35189,7.35045,7.3499 ,7.30334)
ORBIT_NUMBER = 13837
ORBITAL_ECCENTRICITY = 0.571
ORBITAL_INCLINATION = 86.92
ORBITAL_SEMIMAJOR_AXIS = 8773.92
PERIAPSIS_ALTITUDE = 383.46
PERIAPSIS_ARGUMENT_ANGLE = 113.08
PERIAPSIS_TIME = 2014-11-26T01:14:32.000Z
SPACECRAFT_ORIENTATION = (0.0,-1.0,0.0)
^MEX_ORIENTATION_DESC = "MEX_ORIENTATION_DESC.TXT"
SPACECRAFT_POINTING_MODE = ACROSSTRACK
^MEX_POINTING_DESC = "MEX_POINTING_DESC.TXT"
RIGHT_ASCENSION = -1e+32
DECLINATION = -1e+32
OFFSET_ANGLE = 0.9
SPACECRAFT_SOLAR_DISTANCE = 2.06914e+08
TARGET_NAME = MARS
/* CAMERA DATA ELEMENTS */
DETECTOR_TEMPERATURE = 17.7588
FOCAL_PLANE_TEMPERATURE = 8.7872
INST_CMPRS_NAME = "DISCRETE COSINE TRANSFORMATION (DCT)"
INST_CMPRS_RATIO = 14.9158
INST_CMPRS_QUALITY = 0
INST_CMPRS_QUANTZ_TBL_ID = 0
INSTRUMENT_TEMPERATURE = 12.0496
LENS_TEMPERATURE = 9.195
MACROPIXEL_SIZE = 4
MISSING_FRAMES = 0
PIXEL_SUBSAMPLING_FLAG = N
SIGNAL_CHAIN_ID = 2
/* RADIOMETRIC DATA ELEMENTS */
BANDWIDTH = 81.0
CENTER_FILTER_WAVELENGTH = 955.5
RADIANCE_OFFSET = 1.39316
RADIANCE_SCALING_FACTOR = 0.0043707
REFLECTANCE_SCALING_FACTOR = 0.000403697
MEX:REFLECTANCE_OFFSET = 0.128679
/* IMAGE OBJECT DEFINITIONS */
OBJECT = IMAGE
  INTERCHANGE_FORMAT = BINARY
  LINES = 4222
  LINE_SAMPLES = 1399
  SAMPLE_TYPE = UNSIGNED_INTEGER
  SAMPLE_BITS = 8
  BANDS = 1
  BAND_STORAGE_TYPE = BAND_SEQUENTIAL
  MAXIMUM = 255
  MEAN = 88.4042
  MINIMUM = 1
  STANDARD_DEVIATION = 31.6712
END_OBJECT = IMAGE
/* MAP OBJECT DEFINITIONS */
OBJECT = IMAGE_MAP_PROJECTION
  ^DATA_SET_MAP_PROJECTION_CATALOG= "DSMAP.CAT"
  A_AXIS_RADIUS = 3396.0
  B_AXIS_RADIUS = 3396.0
  C_AXIS_RADIUS = 3396.0
  CENTER_LATITUDE = 0.0
  CENTER_LONGITUDE = 6.0
  COORDINATE_SYSTEM_NAME = PLANETOGRAPHIC
  COORDINATE_SYSTEM_TYPE = "BODY-FIXED ROTATING"
  EASTERNMOST_LONGITUDE = 7.38392
  FIRST_STANDARD_PARALLEL = "N/A"
  LINE_FIRST_PIXEL = 1
  LINE_LAST_PIXEL = 4222
  LINE_PROJECTION_OFFSET = 22108.875
  MAP_PROJECTION_ROTATION = 0.0
  MAP_PROJECTION_TYPE = SINUSOIDAL
  MAP_RESOLUTION = 592.713803866667
  MAP_SCALE = 0.1
  MAXIMUM_LATITUDE = 37.3573
  MINIMUM_LATITUDE = 30.1484
  POSITIVE_LONGITUDE_DIRECTION = EAST
  REFERENCE_LATITUDE = "N/A"
  REFERENCE_LONGITUDE = "N/A"
  SAMPLE_FIRST_PIXEL = 1
  SAMPLE_LAST_PIXEL = 1399
  SAMPLE_PROJECTION_OFFSET = 653.125
  SECOND_STANDARD_PARALLEL = "N/A"
  WESTERNMOST_LONGITUDE = 4.8399
END_OBJECT = IMAGE_MAP_PROJECTION
END
