PDS_VERSION_ID = PDS3
/* FILE DATA ELEMENTS */
RECORD_TYPE = UNDEFINED
/* POINTERS TO DATA OBJECTS */
^IMAGE = ("HD836_0000_S24.TIF")
/* IDENTIFICATION DATA ELEMENTS */
DATA_SET_ID = "MEX-M-HRSC-4-REFDR-MAPPROJECT-EXT4-V4.0"
DATA_SET_NAME = "MARS EXPRESS HRSC MAP PROJECTED REFDR EXTENSION4 V4.0"
DETECTOR_ID = MEX_HRSC_S2
EVENT_TYPE = "MARS-REGIONAL-MAPPING-Fl-Pf"
INSTRUMENT_HOST_ID = MEX
INSTRUMENT_HOST_NAME = "MARS EXPRESS"
INSTRUMENT_ID = HRSC
INSTRUMENT_NAME = "HIGH RESOLUTION STEREO CAMERA"
MISSION_NAME = "MARS EXPRESS"
MISSION_PHASE_NAME = ME_Phase_31
PROCESSING_LEVEL_ID = 4
PRODUCT_CREATION_TIME = 2023-02-01T02:09:17.000Z
PRODUCT_ID = "HD836_0000_S24.TIF"
RELEASE_ID = 0005
REVISION_ID = 0000
/* QUALITY DATA ELEMENTS */
DATA_QUALITY_ID = 1
DATA_QUALITY_DESC = "Data calculated based on original SPICE kernels"
/* TIME DATA ELEMENTS */
SPACECRAFT_CLOCK_START_COUNT = "1/0365019554.09046"
SPACECRAFT_CLOCK_STOP_COUNT = "1/0365019914.46229"
START_TIME = 2014-11-25T18:20:46.982Z
STOP_TIME = 2014-11-25T18:25:18.611Z
/* ORBITAL DATA ELEMENTS */
ASCENDING_NODE_LONGITUDE = 313.94
MAXIMUM_RESOLUTION = 0.0409
FOOTPRINT_POINT_LATITUDE = (47.8418,47.8416,47.8382,47.8299, 47.8296,47.9249,47.4083,47.015,46.4906, 46.0924,45.5603,45.1563,44.8866,44.6175 ,44.344,44.0704,43.7977,43.5205,43.2434 ,42.826,42.5453,42.2651,41.9814,41.5557 ,41.2685,40.8378,40.5473,40.1115, 39.8168,39.5229,39.226,38.929,38.4783, 38.1779,37.8731,37.4153,37.108,36.7982, 36.3312,36.0177,35.7024,35.226,34.7453, 34.4227,34.0976,33.6066,33.4422,33.3942 ,33.3883,33.3794,33.3711,33.3603, 33.3508,33.341,33.3404,33.3408,33.671, 34.1641,34.6523,35.1357,35.6151,36.0898 ,36.407,36.7176,37.0295,37.3381,37.6461 ,37.9517,38.2564,38.5586,38.8602, 39.1588,39.4577,39.7526,40.049,40.4873, 40.7796,41.0679,41.5015,41.9287,42.2142 ,42.4953,42.7773,43.0582,43.3361, 43.6146,43.8912,44.1655,44.4406,44.7136 ,44.9841,45.255,45.5257,45.7924,46.0597 ,46.4602,47.1185,47.7711,47.9011, 47.8418)
FOOTPRINT_POINT_LONGITUDE = (106.997,106.245,105.482,104.56,104.535 ,104.436,104.475,104.503,104.54,104.566 ,104.599,104.623,104.638,104.653, 104.667,104.681,104.695,104.708,104.721 ,104.739,104.751,104.762,104.773, 104.788,104.798,104.812,104.821,104.833 ,104.841,104.848,104.855,104.861,104.87 ,104.875,104.88,104.887,104.89,104.894, 104.898,104.9,104.902,104.904,104.905, 104.904,104.904,104.902,104.902,104.901 ,105.302,105.844,106.296,106.887, 107.334,107.779,107.806,107.816,107.803 ,107.782,107.762,107.741,107.72,107.699 ,107.685,107.671,107.656,107.642, 107.627,107.613,107.598,107.583,107.568 ,107.553,107.538,107.522,107.507, 107.483,107.467,107.452,107.427,107.403 ,107.386,107.37,107.353,107.336,107.319 ,107.301,107.284,107.266,107.249, 107.231,107.213,107.194,107.176,107.157 ,107.138,107.109,107.061,107.011,107.0, 106.997)
ORBIT_NUMBER = 13836
ORBITAL_ECCENTRICITY = 0.571
ORBITAL_INCLINATION = 86.92
ORBITAL_SEMIMAJOR_AXIS = 8776.55
PERIAPSIS_ALTITUDE = 382.42
PERIAPSIS_ARGUMENT_ANGLE = 113.26
PERIAPSIS_TIME = 2014-11-25T18:15:06.000Z
SPACECRAFT_ORIENTATION = (0.0,-1.0,0.0)
^MEX_ORIENTATION_DESC = "MEX_ORIENTATION_DESC.TXT"
SPACECRAFT_POINTING_MODE = ACROSSTRACK
^MEX_POINTING_DESC = "MEX_POINTING_DESC.TXT"
RIGHT_ASCENSION = -1e+32
DECLINATION = -1e+32
OFFSET_ANGLE = -0.72
SPACECRAFT_SOLAR_DISTANCE = 2.06924e+08
TARGET_NAME = MARS
/* CAMERA DATA ELEMENTS */
DETECTOR_TEMPERATURE = 18.9822
FOCAL_PLANE_TEMPERATURE = 8.9911
INST_CMPRS_NAME = "DISCRETE COSINE TRANSFORMATION (DCT)"
INST_CMPRS_RATIO = 10.8279
INST_CMPRS_QUALITY = 0
INST_CMPRS_QUANTZ_TBL_ID = 0
INSTRUMENT_TEMPERATURE = 12.0496
LENS_TEMPERATURE = 9.195
MACROPIXEL_SIZE = 2
MISSING_FRAMES = 0
PIXEL_SUBSAMPLING_FLAG = N
SIGNAL_CHAIN_ID = 1
/* RADIOMETRIC DATA ELEMENTS */
BANDWIDTH = 178.0
CENTER_FILTER_WAVELENGTH = 679.0
RADIANCE_OFFSET = 3.79449
RADIANCE_SCALING_FACTOR = 0.0159871
REFLECTANCE_SCALING_FACTOR = 0.000362513
MEX:REFLECTANCE_OFFSET = 0.086041
/* IMAGE OBJECT DEFINITIONS */
OBJECT = IMAGE
  INTERCHANGE_FORMAT = BINARY
  LINES = 34717
  LINE_SAMPLES = 5644
  SAMPLE_TYPE = UNSIGNED_INTEGER
  SAMPLE_BITS = 8
  BANDS = 1
  BAND_STORAGE_TYPE = BAND_SEQUENTIAL
  MAXIMUM = 255
  MEAN = 137.84
  MINIMUM = 1
  STANDARD_DEVIATION = 71.5814
END_OBJECT = IMAGE
/* MAP OBJECT DEFINITIONS */
OBJECT = IMAGE_MAP_PROJECTION
  ^DATA_SET_MAP_PROJECTION_CATALOG= "DSMAP.CAT"
  A_AXIS_RADIUS = 3396.0
  B_AXIS_RADIUS = 3396.0
  C_AXIS_RADIUS = 3396.0
  CENTER_LATITUDE = 0.0
  CENTER_LONGITUDE = 106.0
  COORDINATE_SYSTEM_NAME = PLANETOGRAPHIC
  COORDINATE_SYSTEM_TYPE = "BODY-FIXED ROTATING"
  EASTERNMOST_LONGITUDE = 107.816
  FIRST_STANDARD_PARALLEL = "N/A"
  LINE_FIRST_PIXEL = 1
  LINE_LAST_PIXEL = 34717
  LINE_PROJECTION_OFFSET = 113694.75
  MAP_PROJECTION_ROTATION = 0.0
  MAP_PROJECTION_TYPE = SINUSOIDAL
  MAP_RESOLUTION = 2370.85521546667
  MAP_SCALE = 0.025
  MAXIMUM_LATITUDE = 47.9249
  MINIMUM_LATITUDE = 33.3404
  POSITIVE_LONGITUDE_DIRECTION = EAST
  REFERENCE_LATITUDE = "N/A"
  REFERENCE_LONGITUDE = "N/A"
  SAMPLE_FIRST_PIXEL = 1
  SAMPLE_LAST_PIXEL = 5644
  SAMPLE_PROJECTION_OFFSET = 2359.25
  SECOND_STANDARD_PARALLEL = "N/A"
  WESTERNMOST_LONGITUDE = 104.436
END_OBJECT = IMAGE_MAP_PROJECTION
END
