PDS_VERSION_ID = PDS3
/* FILE DATA ELEMENTS */
RECORD_TYPE = UNDEFINED
/* POINTERS TO DATA OBJECTS */
^IMAGE = ("HD836_0000_P14.TIF")
/* IDENTIFICATION DATA ELEMENTS */
DATA_SET_ID = "MEX-M-HRSC-4-REFDR-MAPPROJECT-EXT4-V4.0"
DATA_SET_NAME = "MARS EXPRESS HRSC MAP PROJECTED REFDR EXTENSION4 V4.0"
DETECTOR_ID = MEX_HRSC_P1
EVENT_TYPE = "MARS-REGIONAL-MAPPING-Fl-Pf"
INSTRUMENT_HOST_ID = MEX
INSTRUMENT_HOST_NAME = "MARS EXPRESS"
INSTRUMENT_ID = HRSC
INSTRUMENT_NAME = "HIGH RESOLUTION STEREO CAMERA"
MISSION_NAME = "MARS EXPRESS"
MISSION_PHASE_NAME = ME_Phase_31
PROCESSING_LEVEL_ID = 4
PRODUCT_CREATION_TIME = 2023-02-01T02:09:17.000Z
PRODUCT_ID = "HD836_0000_P14.TIF"
RELEASE_ID = 0005
REVISION_ID = 0000
/* QUALITY DATA ELEMENTS */
DATA_QUALITY_ID = 1
DATA_QUALITY_DESC = "Data calculated based on original SPICE kernels"
/* TIME DATA ELEMENTS */
SPACECRAFT_CLOCK_START_COUNT = "1/0365019554.09046"
SPACECRAFT_CLOCK_STOP_COUNT = "1/0365019914.46229"
START_TIME = 2014-11-25T18:19:33.815Z
STOP_TIME = 2014-11-25T18:23:27.808Z
/* ORBITAL DATA ELEMENTS */
ASCENDING_NODE_LONGITUDE = 313.94
MAXIMUM_RESOLUTION = 0.0726
FOOTPRINT_POINT_LATITUDE = (48.0185,47.9889,47.9544,47.901,47.8996 ,47.833,47.3198,46.8002,46.2811,45.7529 ,45.4878,44.9576,44.6879,44.4169, 44.1463,43.7406,43.4651,43.1889,42.9129 ,42.6371,42.2162,41.9348,41.6538, 41.3696,41.0826,40.7959,40.5096,40.2171 ,39.9251,39.6335,39.3382,39.0409, 38.7442,38.444,38.1417,37.8395,37.534, 37.2267,36.9196,36.4518,36.1395,35.6645 ,35.3474,34.8653,34.5431,34.053,33.5601 ,33.3939,33.2775,33.2961,33.31,33.3223, 33.3371,33.3456,33.3528,33.3532,33.3548 ,33.854,34.1824,34.6732,34.9964,35.4795 ,35.7978,36.274,36.5869,36.9006,37.2097 ,37.5179,37.9778,38.4326,38.7356, 39.0334,39.3315,39.63,39.9223,40.2151, 40.6543,40.9413,41.2289,41.6598,42.0831 ,42.3656,42.7871,43.0637,43.3405, 43.6177,43.893,44.1643,44.5717,44.8434, 45.1131,45.379,45.6451,45.9112,46.3103, 46.8309,47.3522,47.742,47.8692,48.0185)
FOOTPRINT_POINT_LONGITUDE = (106.883,106.224,105.556,104.664, 104.643,104.561,104.602,104.642,104.68, 104.717,104.735,104.768,104.785,104.801 ,104.817,104.839,104.854,104.869, 104.883,104.896,104.916,104.929,104.941 ,104.953,104.964,104.975,104.986, 104.996,105.006,105.016,105.025,105.034 ,105.043,105.051,105.059,105.066, 105.073,105.079,105.086,105.094,105.099 ,105.107,105.111,105.117,105.12,105.124 ,105.127,105.128,105.129,105.571, 105.942,106.311,106.838,107.203,107.565 ,107.588,107.595,107.58,107.57,107.554, 107.544,107.527,107.516,107.5,107.488, 107.477,107.465,107.453,107.435,107.417 ,107.404,107.392,107.379,107.366, 107.353,107.34,107.319,107.306,107.292, 107.271,107.25,107.235,107.213,107.198, 107.183,107.167,107.152,107.136,107.112 ,107.096,107.08,107.063,107.046,107.029 ,107.003,106.968,106.932,106.904, 106.895,106.883)
ORBIT_NUMBER = 13836
ORBITAL_ECCENTRICITY = 0.571
ORBITAL_INCLINATION = 86.92
ORBITAL_SEMIMAJOR_AXIS = 8776.55
PERIAPSIS_ALTITUDE = 382.42
PERIAPSIS_ARGUMENT_ANGLE = 113.26
PERIAPSIS_TIME = 2014-11-25T18:15:06.000Z
SPACECRAFT_ORIENTATION = (0.0,-1.0,0.0)
^MEX_ORIENTATION_DESC = "MEX_ORIENTATION_DESC.TXT"
SPACECRAFT_POINTING_MODE = ACROSSTRACK
^MEX_POINTING_DESC = "MEX_POINTING_DESC.TXT"
RIGHT_ASCENSION = -1e+32
DECLINATION = -1e+32
OFFSET_ANGLE = -0.72
SPACECRAFT_SOLAR_DISTANCE = 2.06924e+08
TARGET_NAME = MARS
/* CAMERA DATA ELEMENTS */
DETECTOR_TEMPERATURE = 17.9627
FOCAL_PLANE_TEMPERATURE = 8.9911
INST_CMPRS_NAME = "DISCRETE COSINE TRANSFORMATION (DCT)"
INST_CMPRS_RATIO = 12.4673
INST_CMPRS_QUALITY = 0
INST_CMPRS_QUANTZ_TBL_ID = 0
INSTRUMENT_TEMPERATURE = 12.0496
LENS_TEMPERATURE = 9.195
MACROPIXEL_SIZE = 4
MISSING_FRAMES = 0
PIXEL_SUBSAMPLING_FLAG = N
SIGNAL_CHAIN_ID = 3
/* RADIOMETRIC DATA ELEMENTS */
BANDWIDTH = 174.0
CENTER_FILTER_WAVELENGTH = 675.0
RADIANCE_OFFSET = 3.98911
RADIANCE_SCALING_FACTOR = 0.0157479
REFLECTANCE_SCALING_FACTOR = 0.000362685
MEX:REFLECTANCE_OFFSET = 0.0918723
/* IMAGE OBJECT DEFINITIONS */
OBJECT = IMAGE
  INTERCHANGE_FORMAT = BINARY
  LINES = 17359
  LINE_SAMPLES = 2822
  SAMPLE_TYPE = UNSIGNED_INTEGER
  SAMPLE_BITS = 8
  BANDS = 1
  BAND_STORAGE_TYPE = BAND_SEQUENTIAL
  MAXIMUM = 255
  MEAN = 136.37
  MINIMUM = 1
  STANDARD_DEVIATION = 68.8977
END_OBJECT = IMAGE
/* MAP OBJECT DEFINITIONS */
OBJECT = IMAGE_MAP_PROJECTION
  ^DATA_SET_MAP_PROJECTION_CATALOG= "DSMAP.CAT"
  A_AXIS_RADIUS = 3396.0
  B_AXIS_RADIUS = 3396.0
  C_AXIS_RADIUS = 3396.0
  CENTER_LATITUDE = 0.0
  CENTER_LONGITUDE = 106.0
  COORDINATE_SYSTEM_NAME = PLANETOGRAPHIC
  COORDINATE_SYSTEM_TYPE = "BODY-FIXED ROTATING"
  EASTERNMOST_LONGITUDE = 107.595
  FIRST_STANDARD_PARALLEL = "N/A"
  LINE_FIRST_PIXEL = 1
  LINE_LAST_PIXEL = 17359
  LINE_PROJECTION_OFFSET = 56847.125
  MAP_PROJECTION_ROTATION = 0.0
  MAP_PROJECTION_TYPE = SINUSOIDAL
  MAP_RESOLUTION = 1185.42760773333
  MAP_SCALE = 0.05
  MAXIMUM_LATITUDE = 48.0185
  MINIMUM_LATITUDE = 33.2775
  POSITIVE_LONGITUDE_DIRECTION = EAST
  REFERENCE_LATITUDE = "N/A"
  REFERENCE_LONGITUDE = "N/A"
  SAMPLE_FIRST_PIXEL = 1
  SAMPLE_LAST_PIXEL = 2822
  SAMPLE_PROJECTION_OFFSET = 1179.375
  SECOND_STANDARD_PARALLEL = "N/A"
  WESTERNMOST_LONGITUDE = 104.561
END_OBJECT = IMAGE_MAP_PROJECTION
END
