PDS_VERSION_ID = PDS3
/* FILE DATA ELEMENTS */
RECORD_TYPE = UNDEFINED
/* POINTERS TO DATA OBJECTS */
^IMAGE = ("HD836_0000_ND4.TIF")
/* IDENTIFICATION DATA ELEMENTS */
DATA_SET_ID = "MEX-M-HRSC-4-REFDR-MAPPROJECT-EXT4-V4.0"
DATA_SET_NAME = "MARS EXPRESS HRSC MAP PROJECTED REFDR EXTENSION4 V4.0"
DETECTOR_ID = MEX_HRSC_NADIR
EVENT_TYPE = "MARS-REGIONAL-MAPPING-Fl-Pf"
INSTRUMENT_HOST_ID = MEX
INSTRUMENT_HOST_NAME = "MARS EXPRESS"
INSTRUMENT_ID = HRSC
INSTRUMENT_NAME = "HIGH RESOLUTION STEREO CAMERA"
MISSION_NAME = "MARS EXPRESS"
MISSION_PHASE_NAME = ME_Phase_31
PROCESSING_LEVEL_ID = 4
PRODUCT_CREATION_TIME = 2023-02-01T02:09:17.000Z
PRODUCT_ID = "HD836_0000_ND4.TIF"
RELEASE_ID = 0005
REVISION_ID = 0000
/* QUALITY DATA ELEMENTS */
DATA_QUALITY_ID = 1
DATA_QUALITY_DESC = "Data calculated based on original SPICE kernels"
/* TIME DATA ELEMENTS */
SPACECRAFT_CLOCK_START_COUNT = "1/0365019554.09046"
SPACECRAFT_CLOCK_STOP_COUNT = "1/0365019914.46229"
START_TIME = 2014-11-25T18:20:01.098Z
STOP_TIME = 2014-11-25T18:24:07.109Z
/* ORBITAL DATA ELEMENTS */
ASCENDING_NODE_LONGITUDE = 313.94
MAXIMUM_RESOLUTION = 0.0182
FOOTPRINT_POINT_LATITUDE = (47.9539,47.9346,47.9105,47.8773, 47.8763,47.8734,47.2228,46.7035,46.1731 ,45.644,45.1062,44.8366,44.5674,44.2951 ,44.0205,43.7462,43.4723,43.0541, 42.7752,42.4966,42.2131,41.9293,41.646, 41.2154,40.9272,40.4927,40.1997,39.9072 ,39.6116,39.3142,39.0173,38.5651, 38.2637,37.8052,37.4994,37.0344,36.7243 ,36.4096,36.095,35.6179,35.2993,34.9759 ,34.6529,34.3254,33.9982,33.5009, 33.3354,33.312,33.3237,33.3316,33.337, 33.3392,33.3402,33.3402,33.3406,33.6735 ,34.0067,34.3352,34.6643,34.9885, 35.3135,35.6334,36.1127,36.4284,36.7447 ,37.2118,37.523,37.8299,38.2905,38.7443 ,39.0471,39.345,39.6434,39.9405,40.234, 40.528,40.8201,41.109,41.3984,41.6861, 41.9704,42.2551,42.54,42.8195,43.2396, 43.5195,43.7943,44.0695,44.3451,44.6187 ,44.8889,45.1594,45.4302,45.6995, 46.2305,46.8934,47.4147,47.8065,47.9372 ,47.9539)
FOOTPRINT_POINT_LONGITUDE = (106.917,106.197,105.467,104.633,104.61 ,104.516,104.567,104.606,104.643, 104.679,104.713,104.729,104.745,104.76, 104.775,104.79,104.804,104.825,104.838, 104.851,104.863,104.875,104.887,104.904 ,104.915,104.93,104.94,104.949,104.958, 104.966,104.975,104.986,104.993,105.003 ,105.009,105.018,105.023,105.028, 105.032,105.038,105.041,105.044,105.047 ,105.049,105.05,105.052,105.052,105.052 ,105.677,106.245,106.808,107.215,107.62 ,107.645,107.658,107.647,107.636, 107.624,107.613,107.601,107.59,107.578, 107.56,107.548,107.536,107.517,107.504, 107.492,107.472,107.453,107.439,107.426 ,107.412,107.398,107.384,107.37,107.356 ,107.342,107.327,107.312,107.297, 107.282,107.267,107.251,107.228,107.212 ,107.196,107.18,107.163,107.146,107.13, 107.113,107.095,107.078,107.042,106.997 ,106.959,106.931,106.921,106.917)
ORBIT_NUMBER = 13836
ORBITAL_ECCENTRICITY = 0.571
ORBITAL_INCLINATION = 86.92
ORBITAL_SEMIMAJOR_AXIS = 8776.55
PERIAPSIS_ALTITUDE = 382.42
PERIAPSIS_ARGUMENT_ANGLE = 113.26
PERIAPSIS_TIME = 2014-11-25T18:15:06.000Z
SPACECRAFT_ORIENTATION = (0.0,-1.0,0.0)
^MEX_ORIENTATION_DESC = "MEX_ORIENTATION_DESC.TXT"
SPACECRAFT_POINTING_MODE = ACROSSTRACK
^MEX_POINTING_DESC = "MEX_POINTING_DESC.TXT"
RIGHT_ASCENSION = -1e+32
DECLINATION = -1e+32
OFFSET_ANGLE = -0.72
SPACECRAFT_SOLAR_DISTANCE = 2.06924e+08
TARGET_NAME = MARS
/* CAMERA DATA ELEMENTS */
DETECTOR_TEMPERATURE = 18.7783
FOCAL_PLANE_TEMPERATURE = 8.9911
INST_CMPRS_NAME = "DISCRETE COSINE TRANSFORMATION (DCT)"
INST_CMPRS_RATIO = 6.8711
INST_CMPRS_QUALITY = 0
INST_CMPRS_QUANTZ_TBL_ID = 0
INSTRUMENT_TEMPERATURE = 12.0496
LENS_TEMPERATURE = 9.195
MACROPIXEL_SIZE = 1
MISSING_FRAMES = 0
PIXEL_SUBSAMPLING_FLAG = N
SIGNAL_CHAIN_ID = 0
/* RADIOMETRIC DATA ELEMENTS */
BANDWIDTH = 177.0
CENTER_FILTER_WAVELENGTH = 677.5
RADIANCE_OFFSET = 3.27896
RADIANCE_SCALING_FACTOR = 0.0162877
REFLECTANCE_SCALING_FACTOR = 0.000370481
MEX:REFLECTANCE_OFFSET = 0.0745837
/* IMAGE OBJECT DEFINITIONS */
OBJECT = IMAGE
  INTERCHANGE_FORMAT = BINARY
  LINES = 69434
  LINE_SAMPLES = 11287
  SAMPLE_TYPE = UNSIGNED_INTEGER
  SAMPLE_BITS = 8
  BANDS = 1
  BAND_STORAGE_TYPE = BAND_SEQUENTIAL
  MAXIMUM = 255
  MEAN = 136.983
  MINIMUM = 1
  STANDARD_DEVIATION = 69.234
END_OBJECT = IMAGE
/* MAP OBJECT DEFINITIONS */
OBJECT = IMAGE_MAP_PROJECTION
  ^DATA_SET_MAP_PROJECTION_CATALOG= "DSMAP.CAT"
  A_AXIS_RADIUS = 3396.0
  B_AXIS_RADIUS = 3396.0
  C_AXIS_RADIUS = 3396.0
  CENTER_LATITUDE = 0.0
  CENTER_LONGITUDE = 106.0
  COORDINATE_SYSTEM_NAME = PLANETOGRAPHIC
  COORDINATE_SYSTEM_TYPE = "BODY-FIXED ROTATING"
  EASTERNMOST_LONGITUDE = 107.658
  FIRST_STANDARD_PARALLEL = "N/A"
  LINE_FIRST_PIXEL = 1
  LINE_LAST_PIXEL = 69434
  LINE_PROJECTION_OFFSET = 227390.0
  MAP_PROJECTION_ROTATION = 0.0
  MAP_PROJECTION_TYPE = SINUSOIDAL
  MAP_RESOLUTION = 4741.71043093333
  MAP_SCALE = 0.0125
  MAXIMUM_LATITUDE = 47.9539
  MINIMUM_LATITUDE = 33.312
  POSITIVE_LONGITUDE_DIRECTION = EAST
  REFERENCE_LATITUDE = "N/A"
  REFERENCE_LONGITUDE = "N/A"
  SAMPLE_FIRST_PIXEL = 1
  SAMPLE_LAST_PIXEL = 11287
  SAMPLE_PROJECTION_OFFSET = 4719.0
  SECOND_STANDARD_PARALLEL = "N/A"
  WESTERNMOST_LONGITUDE = 104.516
END_OBJECT = IMAGE_MAP_PROJECTION
END
