PDS_VERSION_ID = PDS3
/* FILE DATA ELEMENTS */
RECORD_TYPE = UNDEFINED
/* POINTERS TO DATA OBJECTS */
^IMAGE = ("HD836_0000_BL4.TIF")
/* IDENTIFICATION DATA ELEMENTS */
DATA_SET_ID = "MEX-M-HRSC-4-REFDR-MAPPROJECT-EXT4-V4.0"
DATA_SET_NAME = "MARS EXPRESS HRSC MAP PROJECTED REFDR EXTENSION4 V4.0"
DETECTOR_ID = MEX_HRSC_BLUE
EVENT_TYPE = "MARS-REGIONAL-MAPPING-Fl-Pf"
INSTRUMENT_HOST_ID = MEX
INSTRUMENT_HOST_NAME = "MARS EXPRESS"
INSTRUMENT_ID = HRSC
INSTRUMENT_NAME = "HIGH RESOLUTION STEREO CAMERA"
MISSION_NAME = "MARS EXPRESS"
MISSION_PHASE_NAME = ME_Phase_31
PROCESSING_LEVEL_ID = 4
PRODUCT_CREATION_TIME = 2023-02-01T02:09:17.000Z
PRODUCT_ID = "HD836_0000_BL4.TIF"
RELEASE_ID = 0005
REVISION_ID = 0000
/* QUALITY DATA ELEMENTS */
DATA_QUALITY_ID = 1
DATA_QUALITY_DESC = "Data calculated based on original SPICE kernels"
/* TIME DATA ELEMENTS */
SPACECRAFT_CLOCK_START_COUNT = "1/0365019554.09046"
SPACECRAFT_CLOCK_STOP_COUNT = "1/0365019914.46229"
START_TIME = 2014-11-25T18:20:08.609Z
STOP_TIME = 2014-11-25T18:24:18.383Z
/* ORBITAL DATA ELEMENTS */
ASCENDING_NODE_LONGITUDE = 313.94
MAXIMUM_RESOLUTION = 0.1468
FOOTPRINT_POINT_LATITUDE = (47.9254,47.9106,47.8916,47.8609, 47.8601,47.8717,47.229,46.5742,46.0509, 45.7843,45.5174,44.9849,44.5785,44.3073 ,44.0366,43.6246,43.3489,43.0736, 42.6547,42.3746,42.095,41.8109,41.5263, 41.2422,40.9541,40.6652,40.3767,39.9372 ,39.6442,39.3486,39.051,38.6028,38.301, 37.9997,37.6935,37.3878,36.9241,36.6144 ,36.3008,35.9869,35.6701,35.352,34.87, 34.3845,34.0583,33.5642,33.3993,33.3037 ,33.3121,33.3151,33.3175,33.3189,33.319 ,33.3182,33.3181,33.3208,33.8185, 34.3116,34.6389,34.9622,35.2855,35.6047 ,35.9242,36.2391,36.7107,37.0217, 37.3329,37.6395,38.0994,38.4019,38.8556 ,39.1538,39.6012,39.8952,40.1897, 40.4824,40.7719,41.0621,41.4927,41.7781 ,42.2048,42.4856,42.7667,43.048,43.3242 ,43.6008,44.0157,44.2873,44.5593, 44.8318,45.1021,45.3693,45.6368,45.9047 ,46.1709,46.6963,47.3522,47.7392, 47.8684,47.9254)
FOOTPRINT_POINT_LONGITUDE = (106.928,106.246,105.554,104.654, 104.632,104.538,104.589,104.637,104.673 ,104.691,104.708,104.741,104.764,104.78 ,104.794,104.816,104.83,104.844,104.863 ,104.876,104.888,104.9,104.911,104.922, 104.932,104.942,104.952,104.966,104.975 ,104.983,104.991,105.003,105.01,105.016 ,105.023,105.028,105.037,105.041, 105.046,105.05,105.053,105.056,105.061, 105.064,105.065,105.067,105.067,105.067 ,105.734,106.079,106.472,106.863, 107.251,107.638,107.662,107.678,107.661 ,107.644,107.632,107.621,107.609, 107.597,107.585,107.572,107.554,107.541 ,107.528,107.516,107.496,107.483, 107.463,107.449,107.429,107.415,107.401 ,107.386,107.372,107.357,107.335,107.32 ,107.298,107.282,107.267,107.251, 107.235,107.219,107.195,107.178,107.161 ,107.144,107.127,107.11,107.093,107.075 ,107.057,107.021,106.974,106.945, 106.936,106.928)
ORBIT_NUMBER = 13836
ORBITAL_ECCENTRICITY = 0.571
ORBITAL_INCLINATION = 86.92
ORBITAL_SEMIMAJOR_AXIS = 8776.55
PERIAPSIS_ALTITUDE = 382.42
PERIAPSIS_ARGUMENT_ANGLE = 113.26
PERIAPSIS_TIME = 2014-11-25T18:15:06.000Z
SPACECRAFT_ORIENTATION = (0.0,-1.0,0.0)
^MEX_ORIENTATION_DESC = "MEX_ORIENTATION_DESC.TXT"
SPACECRAFT_POINTING_MODE = ACROSSTRACK
^MEX_POINTING_DESC = "MEX_POINTING_DESC.TXT"
RIGHT_ASCENSION = -1e+32
DECLINATION = -1e+32
OFFSET_ANGLE = -0.72
SPACECRAFT_SOLAR_DISTANCE = 2.06924e+08
TARGET_NAME = MARS
/* CAMERA DATA ELEMENTS */
DETECTOR_TEMPERATURE = 18.7783
FOCAL_PLANE_TEMPERATURE = 8.9911
INST_CMPRS_NAME = "DISCRETE COSINE TRANSFORMATION (DCT)"
INST_CMPRS_RATIO = 18.7615
INST_CMPRS_QUALITY = 0
INST_CMPRS_QUANTZ_TBL_ID = 0
INSTRUMENT_TEMPERATURE = 12.0496
LENS_TEMPERATURE = 9.195
MACROPIXEL_SIZE = 8
MISSING_FRAMES = 0
PIXEL_SUBSAMPLING_FLAG = N
SIGNAL_CHAIN_ID = 2
/* RADIOMETRIC DATA ELEMENTS */
BANDWIDTH = 76.0
CENTER_FILTER_WAVELENGTH = 444.0
RADIANCE_OFFSET = 0.774073
RADIANCE_SCALING_FACTOR = 0.000780093
REFLECTANCE_SCALING_FACTOR = 3.43183e-05
MEX:REFLECTANCE_OFFSET = 0.0340535
/* IMAGE OBJECT DEFINITIONS */
OBJECT = IMAGE
  INTERCHANGE_FORMAT = BINARY
  LINES = 8680
  LINE_SAMPLES = 1411
  SAMPLE_TYPE = UNSIGNED_INTEGER
  SAMPLE_BITS = 8
  BANDS = 1
  BAND_STORAGE_TYPE = BAND_SEQUENTIAL
  MAXIMUM = 255
  MEAN = 128.944
  MINIMUM = 2
  STANDARD_DEVIATION = 45.1122
END_OBJECT = IMAGE
/* MAP OBJECT DEFINITIONS */
OBJECT = IMAGE_MAP_PROJECTION
  ^DATA_SET_MAP_PROJECTION_CATALOG= "DSMAP.CAT"
  A_AXIS_RADIUS = 3396.0
  B_AXIS_RADIUS = 3396.0
  C_AXIS_RADIUS = 3396.0
  CENTER_LATITUDE = 0.0
  CENTER_LONGITUDE = 106.0
  COORDINATE_SYSTEM_NAME = PLANETOGRAPHIC
  COORDINATE_SYSTEM_TYPE = "BODY-FIXED ROTATING"
  EASTERNMOST_LONGITUDE = 107.678
  FIRST_STANDARD_PARALLEL = "N/A"
  LINE_FIRST_PIXEL = 1
  LINE_LAST_PIXEL = 8680
  LINE_PROJECTION_OFFSET = 28423.3125
  MAP_PROJECTION_ROTATION = 0.0
  MAP_PROJECTION_TYPE = SINUSOIDAL
  MAP_RESOLUTION = 592.713803866667
  MAP_SCALE = 0.1
  MAXIMUM_LATITUDE = 47.9254
  MINIMUM_LATITUDE = 33.3037
  POSITIVE_LONGITUDE_DIRECTION = EAST
  REFERENCE_LATITUDE = "N/A"
  REFERENCE_LONGITUDE = "N/A"
  SAMPLE_FIRST_PIXEL = 1
  SAMPLE_LAST_PIXEL = 1411
  SAMPLE_PROJECTION_OFFSET = 589.4375
  SECOND_STANDARD_PARALLEL = "N/A"
  WESTERNMOST_LONGITUDE = 104.538
END_OBJECT = IMAGE_MAP_PROJECTION
END
