PDS_VERSION_ID = PDS3
/* FILE DATA ELEMENTS */
RECORD_TYPE = UNDEFINED
/* POINTERS TO DATA OBJECTS */
^IMAGE = ("HD830_0000_P24.TIF")
/* IDENTIFICATION DATA ELEMENTS */
DATA_SET_ID = "MEX-M-HRSC-4-REFDR-MAPPROJECT-EXT4-V4.0"
DATA_SET_NAME = "MARS EXPRESS HRSC MAP PROJECTED REFDR EXTENSION4 V4.0"
DETECTOR_ID = MEX_HRSC_P2
EVENT_TYPE = "MARS-REGIONAL-MAPPING-Te-Im-Pf"
INSTRUMENT_HOST_ID = MEX
INSTRUMENT_HOST_NAME = "MARS EXPRESS"
INSTRUMENT_ID = HRSC
INSTRUMENT_NAME = "HIGH RESOLUTION STEREO CAMERA"
MISSION_NAME = "MARS EXPRESS"
MISSION_PHASE_NAME = ME_Phase_31
PROCESSING_LEVEL_ID = 4
PRODUCT_CREATION_TIME = 2023-02-01T02:09:17.000Z
PRODUCT_ID = "HD830_0000_P24.TIF"
RELEASE_ID = 0005
REVISION_ID = 0000
/* QUALITY DATA ELEMENTS */
DATA_QUALITY_ID = 1
DATA_QUALITY_DESC = "Data calculated based on original SPICE kernels"
/* TIME DATA ELEMENTS */
SPACECRAFT_CLOCK_START_COUNT = "1/0364868462.09061"
SPACECRAFT_CLOCK_STOP_COUNT = "1/0364868656.48392"
START_TIME = 2014-11-24T00:22:11.838Z
STOP_TIME = 2014-11-24T00:24:03.843Z
/* ORBITAL DATA ELEMENTS */
ASCENDING_NODE_LONGITUDE = 314.05
MAXIMUM_RESOLUTION = 0.0324
FOOTPRINT_POINT_LATITUDE = (52.2969,52.2895,52.2772,52.2704, 52.2578,52.2462,52.2311,52.2303,52.2989 ,52.1059,51.8487,51.6559,51.3992, 51.0058,50.7435,50.4815,50.2199,49.9589 ,49.8251,49.6914,49.558,49.3578,49.2246 ,49.0911,48.958,48.6926,48.489,48.3532, 48.2176,48.0142,47.8789,47.6759,47.5401 ,47.4029,47.2651,47.1273,46.9895,46.852 ,46.7146,46.5771,46.4398,46.2295, 46.0888,45.9494,45.8088,45.6692,45.5999 ,45.5988,45.6051,45.6107,45.5961, 45.4615,45.6233,45.6282,45.6304,45.6339 ,45.6419,45.6456,45.6459,45.6466,45.787 ,45.9976,46.1381,46.2787,46.489,46.6268 ,46.7645,46.9022,47.1099,47.3176, 47.4563,47.5936,47.797,47.9327,48.0685, 48.2046,48.3407,48.477,48.6132,48.7493, 48.8826,49.0159,49.1493,49.2828,49.4167 ,49.5507,49.6846,49.8186,49.9526, 50.1508,50.413,50.6757,50.939,51.1365, 51.4654,51.7228,52.0454,52.3038,52.3685 ,52.2969)
FOOTPRINT_POINT_LONGITUDE = (361.213,360.867,360.362,360.11,359.674 ,359.307,358.871,358.848,358.781, 358.799,358.821,358.838,358.859,358.891 ,358.912,358.932,358.951,358.97,358.98, 358.989,358.998,359.012,359.02,359.029, 359.038,359.055,359.067,359.075,359.083 ,359.095,359.103,359.114,359.122,359.13 ,359.137,359.144,359.151,359.158, 359.164,359.171,359.178,359.188,359.195 ,359.201,359.207,359.213,359.216, 359.216,359.474,359.71,359.998,360.078, 360.061,360.32,360.533,360.838,361.309, 361.616,361.639,361.648,361.641,361.631 ,361.625,361.618,361.608,361.601, 361.594,361.587,361.576,361.566,361.559 ,361.552,361.541,361.534,361.526, 361.519,361.512,361.504,361.496,361.489 ,361.481,361.474,361.466,361.458, 361.451,361.443,361.435,361.427,361.419 ,361.407,361.39,361.374,361.357,361.345 ,361.323,361.305,361.283,361.265, 361.261,361.213)
ORBIT_NUMBER = 13830
ORBITAL_ECCENTRICITY = 0.571
ORBITAL_INCLINATION = 86.92
ORBITAL_SEMIMAJOR_AXIS = 8775.04
PERIAPSIS_ALTITUDE = 382.94
PERIAPSIS_ARGUMENT_ANGLE = 114.29
PERIAPSIS_TIME = 2014-11-24T00:18:17.000Z
SPACECRAFT_ORIENTATION = (0.0,-1.0,0.0)
^MEX_ORIENTATION_DESC = "MEX_ORIENTATION_DESC.TXT"
SPACECRAFT_POINTING_MODE = NADIR
^MEX_POINTING_DESC = "MEX_POINTING_DESC.TXT"
RIGHT_ASCENSION = -1e+32
DECLINATION = -1e+32
OFFSET_ANGLE = -1e+32
SPACECRAFT_SOLAR_DISTANCE = 2.0699e+08
TARGET_NAME = MARS
/* CAMERA DATA ELEMENTS */
DETECTOR_TEMPERATURE = 18.7783
FOCAL_PLANE_TEMPERATURE = 8.7872
INST_CMPRS_NAME = "DISCRETE COSINE TRANSFORMATION (DCT)"
INST_CMPRS_RATIO = 7.57464
INST_CMPRS_QUALITY = 0
INST_CMPRS_QUANTZ_TBL_ID = 0
INSTRUMENT_TEMPERATURE = 11.8457
LENS_TEMPERATURE = 8.9911
MACROPIXEL_SIZE = 2
MISSING_FRAMES = 0
PIXEL_SUBSAMPLING_FLAG = N
SIGNAL_CHAIN_ID = 3
/* RADIOMETRIC DATA ELEMENTS */
BANDWIDTH = 177.0
CENTER_FILTER_WAVELENGTH = 676.5
RADIANCE_OFFSET = 2.61652
RADIANCE_SCALING_FACTOR = 0.00544136
REFLECTANCE_SCALING_FACTOR = 0.000123613
MEX:REFLECTANCE_OFFSET = 0.05944
/* IMAGE OBJECT DEFINITIONS */
OBJECT = IMAGE
  INTERCHANGE_FORMAT = BINARY
  LINES = 16061
  LINE_SAMPLES = 4365
  SAMPLE_TYPE = UNSIGNED_INTEGER
  SAMPLE_BITS = 8
  BANDS = 1
  BAND_STORAGE_TYPE = BAND_SEQUENTIAL
  MAXIMUM = 255
  MEAN = 79.8478
  MINIMUM = 1
  STANDARD_DEVIATION = 37.7951
END_OBJECT = IMAGE
/* MAP OBJECT DEFINITIONS */
OBJECT = IMAGE_MAP_PROJECTION
  ^DATA_SET_MAP_PROJECTION_CATALOG= "DSMAP.CAT"
  A_AXIS_RADIUS = 3396.0
  B_AXIS_RADIUS = 3396.0
  C_AXIS_RADIUS = 3396.0
  CENTER_LATITUDE = 0.0
  CENTER_LONGITUDE = 0.0
  COORDINATE_SYSTEM_NAME = PLANETOGRAPHIC
  COORDINATE_SYSTEM_TYPE = "BODY-FIXED ROTATING"
  EASTERNMOST_LONGITUDE = 1.648
  FIRST_STANDARD_PARALLEL = "N/A"
  LINE_FIRST_PIXEL = 1
  LINE_LAST_PIXEL = 16061
  LINE_PROJECTION_OFFSET = 124156.25
  MAP_PROJECTION_ROTATION = 0.0
  MAP_PROJECTION_TYPE = SINUSOIDAL
  MAP_RESOLUTION = 2370.85521546667
  MAP_SCALE = 0.025
  MAXIMUM_LATITUDE = 52.3685
  MINIMUM_LATITUDE = 45.4615
  POSITIVE_LONGITUDE_DIRECTION = EAST
  REFERENCE_LATITUDE = "N/A"
  REFERENCE_LONGITUDE = "N/A"
  SAMPLE_FIRST_PIXEL = 1
  SAMPLE_LAST_PIXEL = 4365
  SAMPLE_PROJECTION_OFFSET = 1719.75
  SECOND_STANDARD_PARALLEL = "N/A"
  WESTERNMOST_LONGITUDE = -1.219
END_OBJECT = IMAGE_MAP_PROJECTION
END
